BEGIN:VCALENDAR
VERSION:2.0
PRODID:-//Instituto GayLussac - ECPv6.15.17.1//NONSGML v1.0//EN
CALSCALE:GREGORIAN
METHOD:PUBLISH
X-ORIGINAL-URL:https://www.gaylussac.com.br
X-WR-CALDESC:Eventos para Instituto GayLussac
REFRESH-INTERVAL;VALUE=DURATION:PT1H
X-Robots-Tag:noindex
X-PUBLISHED-TTL:PT1H
BEGIN:VTIMEZONE
TZID:America/Sao_Paulo
BEGIN:STANDARD
TZOFFSETFROM:-0300
TZOFFSETTO:-0300
TZNAME:-03
DTSTART:20240101T000000
END:STANDARD
END:VTIMEZONE
BEGIN:VEVENT
DTSTART;VALUE=DATE:20251001
DTEND;VALUE=DATE:20251121
DTSTAMP:20260424T140233
CREATED:20250113T161739Z
LAST-MODIFIED:20250113T161739Z
UID:43224-1759276800-1763683199@www.gaylussac.com.br
SUMMARY:Programa Bilíngue Upper - Período das provas de IGCSE
DESCRIPTION:
URL:https://www.gaylussac.com.br/event/programa-bilingue-upper-periodo-das-provas-de-igcse/
END:VEVENT
BEGIN:VEVENT
DTSTART;VALUE=DATE:20251110
DTEND;VALUE=DATE:20251130
DTSTAMP:20260424T140233
CREATED:20250114T125717Z
LAST-MODIFIED:20250114T130311Z
UID:43252-1762732800-1764460799@www.gaylussac.com.br
SUMMARY:Fechamento do Ciclo de Avaliações da 3ª etapa - AFE 03
DESCRIPTION:(incluindo SÁBADO 29) \n2º ao 5º ano do Ensino Fundamental
URL:https://www.gaylussac.com.br/event/fechamento-do-ciclo-de-avaliacoes-da-3a-etapa-afe-03/
END:VEVENT
BEGIN:VEVENT
DTSTART;VALUE=DATE:20251113
DTEND;VALUE=DATE:20251114
DTSTAMP:20260424T140233
CREATED:20250114T125751Z
LAST-MODIFIED:20250114T125751Z
UID:43254-1762992000-1763078399@www.gaylussac.com.br
SUMMARY:Reunião de apresentação do 3º ano do Ensino Fundamental para Pais do 2º ano do Ensino Fundamental
DESCRIPTION:
URL:https://www.gaylussac.com.br/event/reuniao-de-apresentacao-do-3o-ano-do-ensino-fundamental-para-pais-do-2o-ano-do-ensino-fundamental/
END:VEVENT
BEGIN:VEVENT
DTSTART;VALUE=DATE:20251113
DTEND;VALUE=DATE:20251202
DTSTAMP:20260424T140233
CREATED:20250114T130223Z
LAST-MODIFIED:20250114T130223Z
UID:43260-1762992000-1764633599@www.gaylussac.com.br
SUMMARY:Fechamento do Ciclo de Avaliações da 3ª etapa - AFE 03
DESCRIPTION:(incluindo SÁBADO 29/11) \n6º ano à 3ª série do Ensino Médio
URL:https://www.gaylussac.com.br/event/fechamento-do-ciclo-de-avaliacoes-da-3a-etapa-afe-03-2/
END:VEVENT
BEGIN:VEVENT
DTSTART;VALUE=DATE:20251114
DTEND;VALUE=DATE:20251115
DTSTAMP:20260424T140233
CREATED:20250114T131900Z
LAST-MODIFIED:20250114T131900Z
UID:43279-1763078400-1763164799@www.gaylussac.com.br
SUMMARY:CCE- Festival de Futsal - Grupo 4
DESCRIPTION:
URL:https://www.gaylussac.com.br/event/cce-festival-de-futsal-grupo-4/
END:VEVENT
BEGIN:VEVENT
DTSTART;VALUE=DATE:20251115
DTEND;VALUE=DATE:20251116
DTSTAMP:20260424T140233
CREATED:20250114T123006Z
LAST-MODIFIED:20250114T123006Z
UID:43236-1763164800-1763251199@www.gaylussac.com.br
SUMMARY:Proclamação da República
DESCRIPTION:
URL:https://www.gaylussac.com.br/event/proclamacao-da-republica/
END:VEVENT
BEGIN:VEVENT
DTSTART;VALUE=DATE:20251117
DTEND;VALUE=DATE:20251118
DTSTAMP:20260424T140233
CREATED:20250114T130833Z
LAST-MODIFIED:20250114T130833Z
UID:43264-1763337600-1763423999@www.gaylussac.com.br
SUMMARY:3ª série do Ensino Médio - AFE 03 (previsão)
DESCRIPTION:
URL:https://www.gaylussac.com.br/event/3a-serie-do-ensino-medio-afe-03-previsao/
END:VEVENT
BEGIN:VEVENT
DTSTART;VALUE=DATE:20251118
DTEND;VALUE=DATE:20251119
DTSTAMP:20260424T140233
CREATED:20250114T130943Z
LAST-MODIFIED:20250114T130943Z
UID:43266-1763424000-1763510399@www.gaylussac.com.br
SUMMARY:3ª série do Ensino Médio - AFE 03 (previsão)
DESCRIPTION:
URL:https://www.gaylussac.com.br/event/3a-serie-do-ensino-medio-afe-03-previsao-2/
END:VEVENT
BEGIN:VEVENT
DTSTART;VALUE=DATE:20251119
DTEND;VALUE=DATE:20251120
DTSTAMP:20260424T140233
CREATED:20250114T131005Z
LAST-MODIFIED:20250114T131005Z
UID:43268-1763510400-1763596799@www.gaylussac.com.br
SUMMARY:3ª série do Ensino Médio - AFE 03 (previsão)
DESCRIPTION:
URL:https://www.gaylussac.com.br/event/3a-serie-do-ensino-medio-afe-03-previsao-3/
END:VEVENT
BEGIN:VEVENT
DTSTART;VALUE=DATE:20251120
DTEND;VALUE=DATE:20251121
DTSTAMP:20260424T140233
CREATED:20250114T123129Z
LAST-MODIFIED:20250114T123129Z
UID:43238-1763596800-1763683199@www.gaylussac.com.br
SUMMARY:Dia da Consciência Negra - Zumbi dos Palmares
DESCRIPTION:Feriado
URL:https://www.gaylussac.com.br/event/dia-da-consciencia-negra-zumbi-dos-palmares/
END:VEVENT
BEGIN:VEVENT
DTSTART;VALUE=DATE:20251121
DTEND;VALUE=DATE:20251122
DTSTAMP:20260424T140233
CREATED:20250114T123158Z
LAST-MODIFIED:20250114T123158Z
UID:43240-1763683200-1763769599@www.gaylussac.com.br
SUMMARY:Dia livre para alunos
DESCRIPTION:
URL:https://www.gaylussac.com.br/event/dia-livre-para-alunos-3/
END:VEVENT
BEGIN:VEVENT
DTSTART;VALUE=DATE:20251124
DTEND;VALUE=DATE:20251125
DTSTAMP:20260424T140233
CREATED:20250114T131026Z
LAST-MODIFIED:20250114T131026Z
UID:43270-1763942400-1764028799@www.gaylussac.com.br
SUMMARY:3ª série do Ensino Médio - AFE 03 (previsão)
DESCRIPTION:
URL:https://www.gaylussac.com.br/event/3a-serie-do-ensino-medio-afe-03-previsao-4/
END:VEVENT
BEGIN:VEVENT
DTSTART;VALUE=DATE:20251124
DTEND;VALUE=DATE:20251125
DTSTAMP:20260424T140233
CREATED:20250114T131938Z
LAST-MODIFIED:20250114T131938Z
UID:43281-1763942400-1764028799@www.gaylussac.com.br
SUMMARY:CCE- 11ª Copa de Ginástica GayLussac
DESCRIPTION:
URL:https://www.gaylussac.com.br/event/cce-11a-copa-de-ginastica-gaylussac/
END:VEVENT
BEGIN:VEVENT
DTSTART;VALUE=DATE:20251125
DTEND;VALUE=DATE:20251129
DTSTAMP:20260424T140233
CREATED:20250114T131157Z
LAST-MODIFIED:20250114T131157Z
UID:43272-1764028800-1764374399@www.gaylussac.com.br
SUMMARY:3ª série do Ensino Médio - 2ª chamada AFE 03 (previsão)
DESCRIPTION:
URL:https://www.gaylussac.com.br/event/3a-serie-do-ensino-medio-2a-chamada-afe-03-previsao/
END:VEVENT
BEGIN:VEVENT
DTSTART;VALUE=DATE:20251126
DTEND;VALUE=DATE:20251127
DTSTAMP:20260424T140233
CREATED:20250114T131547Z
LAST-MODIFIED:20250114T131547Z
UID:43277-1764115200-1764201599@www.gaylussac.com.br
SUMMARY:Formatura / Encerramento Programa MIDDLE
DESCRIPTION:
URL:https://www.gaylussac.com.br/event/formatura-encerramento-programa-middle/
END:VEVENT
BEGIN:VEVENT
DTSTART;VALUE=DATE:20251127
DTEND;VALUE=DATE:20251204
DTSTAMP:20260424T140233
CREATED:20250114T125931Z
LAST-MODIFIED:20250114T131319Z
UID:43256-1764201600-1764806399@www.gaylussac.com.br
SUMMARY:Avaliações de 2ª chamada
DESCRIPTION:(incluindo SÁBADO 29/11) \n2º ao 5º ano do Ensino Fundamental \n6º ano à 3ª série do Ensino Médio
URL:https://www.gaylussac.com.br/event/avaliacoes-de-2a-chamada/
END:VEVENT
BEGIN:VEVENT
DTSTART;VALUE=DATE:20251129
DTEND;VALUE=DATE:20251130
DTSTAMP:20260424T140233
CREATED:20250114T124811Z
LAST-MODIFIED:20250114T132228Z
UID:43248-1764374400-1764460799@www.gaylussac.com.br
SUMMARY:Encerramento Clube de Pesquisa - Culminância e lançamento do livro Nós\, os Autores
DESCRIPTION:para turmas do 1º ano do Ensino Fundamental
URL:https://www.gaylussac.com.br/event/encerramento-clube-de-pesquisa-culminancia-e-lancamento-do-livro-nos-os-autores-para-turmas-do-1o-ano-do-ensino-fundamental/
LOCATION:Teatro GayLussac\, Rua Maria Caldas\, 35 – São Francisco 24365-050 Niterói RJ – Brasil
END:VEVENT
BEGIN:VEVENT
DTSTART;VALUE=DATE:20251204
DTEND;VALUE=DATE:20251207
DTSTAMP:20260424T140233
CREATED:20250115T125042Z
LAST-MODIFIED:20250115T125042Z
UID:43310-1764806400-1765065599@www.gaylussac.com.br
SUMMARY:3ª série do Ensino Médio - Recuperação PRP 03 (previsão)
DESCRIPTION:
URL:https://www.gaylussac.com.br/event/3a-serie-do-ensino-medio-recuperacao-prp-03-previsao/
END:VEVENT
BEGIN:VEVENT
DTSTART;VALUE=DATE:20251205
DTEND;VALUE=DATE:20251206
DTSTAMP:20260424T140233
CREATED:20250114T132347Z
LAST-MODIFIED:20250114T132347Z
UID:43285-1764892800-1764979199@www.gaylussac.com.br
SUMMARY:Encerramento do ano letivo da Unidade de Ensinos Fundamental e Médio
DESCRIPTION:
URL:https://www.gaylussac.com.br/event/encerramento-do-ano-letivo-da-unidade-de-ensinos-fundamental-e-medio/
END:VEVENT
BEGIN:VEVENT
DTSTART;VALUE=DATE:20251205
DTEND;VALUE=DATE:20251206
DTSTAMP:20260424T140233
CREATED:20250115T125247Z
LAST-MODIFIED:20250115T125247Z
UID:43314-1764892800-1764979199@www.gaylussac.com.br
SUMMARY:Formatura do Projeto Bilíngue Lower
DESCRIPTION:
URL:https://www.gaylussac.com.br/event/formatura-do-projeto-bilingue-lower/
END:VEVENT
BEGIN:VEVENT
DTSTART;VALUE=DATE:20251206
DTEND;VALUE=DATE:20251207
DTSTAMP:20260424T140233
CREATED:20250115T120736Z
LAST-MODIFIED:20250115T120736Z
UID:43301-1764979200-1765065599@www.gaylussac.com.br
SUMMARY:Concerto Musical
DESCRIPTION:
URL:https://www.gaylussac.com.br/event/concerto-musical/
LOCATION:Teatro GayLussac\, Rua Maria Caldas\, 35 – São Francisco 24365-050 Niterói RJ – Brasil
END:VEVENT
BEGIN:VEVENT
DTSTART;VALUE=DATE:20251206
DTEND;VALUE=DATE:20251212
DTSTAMP:20260424T140233
CREATED:20250114T132536Z
LAST-MODIFIED:20250114T132536Z
UID:43287-1764979200-1765497599@www.gaylussac.com.br
SUMMARY:Provas de Recuperação Final
DESCRIPTION:
URL:https://www.gaylussac.com.br/event/provas-de-recuperacao-final-2/
END:VEVENT
BEGIN:VEVENT
DTSTART;VALUE=DATE:20251208
DTEND;VALUE=DATE:20251209
DTSTAMP:20260424T140233
CREATED:20250115T125128Z
LAST-MODIFIED:20250115T125128Z
UID:43312-1765152000-1765238399@www.gaylussac.com.br
SUMMARY:3ª série do Ensino Médio - Encerramento - Formatura e Bilíngue UPPER (previsão)
DESCRIPTION:
URL:https://www.gaylussac.com.br/event/3a-serie-do-ensino-medio-encerramento-formatura-e-bilingue-upper-previsao/
END:VEVENT
BEGIN:VEVENT
DTSTART;VALUE=DATE:20251208
DTEND;VALUE=DATE:20251209
DTSTAMP:20260424T140233
CREATED:20250115T125715Z
LAST-MODIFIED:20250115T125715Z
UID:43320-1765152000-1765238399@www.gaylussac.com.br
SUMMARY:CCE- Ensaio Geral do Teatro e Dança
DESCRIPTION:
URL:https://www.gaylussac.com.br/event/cce-ensaio-geral-do-teatro-e-danca/
LOCATION:Teatro GayLussac\, Rua Maria Caldas\, 35 – São Francisco 24365-050 Niterói RJ – Brasil
END:VEVENT
BEGIN:VEVENT
DTSTART;VALUE=DATE:20251208
DTEND;VALUE=DATE:20251213
DTSTAMP:20260424T140233
CREATED:20250115T124924Z
LAST-MODIFIED:20250115T124924Z
UID:43308-1765152000-1765583999@www.gaylussac.com.br
SUMMARY:Avaliações de Recuperação Final
DESCRIPTION:2º ao 5º ano do Ensino Fundamental
URL:https://www.gaylussac.com.br/event/avaliacoes-de-recuperacao-final/
END:VEVENT
BEGIN:VEVENT
DTSTART;TZID=America/Sao_Paulo:20251208T190000
DTEND;TZID=America/Sao_Paulo:20251208T210000
DTSTAMP:20260424T140233
CREATED:20250115T125625Z
LAST-MODIFIED:20250115T125625Z
UID:43318-1765220400-1765227600@www.gaylussac.com.br
SUMMARY:Programa Bilíngue Upper - Formatura junto com a 3ª série do Ensino Médio (previsão)
DESCRIPTION:
URL:https://www.gaylussac.com.br/event/programa-bilingue-upper-formatura-junto-com-a-3a-serie-do-ensino-medio-previsao/
END:VEVENT
BEGIN:VEVENT
DTSTART;VALUE=DATE:20251209
DTEND;VALUE=DATE:20251210
DTSTAMP:20260424T140233
CREATED:20250115T125802Z
LAST-MODIFIED:20250115T125802Z
UID:43322-1765238400-1765324799@www.gaylussac.com.br
SUMMARY:CCE- Apresentação de Teatro e Dança
DESCRIPTION:
URL:https://www.gaylussac.com.br/event/cce-apresentacao-de-teatro-e-danca/
LOCATION:Teatro GayLussac\, Rua Maria Caldas\, 35 – São Francisco 24365-050 Niterói RJ – Brasil
END:VEVENT
BEGIN:VEVENT
DTSTART;VALUE=DATE:20251210
DTEND;VALUE=DATE:20251211
DTSTAMP:20260424T140233
CREATED:20250115T125830Z
LAST-MODIFIED:20250115T125830Z
UID:43324-1765324800-1765411199@www.gaylussac.com.br
SUMMARY:Encerramento das atividades do CCE
DESCRIPTION:
URL:https://www.gaylussac.com.br/event/encerramento-das-atividades-do-cce/
END:VEVENT
BEGIN:VEVENT
DTSTART;VALUE=DATE:20251211
DTEND;VALUE=DATE:20251212
DTSTAMP:20260424T140233
CREATED:20250115T115913Z
LAST-MODIFIED:20250115T115913Z
UID:43296-1765411200-1765497599@www.gaylussac.com.br
SUMMARY:Noite do Pijama - 1º ano do Ensino Fundamental
DESCRIPTION:
URL:https://www.gaylussac.com.br/event/noite-do-pijama-1o-ano-do-ensino-fundamental/
LOCATION:Gaylussac\, R. Cel. João Brandão\, 87 - São Francisco\, Niterói - RJ\, 24365-060
END:VEVENT
BEGIN:VEVENT
DTSTART;VALUE=DATE:20251212
DTEND;VALUE=DATE:20251213
DTSTAMP:20260424T140233
CREATED:20250114T132637Z
LAST-MODIFIED:20250114T132749Z
UID:43289-1765497600-1765583999@www.gaylussac.com.br
SUMMARY:Encerramento do ano letivo do 3º ao 5º ano do Ensino Fundamental
DESCRIPTION:
URL:https://www.gaylussac.com.br/event/encerramento-do-ano-letivo-do-3o-ao-5o-ano-do-ensino-fundamental/
LOCATION:Gaylussac\, Rua Maria Caldas\, 35 – São Francisco 24365-050 Niterói RJ – Brasil
END:VEVENT
END:VCALENDAR