BEGIN:VCALENDAR
VERSION:2.0
PRODID:-//Instituto GayLussac - ECPv6.15.17.1//NONSGML v1.0//EN
CALSCALE:GREGORIAN
METHOD:PUBLISH
X-ORIGINAL-URL:https://www.gaylussac.com.br
X-WR-CALDESC:Eventos para Instituto GayLussac
REFRESH-INTERVAL;VALUE=DURATION:PT1H
X-Robots-Tag:noindex
X-PUBLISHED-TTL:PT1H
BEGIN:VTIMEZONE
TZID:America/Sao_Paulo
BEGIN:STANDARD
TZOFFSETFROM:-0300
TZOFFSETTO:-0300
TZNAME:-03
DTSTART:20240101T000000
END:STANDARD
END:VTIMEZONE
BEGIN:VEVENT
DTSTART;VALUE=DATE:20250604
DTEND;VALUE=DATE:20250712
DTSTAMP:20260424T054839
CREATED:20250108T141300Z
LAST-MODIFIED:20250108T141300Z
UID:43018-1748995200-1752278399@www.gaylussac.com.br
SUMMARY:Aulas e Avaliações do PRP 01
DESCRIPTION:
URL:https://www.gaylussac.com.br/event/aulas-e-avaliacoes-do-prp-01/
END:VEVENT
BEGIN:VEVENT
DTSTART;VALUE=DATE:20250628
DTEND;VALUE=DATE:20250629
DTSTAMP:20260424T054839
CREATED:20250108T141334Z
LAST-MODIFIED:20250108T141334Z
UID:43020-1751068800-1751155199@www.gaylussac.com.br
SUMMARY:Arraiá Be Well
DESCRIPTION:
URL:https://www.gaylussac.com.br/event/arraia-be-well/
LOCATION:Gaylussac\, Rua Maria Caldas\, 35 – São Francisco 24365-050 Niterói RJ – Brasil
END:VEVENT
BEGIN:VEVENT
DTSTART;VALUE=DATE:20250701
DTEND;VALUE=DATE:20250711
DTSTAMP:20260424T054839
CREATED:20250109T124037Z
LAST-MODIFIED:20250109T124037Z
UID:43054-1751328000-1752191999@www.gaylussac.com.br
SUMMARY:Reunião devolutiva (Avaliação Evolucional aos responsáveis) - Ensino Fundamental e Ensino Médio
DESCRIPTION:
URL:https://www.gaylussac.com.br/event/reuniao-devolutiva-avaliacao-evolucional-aos-responsaveis-ensino-fundamental-e-ensino-medio/
LOCATION:Gaylussac\, Rua Maria Caldas\, 35 – São Francisco 24365-050 Niterói RJ – Brasil
END:VEVENT
BEGIN:VEVENT
DTSTART;VALUE=DATE:20250703
DTEND;VALUE=DATE:20250704
DTSTAMP:20260424T054839
CREATED:20250109T122103Z
LAST-MODIFIED:20250109T122103Z
UID:43036-1751500800-1751587199@www.gaylussac.com.br
SUMMARY:3ª Série do Ensino Médio - AFE 02
DESCRIPTION:
URL:https://www.gaylussac.com.br/event/3a-serie-do-ensino-medio-afe-02-2/
LOCATION:Gaylussac\, Rua Maria Caldas\, 35 – São Francisco 24365-050 Niterói RJ – Brasil
END:VEVENT
BEGIN:VEVENT
DTSTART;VALUE=DATE:20250705
DTEND;VALUE=DATE:20250706
DTSTAMP:20260424T054839
CREATED:20250109T124119Z
LAST-MODIFIED:20250109T124119Z
UID:43056-1751673600-1751759999@www.gaylussac.com.br
SUMMARY:Jogos de Inverno
DESCRIPTION:
URL:https://www.gaylussac.com.br/event/jogos-de-inverno/
LOCATION:Gaylussac\, Rua Maria Caldas\, 35 – São Francisco 24365-050 Niterói RJ – Brasil
END:VEVENT
BEGIN:VEVENT
DTSTART;TZID=America/Sao_Paulo:20250707T183000
DTEND;TZID=America/Sao_Paulo:20250707T200000
DTSTAMP:20260424T054839
CREATED:20250109T124524Z
LAST-MODIFIED:20250109T124524Z
UID:43061-1751913000-1751918400@www.gaylussac.com.br
SUMMARY:Reunião de Pais (Programa Bilíngue Upper) – 1ª série do Ensino Médio
DESCRIPTION:
URL:https://www.gaylussac.com.br/event/reuniao-de-pais-programa-bilingue-upper-1a-serie-do-ensino-medio-2/
END:VEVENT
BEGIN:VEVENT
DTSTART;VALUE=DATE:20250708
DTEND;VALUE=DATE:20250709
DTSTAMP:20260424T054839
CREATED:20250109T125407Z
LAST-MODIFIED:20250109T125407Z
UID:43067-1751932800-1752019199@www.gaylussac.com.br
SUMMARY:CCE - 2ª Entrega de Emblema da Capoeira
DESCRIPTION:
URL:https://www.gaylussac.com.br/event/cce-2a-entrega-de-emblema-da-capoeira/
END:VEVENT
BEGIN:VEVENT
DTSTART;VALUE=DATE:20250708
DTEND;VALUE=DATE:20250710
DTSTAMP:20260424T054839
CREATED:20250109T124707Z
LAST-MODIFIED:20250109T124804Z
UID:43063-1751932800-1752105599@www.gaylussac.com.br
SUMMARY:Palestra para PAIS do 8º ano do Ensino Fundamental (apresentação do Programa Bilíngue Upper)
DESCRIPTION:
URL:https://www.gaylussac.com.br/event/palestra-para-pais-do-8o-ano-do-ensino-fundamental-apresentacao-do-programa-bilingue-upper/
LOCATION:Teatro GayLussac\, Rua Maria Caldas\, 35 – São Francisco 24365-050 Niterói RJ – Brasil
END:VEVENT
BEGIN:VEVENT
DTSTART;VALUE=DATE:20250711
DTEND;VALUE=DATE:20250712
DTSTAMP:20260424T054839
CREATED:20250109T122156Z
LAST-MODIFIED:20250109T122156Z
UID:43038-1752192000-1752278399@www.gaylussac.com.br
SUMMARY:3ª Série do Ensino Médio - AFE 02
DESCRIPTION:
URL:https://www.gaylussac.com.br/event/3a-serie-do-ensino-medio-afe-02-3/
LOCATION:Gaylussac\, Rua Maria Caldas\, 35 – São Francisco 24365-050 Niterói RJ – Brasil
END:VEVENT
BEGIN:VEVENT
DTSTART;VALUE=DATE:20250711
DTEND;VALUE=DATE:20250714
DTSTAMP:20260424T054839
CREATED:20250109T124241Z
LAST-MODIFIED:20250109T124241Z
UID:43058-1752192000-1752451199@www.gaylussac.com.br
SUMMARY:II MOG (Modelo Diplomático GayLussac)
DESCRIPTION:
URL:https://www.gaylussac.com.br/event/ii-mog-modelo-diplomatico-gaylussac/
LOCATION:Teatro GayLussac\, Rua Maria Caldas\, 35 – São Francisco 24365-050 Niterói RJ – Brasil
END:VEVENT
BEGIN:VEVENT
DTSTART;VALUE=DATE:20250714
DTEND;VALUE=DATE:20250726
DTSTAMP:20260424T054839
CREATED:20250109T123704Z
LAST-MODIFIED:20250109T123704Z
UID:43050-1752451200-1753487999@www.gaylussac.com.br
SUMMARY:Férias Escolares
DESCRIPTION:Dias livres para alunos
URL:https://www.gaylussac.com.br/event/ferias-escolares/
END:VEVENT
BEGIN:VEVENT
DTSTART;TZID=America/Sao_Paulo:20250714T183000
DTEND;TZID=America/Sao_Paulo:20250714T200000
DTSTAMP:20260424T054839
CREATED:20250109T124934Z
LAST-MODIFIED:20250109T124934Z
UID:43065-1752517800-1752523200@www.gaylussac.com.br
SUMMARY:Reunião de Pais (Programa Bilíngue Upper) – 2ª série do Ensino Médio
DESCRIPTION:
URL:https://www.gaylussac.com.br/event/reuniao-de-pais-programa-bilingue-upper-2a-serie-do-ensino-medio/
END:VEVENT
BEGIN:VEVENT
DTSTART;VALUE=DATE:20250728
DTEND;VALUE=DATE:20250729
DTSTAMP:20260424T054839
CREATED:20250109T123757Z
LAST-MODIFIED:20250109T123757Z
UID:43052-1753660800-1753747199@www.gaylussac.com.br
SUMMARY:Retorno das aulas
DESCRIPTION:
URL:https://www.gaylussac.com.br/event/retorno-das-aulas/
END:VEVENT
BEGIN:VEVENT
DTSTART;VALUE=DATE:20250801
DTEND;VALUE=DATE:20250831
DTSTAMP:20260424T054839
CREATED:20250110T124029Z
LAST-MODIFIED:20250110T124029Z
UID:43069-1754006400-1756598399@www.gaylussac.com.br
SUMMARY:Agosto - Mês Literário
DESCRIPTION:
URL:https://www.gaylussac.com.br/event/agosto-mes-literario/
LOCATION:Gaylussac\, Rua Maria Caldas\, 35 – São Francisco 24365-050 Niterói RJ – Brasil
END:VEVENT
BEGIN:VEVENT
DTSTART;TZID=America/Sao_Paulo:20250804T133000
DTEND;TZID=America/Sao_Paulo:20250804T143000
DTSTAMP:20260424T054839
CREATED:20250110T132946Z
LAST-MODIFIED:20250110T132946Z
UID:43098-1754314200-1754317800@www.gaylussac.com.br
SUMMARY:apresentação do Programa Bilíngue Middle - Palestra para ALUNOS do 5º ano do Ensino Fundamental
DESCRIPTION:
URL:https://www.gaylussac.com.br/event/apresentacao-do-programa-bilingue-middle-palestra-para-alunos-do-5o-ano-do-ensino-fundamental/
LOCATION:Teatro GayLussac\, Rua Maria Caldas\, 35 – São Francisco 24365-050 Niterói RJ – Brasil
END:VEVENT
BEGIN:VEVENT
DTSTART;TZID=America/Sao_Paulo:20250806T183000
DTEND;TZID=America/Sao_Paulo:20250806T200000
DTSTAMP:20260424T054839
CREATED:20250110T133109Z
LAST-MODIFIED:20250110T133109Z
UID:43100-1754505000-1754510400@www.gaylussac.com.br
SUMMARY:apresentação do Programa Bilíngue Middle - Palestra para PAIS do 5º ano do Ensino Fundamental
DESCRIPTION:
URL:https://www.gaylussac.com.br/event/apresentacao-do-programa-bilingue-middle-palestra-para-pais-do-5o-ano-do-ensino-fundamental/
LOCATION:Teatro GayLussac\, Rua Maria Caldas\, 35 – São Francisco 24365-050 Niterói RJ – Brasil
END:VEVENT
BEGIN:VEVENT
DTSTART;VALUE=DATE:20250813
DTEND;VALUE=DATE:20250814
DTSTAMP:20260424T054839
CREATED:20250110T130515Z
LAST-MODIFIED:20250110T130515Z
UID:43084-1755043200-1755129599@www.gaylussac.com.br
SUMMARY:3ª série do Ensino Médio - Inscrições para o PRP 02
DESCRIPTION:
URL:https://www.gaylussac.com.br/event/3a-serie-do-ensino-medio-inscricoes-para-o-prp-02/
END:VEVENT
BEGIN:VEVENT
DTSTART;TZID=America/Sao_Paulo:20250813T100000
DTEND;TZID=America/Sao_Paulo:20250813T120000
DTSTAMP:20260424T054839
CREATED:20250110T133844Z
LAST-MODIFIED:20250110T133844Z
UID:43106-1755079200-1755086400@www.gaylussac.com.br
SUMMARY:Prova Diagnóstica – Bilíngue Upper
DESCRIPTION:
URL:https://www.gaylussac.com.br/event/prova-diagnostica-bilingue-upper/
LOCATION:Gaylussac\, Rua Maria Caldas\, 35 – São Francisco 24365-050 Niterói RJ – Brasil
END:VEVENT
BEGIN:VEVENT
DTSTART;TZID=America/Sao_Paulo:20250813T133000
DTEND;TZID=America/Sao_Paulo:20250813T150000
DTSTAMP:20260424T054839
CREATED:20250110T133305Z
LAST-MODIFIED:20250110T133305Z
UID:43102-1755091800-1755097200@www.gaylussac.com.br
SUMMARY:Prova Diagnóstica - Bilíngue Middle
DESCRIPTION:
URL:https://www.gaylussac.com.br/event/prova-diagnostica-bilingue-middle/
LOCATION:Gaylussac\, Rua Maria Caldas\, 35 – São Francisco 24365-050 Niterói RJ – Brasil
END:VEVENT
BEGIN:VEVENT
DTSTART;TZID=America/Sao_Paulo:20250813T183000
DTEND;TZID=America/Sao_Paulo:20250813T200000
DTSTAMP:20260424T054839
CREATED:20250110T132449Z
LAST-MODIFIED:20250110T132449Z
UID:43096-1755109800-1755115200@www.gaylussac.com.br
SUMMARY:Programa Bilíngue Lower (IEYC/IPC) - Reunião de Pais interessados no Programa\, do Grupo 2 ao  4º ano
DESCRIPTION:
URL:https://www.gaylussac.com.br/event/programa-bilingue-lower-ieyc-ipc-reuniao-de-pais-interessados-no-programa-do-grupo-2-ao-4o-ano/
LOCATION:Teatro GayLussac\, Rua Maria Caldas\, 35 – São Francisco 24365-050 Niterói RJ – Brasil
END:VEVENT
BEGIN:VEVENT
DTSTART;VALUE=DATE:20250814
DTEND;VALUE=DATE:20250828
DTSTAMP:20260424T054839
CREATED:20250110T125029Z
LAST-MODIFIED:20250110T125029Z
UID:43079-1755129600-1756339199@www.gaylussac.com.br
SUMMARY:Fechamento do Ciclo de Avaliações da 2ª etapa - AFE 02
DESCRIPTION:2º ao 5º ano do Ensino Fundamental
URL:https://www.gaylussac.com.br/event/fechamento-do-ciclo-de-avaliacoes-da-2a-etapa-afe-02/
END:VEVENT
BEGIN:VEVENT
DTSTART;VALUE=DATE:20250814
DTEND;VALUE=DATE:20250828
DTSTAMP:20260424T054839
CREATED:20250110T130713Z
LAST-MODIFIED:20250110T130713Z
UID:43086-1755129600-1756339199@www.gaylussac.com.br
SUMMARY:Fechamento do Ciclo de Avaliações da 2ª etapa - AFE 02
DESCRIPTION:6º ano à 3ª série do Ensino Médio
URL:https://www.gaylussac.com.br/event/fechamento-do-ciclo-de-avaliacoes-da-2a-etapa-afe-02-2/
END:VEVENT
BEGIN:VEVENT
DTSTART;VALUE=DATE:20250816
DTEND;VALUE=DATE:20250817
DTSTAMP:20260424T054839
CREATED:20250110T124442Z
LAST-MODIFIED:20250110T124442Z
UID:43075-1755302400-1755388799@www.gaylussac.com.br
SUMMARY:Evento para a família - Grupo 1 ao 1º ano do Ensino Fundamental
DESCRIPTION:
URL:https://www.gaylussac.com.br/event/evento-para-a-familia-grupo-1-ao-1o-ano-do-ensino-fundamental/
LOCATION:Gaylussac\, R. Cel. João Brandão\, 87 - São Francisco\, Niterói - RJ\, 24365-060
END:VEVENT
BEGIN:VEVENT
DTSTART;VALUE=DATE:20250818
DTEND;VALUE=DATE:20250819
DTSTAMP:20260424T054840
CREATED:20250110T131224Z
LAST-MODIFIED:20250110T131224Z
UID:43088-1755475200-1755561599@www.gaylussac.com.br
SUMMARY:Início do Projeto de Orientação Profissional - 1ª e 2ª séries do Ensino Médio
DESCRIPTION:
URL:https://www.gaylussac.com.br/event/inicio-do-projeto-de-orientacao-profissional-1a-e-2a-series-do-ensino-medio-2/
LOCATION:Gaylussac\, Rua Maria Caldas\, 35 – São Francisco 24365-050 Niterói RJ – Brasil
END:VEVENT
BEGIN:VEVENT
DTSTART;VALUE=DATE:20250818
DTEND;VALUE=DATE:20250906
DTSTAMP:20260424T054840
CREATED:20250110T124207Z
LAST-MODIFIED:20250110T124207Z
UID:43071-1755475200-1757116799@www.gaylussac.com.br
SUMMARY:Renovação de matrícula eletrônica incluindo CCE
DESCRIPTION:
URL:https://www.gaylussac.com.br/event/renovacao-de-matricula-eletronica-incluindo-cce/
END:VEVENT
BEGIN:VEVENT
DTSTART;VALUE=DATE:20250825
DTEND;VALUE=DATE:20250826
DTSTAMP:20260424T054840
CREATED:20250110T131326Z
LAST-MODIFIED:20250110T131326Z
UID:43090-1756080000-1756166399@www.gaylussac.com.br
SUMMARY:Reunião de Pais - 3ª Série do Ensino Médio
DESCRIPTION:
URL:https://www.gaylussac.com.br/event/reuniao-de-pais-3a-serie-do-ensino-medio-2/
LOCATION:Gaylussac\, Rua Maria Caldas\, 35 – São Francisco 24365-050 Niterói RJ – Brasil
END:VEVENT
BEGIN:VEVENT
DTSTART;VALUE=DATE:20250826
DTEND;VALUE=DATE:20250828
DTSTAMP:20260424T054840
CREATED:20250110T125114Z
LAST-MODIFIED:20250110T125114Z
UID:43081-1756166400-1756339199@www.gaylussac.com.br
SUMMARY:Mini Master Chefinho - Aniversário do GayLussac
DESCRIPTION:
URL:https://www.gaylussac.com.br/event/mini-master-chefinho-aniversario-do-gaylussac/
END:VEVENT
BEGIN:VEVENT
DTSTART;VALUE=DATE:20250827
DTEND;VALUE=DATE:20250830
DTSTAMP:20260424T054840
CREATED:20250110T131419Z
LAST-MODIFIED:20250110T131419Z
UID:43092-1756252800-1756511999@www.gaylussac.com.br
SUMMARY:3ª série do Ensino Médio - 2ª Chamada - AFE 02
DESCRIPTION:
URL:https://www.gaylussac.com.br/event/3a-serie-do-ensino-medio-2a-chamada-afe-02/
END:VEVENT
BEGIN:VEVENT
DTSTART;VALUE=DATE:20250828
DTEND;VALUE=DATE:20250829
DTSTAMP:20260424T054840
CREATED:20250110T124342Z
LAST-MODIFIED:20250110T124342Z
UID:43073-1756339200-1756425599@www.gaylussac.com.br
SUMMARY:Comemorações dos 71 anos do GayLussac
DESCRIPTION:
URL:https://www.gaylussac.com.br/event/comemoracoes-dos-71-anos-do-gaylussac/
LOCATION:Gaylussac\, Rua Maria Caldas\, 35 – São Francisco 24365-050 Niterói RJ – Brasil
END:VEVENT
BEGIN:VEVENT
DTSTART;VALUE=DATE:20250828
DTEND;VALUE=DATE:20250829
DTSTAMP:20260424T054840
CREATED:20250110T131603Z
LAST-MODIFIED:20250110T131603Z
UID:43094-1756339200-1756425599@www.gaylussac.com.br
SUMMARY:Envio de boletim de RGL - 1ª\, 2ª e 3ª séries do Ensino Médio
DESCRIPTION:
URL:https://www.gaylussac.com.br/event/envio-de-boletim-de-rgl-1a-2a-e-3a-series-do-ensino-medio-2/
END:VEVENT
END:VCALENDAR