BEGIN:VCALENDAR
VERSION:2.0
PRODID:-//Instituto GayLussac - ECPv6.15.17.1//NONSGML v1.0//EN
CALSCALE:GREGORIAN
METHOD:PUBLISH
X-ORIGINAL-URL:https://www.gaylussac.com.br
X-WR-CALDESC:Eventos para Instituto GayLussac
REFRESH-INTERVAL;VALUE=DURATION:PT1H
X-Robots-Tag:noindex
X-PUBLISHED-TTL:PT1H
BEGIN:VTIMEZONE
TZID:America/Sao_Paulo
BEGIN:STANDARD
TZOFFSETFROM:-0300
TZOFFSETTO:-0300
TZNAME:-03
DTSTART:20240101T000000
END:STANDARD
END:VTIMEZONE
BEGIN:VEVENT
DTSTART;VALUE=DATE:20250210
DTEND;VALUE=DATE:20250211
DTSTAMP:20260424T002527
CREATED:20250106T155135Z
LAST-MODIFIED:20250106T155135Z
UID:42867-1739145600-1739231999@www.gaylussac.com.br
SUMMARY:Início das atividades do Clube de Cultura e Esportes
DESCRIPTION:Início das atividades do Clube de Cultura e Esportes (CCE)\, inclusive para Educação Infantil
URL:https://www.gaylussac.com.br/event/inicio-das-atividades-do-clube-de-cultura-e-esportes/
LOCATION:Gaylussac\, Rua Maria Caldas\, 35 – São Francisco 24365-050 Niterói RJ – Brasil
END:VEVENT
BEGIN:VEVENT
DTSTART;TZID=America/Sao_Paulo:20250210T000000
DTEND;TZID=America/Sao_Paulo:20250214T235900
DTSTAMP:20260424T002527
CREATED:20250106T145554Z
LAST-MODIFIED:20250206T172722Z
UID:42855-1739145600-1739577540@www.gaylussac.com.br
SUMMARY:Apresentação do Sistema de Multiavaliações para NOVOS ALUNOS
DESCRIPTION:Reunião Alunos
URL:https://www.gaylussac.com.br/event/apresentacao-do-sistema-de-multiavaliacoes-para-novos-alunos/
LOCATION:Gaylussac\, Rua Maria Caldas\, 35 – São Francisco 24365-050 Niterói RJ – Brasil
END:VEVENT
BEGIN:VEVENT
DTSTART;TZID=America/Sao_Paulo:20250211T190000
DTEND;TZID=America/Sao_Paulo:20250211T203000
DTSTAMP:20260424T002527
CREATED:20250106T125320Z
LAST-MODIFIED:20250106T125320Z
UID:42835-1739300400-1739305800@www.gaylussac.com.br
SUMMARY:Reunião de Pais - Grupo 5
DESCRIPTION:
URL:https://www.gaylussac.com.br/event/reuniao-de-pais-grupo-5-2/
LOCATION:Gaylussac\, R. Cel. João Brandão\, 87 - São Francisco\, Niterói - RJ\, 24365-060
END:VEVENT
BEGIN:VEVENT
DTSTART;TZID=America/Sao_Paulo:20250212T190000
DTEND;TZID=America/Sao_Paulo:20250212T203000
DTSTAMP:20260424T002527
CREATED:20250106T125452Z
LAST-MODIFIED:20250106T125452Z
UID:42837-1739386800-1739392200@www.gaylussac.com.br
SUMMARY:Reunião de Pais - Grupo 4
DESCRIPTION:
URL:https://www.gaylussac.com.br/event/reuniao-de-pais-grupo-4-2/
LOCATION:Gaylussac\, R. Cel. João Brandão\, 87 - São Francisco\, Niterói - RJ\, 24365-060
END:VEVENT
BEGIN:VEVENT
DTSTART;TZID=America/Sao_Paulo:20250213T190000
DTEND;TZID=America/Sao_Paulo:20250213T203000
DTSTAMP:20260424T002527
CREATED:20250106T132235Z
LAST-MODIFIED:20250106T132235Z
UID:42839-1739473200-1739478600@www.gaylussac.com.br
SUMMARY:Reunião de Pais - Grupo 3
DESCRIPTION:
URL:https://www.gaylussac.com.br/event/reuniao-de-pais-grupo-3-2/
LOCATION:Gaylussac\, R. Cel. João Brandão\, 87 - São Francisco\, Niterói - RJ\, 24365-060
END:VEVENT
BEGIN:VEVENT
DTSTART;TZID=America/Sao_Paulo:20250217T183000
DTEND;TZID=America/Sao_Paulo:20250217T203000
DTSTAMP:20260424T002527
CREATED:20250106T153705Z
LAST-MODIFIED:20250106T153705Z
UID:42857-1739817000-1739824200@www.gaylussac.com.br
SUMMARY:Reunião de Pais (Novos e Antigos) 7° ano do Ensino Fundamental e 1ª série do Ensino Médio
DESCRIPTION:Reunião de Pais (Novos e Antigos) – 7º ano do Ensino Fundamental (Teatro) e 1ª série do Ensino Médio (Biblioteca) – 18h30min
URL:https://www.gaylussac.com.br/event/reuniao-de-pais-novos-e-antigos-7-ano-do-ensino-fundamental-e-1a-serie-do-ensino-medio/
LOCATION:Gaylussac\, Rua Maria Caldas\, 35 – São Francisco 24365-050 Niterói RJ – Brasil
END:VEVENT
BEGIN:VEVENT
DTSTART;TZID=America/Sao_Paulo:20250218T190000
DTEND;TZID=America/Sao_Paulo:20250218T203000
DTSTAMP:20260424T002527
CREATED:20250106T132846Z
LAST-MODIFIED:20250106T132846Z
UID:42841-1739905200-1739910600@www.gaylussac.com.br
SUMMARY:Reunião de Pais - Grupo 2
DESCRIPTION:
URL:https://www.gaylussac.com.br/event/reuniao-de-pais-grupo-2-2/
LOCATION:Gaylussac\, R. Cel. João Brandão\, 87 - São Francisco\, Niterói - RJ\, 24365-060
END:VEVENT
BEGIN:VEVENT
DTSTART;TZID=America/Sao_Paulo:20250219T190000
DTEND;TZID=America/Sao_Paulo:20250219T203000
DTSTAMP:20260424T002527
CREATED:20250106T133116Z
LAST-MODIFIED:20250106T133116Z
UID:42843-1739991600-1739997000@www.gaylussac.com.br
SUMMARY:Reunião de Pais - Grupo 1
DESCRIPTION:
URL:https://www.gaylussac.com.br/event/reuniao-de-pais-grupo-1-2/
LOCATION:Gaylussac\, R. Cel. João Brandão\, 87 - São Francisco\, Niterói - RJ\, 24365-060
END:VEVENT
BEGIN:VEVENT
DTSTART;TZID=America/Sao_Paulo:20250220T183000
DTEND;TZID=America/Sao_Paulo:20250220T203000
DTSTAMP:20260424T002527
CREATED:20250106T154902Z
LAST-MODIFIED:20250106T154902Z
UID:42865-1740076200-1740083400@www.gaylussac.com.br
SUMMARY:Reunião de Pais Programa Bilíngue Upper
DESCRIPTION:Reunião de Pais – 2ª série do Ensino Médio – 18h30min
URL:https://www.gaylussac.com.br/event/reuniao-de-pais-programa-bilingue-upper/
LOCATION:Gaylussac\, Rua Maria Caldas\, 35 – São Francisco 24365-050 Niterói RJ – Brasil
END:VEVENT
BEGIN:VEVENT
DTSTART;TZID=America/Sao_Paulo:20250220T190000
DTEND;TZID=America/Sao_Paulo:20250220T210000
DTSTAMP:20260424T002527
CREATED:20250106T133909Z
LAST-MODIFIED:20250106T133909Z
UID:42847-1740078000-1740085200@www.gaylussac.com.br
SUMMARY:Reunião de Pais - 3º ano do Ensino Fundamental
DESCRIPTION:Reunião de Pais – 3º ano do Ensino Fundamental – com a participação de Professores regentes e especializados – 19h (Teatro) e 20h (Sala de aula)
URL:https://www.gaylussac.com.br/event/reuniao-de-pais-3o-ano-do-ensino-fundamental/
LOCATION:Teatro GayLussac\, Rua Maria Caldas\, 35 – São Francisco 24365-050 Niterói RJ – Brasil
END:VEVENT
BEGIN:VEVENT
DTSTART;TZID=America/Sao_Paulo:20250224T183000
DTEND;TZID=America/Sao_Paulo:20250224T203000
DTSTAMP:20260424T002527
CREATED:20250124T125026Z
LAST-MODIFIED:20250124T125026Z
UID:43665-1740421800-1740429000@www.gaylussac.com.br
SUMMARY:Reunião de Pais - 9º ano do Ensino Fundamental e 2ª série do Ensino Médio
DESCRIPTION:
URL:https://www.gaylussac.com.br/event/reuniao-de-pais-9o-ano-do-ensino-fundamental-e-2a-serie-do-ensino-medio-4/
LOCATION:Teatro GayLussac\, Rua Maria Caldas\, 35 – São Francisco 24365-050 Niterói RJ – Brasil
END:VEVENT
BEGIN:VEVENT
DTSTART;TZID=America/Sao_Paulo:20250227T190000
DTEND;TZID=America/Sao_Paulo:20250227T210000
DTSTAMP:20260424T002527
CREATED:20250106T134225Z
LAST-MODIFIED:20250106T134225Z
UID:42849-1740682800-1740690000@www.gaylussac.com.br
SUMMARY:Reunião de Pais - 4º e 5º anos do Ensino Fundamental
DESCRIPTION:Reunião de Pais – 4º e 5º anos do Ensino Fundamental – com a participação de Professores regentes e especializados – 19h (Teatro) e 20h (Sala de aula)
URL:https://www.gaylussac.com.br/event/reuniao-de-pais-4o-e-5o-anos-do-ensino-fundamental/
LOCATION:Teatro GayLussac\, Rua Maria Caldas\, 35 – São Francisco 24365-050 Niterói RJ – Brasil
END:VEVENT
BEGIN:VEVENT
DTSTART;VALUE=DATE:20250303
DTEND;VALUE=DATE:20250309
DTSTAMP:20260424T002527
CREATED:20250107T122005Z
LAST-MODIFIED:20250204T182846Z
UID:42876-1740963600-1741395599@www.gaylussac.com.br
SUMMARY:Dias Livres para Alunos
DESCRIPTION:Carnaval
URL:https://www.gaylussac.com.br/event/dias-livres-para-alunos/
LOCATION:Gaylussac\, Rua Maria Caldas\, 35 – São Francisco 24365-050 Niterói RJ – Brasil
END:VEVENT
BEGIN:VEVENT
DTSTART;VALUE=DATE:20250304
DTEND;VALUE=DATE:20250305
DTSTAMP:20260424T002527
CREATED:20250107T122246Z
LAST-MODIFIED:20250107T122246Z
UID:42878-1741046400-1741132799@www.gaylussac.com.br
SUMMARY:Carnaval
DESCRIPTION:Feriado
URL:https://www.gaylussac.com.br/event/carnaval/
LOCATION:Gaylussac\, Rua Maria Caldas\, 35 – São Francisco 24365-050 Niterói RJ – Brasil
END:VEVENT
BEGIN:VEVENT
DTSTART;TZID=America/Sao_Paulo:20250310T183000
DTEND;TZID=America/Sao_Paulo:20250310T200000
DTSTAMP:20260424T002527
CREATED:20250107T131853Z
LAST-MODIFIED:20250107T131947Z
UID:42898-1741631400-1741636800@www.gaylussac.com.br
SUMMARY:Reunião de Pais Programa Bilíngue Middle - Cambridge (7° ano)
DESCRIPTION:Reunião de Pais – 7º ano do Ensino Fundamental – Biblioteca
URL:https://www.gaylussac.com.br/event/reuniao-de-pais-programa-bilingue-middle-cambridge-2/
LOCATION:Gaylussac\, Rua Maria Caldas\, 35 – São Francisco 24365-050 Niterói RJ – Brasil
END:VEVENT
BEGIN:VEVENT
DTSTART;TZID=America/Sao_Paulo:20250310T183000
DTEND;TZID=America/Sao_Paulo:20250310T200000
DTSTAMP:20260424T002527
CREATED:20250107T132526Z
LAST-MODIFIED:20250107T132526Z
UID:42903-1741631400-1741636800@www.gaylussac.com.br
SUMMARY:Reunião de Pais Programa Bilíngue Upper (1ª série do Ensino Médio)
DESCRIPTION:Reunião de Pais – 1ª série do Ensino Médio\n\n\n\n  \n 
URL:https://www.gaylussac.com.br/event/reuniao-de-pais-programa-bilingue-upper-1a-serie-do-ensino-medio/
LOCATION:Gaylussac\, Rua Maria Caldas\, 35 – São Francisco 24365-050 Niterói RJ – Brasil
END:VEVENT
BEGIN:VEVENT
DTSTART;VALUE=DATE:20250311
DTEND;VALUE=DATE:20250312
DTSTAMP:20260424T002527
CREATED:20250107T124505Z
LAST-MODIFIED:20250107T124505Z
UID:42884-1741651200-1741737599@www.gaylussac.com.br
SUMMARY:Festa da Cultura da UNESCO - 3º ano do Ensino Fundamental
DESCRIPTION:
URL:https://www.gaylussac.com.br/event/festa-da-cultura-da-unesco-3o-ano-do-ensino-fundamental/
LOCATION:Gaylussac\, Rua Maria Caldas\, 35 – São Francisco 24365-050 Niterói RJ – Brasil
END:VEVENT
BEGIN:VEVENT
DTSTART;VALUE=DATE:20250313
DTEND;VALUE=DATE:20250314
DTSTAMP:20260424T002527
CREATED:20250107T122530Z
LAST-MODIFIED:20250107T122530Z
UID:42880-1741824000-1741910399@www.gaylussac.com.br
SUMMARY:World Book Day
DESCRIPTION:
URL:https://www.gaylussac.com.br/event/world-book-day/
LOCATION:Gaylussac\, Rua Maria Caldas\, 35 – São Francisco 24365-050 Niterói RJ – Brasil
END:VEVENT
BEGIN:VEVENT
DTSTART;VALUE=DATE:20250317
DTEND;VALUE=DATE:20250318
DTSTAMP:20260424T002527
CREATED:20250107T125546Z
LAST-MODIFIED:20250107T125546Z
UID:42888-1742169600-1742255999@www.gaylussac.com.br
SUMMARY:Início do Projeto Monografia - 9º ano Ensino Fundamental
DESCRIPTION:
URL:https://www.gaylussac.com.br/event/inicio-do-projeto-monografia-9o-ano-ensino-fundamental/
LOCATION:Teatro GayLussac\, Rua Maria Caldas\, 35 – São Francisco 24365-050 Niterói RJ – Brasil
END:VEVENT
BEGIN:VEVENT
DTSTART;VALUE=DATE:20250317
DTEND;VALUE=DATE:20250318
DTSTAMP:20260424T002527
CREATED:20250107T125703Z
LAST-MODIFIED:20250107T125703Z
UID:42890-1742169600-1742255999@www.gaylussac.com.br
SUMMARY:Início do Projeto Leitura Dramatizada - 8º ano Ensino Fundamental
DESCRIPTION:
URL:https://www.gaylussac.com.br/event/inicio-do-projeto-leitura-dramatizada-8o-ano-ensino-fundamental/
LOCATION:Gaylussac\, Rua Maria Caldas\, 35 – São Francisco 24365-050 Niterói RJ – Brasil
END:VEVENT
BEGIN:VEVENT
DTSTART;TZID=America/Sao_Paulo:20250317T183000
DTEND;TZID=America/Sao_Paulo:20250317T200000
DTSTAMP:20260424T002527
CREATED:20250107T132837Z
LAST-MODIFIED:20250107T132837Z
UID:42906-1742236200-1742241600@www.gaylussac.com.br
SUMMARY:Reunião de Pais Programa Bilíngue Upper (9° ano do Ensino Fundamental)
DESCRIPTION:Reunião de Pais – 9º ano do Ensino Fundamental
URL:https://www.gaylussac.com.br/event/reuniao-de-pais-programa-bilingue-upper-9-ano-do-ensino-fundamental/
LOCATION:Gaylussac\, Rua Maria Caldas\, 35 – São Francisco 24365-050 Niterói RJ – Brasil
END:VEVENT
BEGIN:VEVENT
DTSTART;TZID=America/Sao_Paulo:20250318T183000
DTEND;TZID=America/Sao_Paulo:20250318T200000
DTSTAMP:20260424T002527
CREATED:20250107T132140Z
LAST-MODIFIED:20250107T132140Z
UID:42901-1742322600-1742328000@www.gaylussac.com.br
SUMMARY:Reunião de Pais Programa Bilíngue Middle - Cambridge (8° ano)
DESCRIPTION:Reunião de Pais – 8º ano do Ensino Fundamental – Biblioteca
URL:https://www.gaylussac.com.br/event/reuniao-de-pais-programa-bilingue-middle-cambridge-8-ano/
LOCATION:Gaylussac\, Rua Maria Caldas\, 35 – São Francisco 24365-050 Niterói RJ – Brasil
END:VEVENT
BEGIN:VEVENT
DTSTART;TZID=America/Sao_Paulo:20250322T080000
DTEND;TZID=America/Sao_Paulo:20250322T100000
DTSTAMP:20260424T002527
CREATED:20250107T123908Z
LAST-MODIFIED:20250107T123908Z
UID:42882-1742630400-1742637600@www.gaylussac.com.br
SUMMARY:Prova Canguru - 6º ano do Ensino Fundamental à 3ª série do Ensino Médio
DESCRIPTION: SÁBADO – 8h às 10h
URL:https://www.gaylussac.com.br/event/prova-canguru-6o-ano-do-ensino-fundamental-a-3a-serie-do-ensino-medio/
LOCATION:Gaylussac\, Rua Maria Caldas\, 35 – São Francisco 24365-050 Niterói RJ – Brasil
END:VEVENT
BEGIN:VEVENT
DTSTART;VALUE=DATE:20250324
DTEND;VALUE=DATE:20250325
DTSTAMP:20260424T002527
CREATED:20250107T130134Z
LAST-MODIFIED:20250107T130134Z
UID:42892-1742774400-1742860799@www.gaylussac.com.br
SUMMARY:Início do Projeto de Orientação Profissional - 1ª e 2ª séries do Ensino Médio
DESCRIPTION:
URL:https://www.gaylussac.com.br/event/inicio-do-projeto-de-orientacao-profissional-1a-e-2a-series-do-ensino-medio/
LOCATION:Gaylussac\, Rua Maria Caldas\, 35 – São Francisco 24365-050 Niterói RJ – Brasil
END:VEVENT
BEGIN:VEVENT
DTSTART;TZID=America/Sao_Paulo:20250324T183000
DTEND;TZID=America/Sao_Paulo:20250324T200000
DTSTAMP:20260424T002527
CREATED:20250107T130438Z
LAST-MODIFIED:20250107T130438Z
UID:42894-1742841000-1742846400@www.gaylussac.com.br
SUMMARY:Reunião de Pais - 3ª série do Ensino Médio
DESCRIPTION:
URL:https://www.gaylussac.com.br/event/reuniao-de-pais-3a-serie-do-ensino-medio/
LOCATION:Gaylussac\, Rua Maria Caldas\, 35 – São Francisco 24365-050 Niterói RJ – Brasil
END:VEVENT
BEGIN:VEVENT
DTSTART;VALUE=DATE:20250325
DTEND;VALUE=DATE:20250326
DTSTAMP:20260424T002527
CREATED:20250107T125122Z
LAST-MODIFIED:20250107T125122Z
UID:42886-1742860800-1742947199@www.gaylussac.com.br
SUMMARY:Posse dos Representantes - 5º ano do Ensino Fundamental
DESCRIPTION:
URL:https://www.gaylussac.com.br/event/posse-dos-representantes-5o-ano-do-ensino-fundamental/
LOCATION:Gaylussac\, Rua Maria Caldas\, 35 – São Francisco 24365-050 Niterói RJ – Brasil
END:VEVENT
BEGIN:VEVENT
DTSTART;VALUE=DATE:20250325
DTEND;VALUE=DATE:20250326
DTSTAMP:20260424T002527
CREATED:20250107T131120Z
LAST-MODIFIED:20250107T131120Z
UID:42896-1742860800-1742947199@www.gaylussac.com.br
SUMMARY:Posse dos Representantes - 6º ano do Ensino Fundamental à 3ª série do Ensino Médio
DESCRIPTION:
URL:https://www.gaylussac.com.br/event/posse-dos-representantes-6o-ano-do-ensino-fundamental-a-3a-serie-do-ensino-medio/
LOCATION:Gaylussac\, Rua Maria Caldas\, 35 – São Francisco 24365-050 Niterói RJ – Brasil
END:VEVENT
BEGIN:VEVENT
DTSTART;VALUE=DATE:20250412
DTEND;VALUE=DATE:20250413
DTSTAMP:20260424T002527
CREATED:20250107T140000Z
LAST-MODIFIED:20250107T140000Z
UID:42916-1744416000-1744502399@www.gaylussac.com.br
SUMMARY:Projeto Integração- Educação Infantil ao 5º ano do Ensino Fundamental e Aula Temática- 9° ano e Ensino Médio
DESCRIPTION: \n 
URL:https://www.gaylussac.com.br/event/projeto-integracao-educacao-infantil-ao-5o-ano-do-ensino-fundamental-e-aula-tematica-9-ano-e-ensino-medio/
LOCATION:Gaylussac\, Rua Maria Caldas\, 35 – São Francisco 24365-050 Niterói RJ – Brasil
END:VEVENT
BEGIN:VEVENT
DTSTART;VALUE=DATE:20250414
DTEND;VALUE=DATE:20250418
DTSTAMP:20260424T002527
CREATED:20250107T140528Z
LAST-MODIFIED:20250107T140528Z
UID:42920-1744588800-1744934399@www.gaylussac.com.br
SUMMARY:Semana da Língua Espanhola
DESCRIPTION:
URL:https://www.gaylussac.com.br/event/semana-da-lingua-espanhola/
LOCATION:Gaylussac\, Rua Maria Caldas\, 35 – São Francisco 24365-050 Niterói RJ – Brasil
END:VEVENT
BEGIN:VEVENT
DTSTART;TZID=America/Sao_Paulo:20250414T200000
DTEND;TZID=America/Sao_Paulo:20250414T210000
DTSTAMP:20260424T002527
CREATED:20250107T140341Z
LAST-MODIFIED:20250107T140341Z
UID:42918-1744660800-1744664400@www.gaylussac.com.br
SUMMARY:Abertura de Cadastro de Admissão para Pais do GayLussac- 2026- Novos Dependentes/ Serviços Opcionais ( categoria 1)
DESCRIPTION:
URL:https://www.gaylussac.com.br/event/abertura-de-cadastro-de-admissao-para-pais-do-gaylussac-2026-novos-dependentes-servicos-opcionais-categoria-1/
LOCATION:Gaylussac\, Rua Maria Caldas\, 35 – São Francisco 24365-050 Niterói RJ – Brasil
END:VEVENT
END:VCALENDAR