BEGIN:VCALENDAR
VERSION:2.0
PRODID:-//Instituto GayLussac - ECPv6.15.17.1//NONSGML v1.0//EN
CALSCALE:GREGORIAN
METHOD:PUBLISH
X-ORIGINAL-URL:https://www.gaylussac.com.br
X-WR-CALDESC:Eventos para Instituto GayLussac
REFRESH-INTERVAL;VALUE=DURATION:PT1H
X-Robots-Tag:noindex
X-PUBLISHED-TTL:PT1H
BEGIN:VTIMEZONE
TZID:America/Sao_Paulo
BEGIN:STANDARD
TZOFFSETFROM:-0300
TZOFFSETTO:-0300
TZNAME:-03
DTSTART:20230101T000000
END:STANDARD
END:VTIMEZONE
BEGIN:VEVENT
DTSTART;VALUE=DATE:20240920
DTEND;VALUE=DATE:20241103
DTSTAMP:20260423T194707
CREATED:20241003T222244Z
LAST-MODIFIED:20241003T222244Z
UID:41452-1726790400-1730591999@www.gaylussac.com.br
SUMMARY:Aulas e Avaliações do PRP 02
DESCRIPTION:
URL:https://www.gaylussac.com.br/event/aulas-e-avaliacoes-do-prp-02-2/
LOCATION:Gaylussac\, R. Cel. João Brandão\, 87 - São Francisco\, Niterói - RJ\, 24365-060
END:VEVENT
BEGIN:VEVENT
DTSTART;VALUE=DATE:20241001
DTEND;VALUE=DATE:20241122
DTSTAMP:20260423T194707
CREATED:20241003T222450Z
LAST-MODIFIED:20241003T222450Z
UID:41481-1727740800-1732233599@www.gaylussac.com.br
SUMMARY:Período das provas de IGCSE
DESCRIPTION:Programa Bilíngue Upper
URL:https://www.gaylussac.com.br/event/periodo-das-provas-de-igcse-2/
LOCATION:Gaylussac\, Rua Maria Caldas\, 35 – São Francisco 24365-050 Niterói RJ – Brasil
END:VEVENT
BEGIN:VEVENT
DTSTART;VALUE=DATE:20241102
DTEND;VALUE=DATE:20241103
DTSTAMP:20260423T194707
CREATED:20241003T235350Z
LAST-MODIFIED:20241003T235350Z
UID:40712-1730505600-1730591999@www.gaylussac.com.br
SUMMARY:Finados
DESCRIPTION:
URL:https://www.gaylussac.com.br/event/173-finados-2/
LOCATION:Gaylussac\, Rua Maria Caldas\, 35 – São Francisco 24365-050 Niterói RJ – Brasil
END:VEVENT
BEGIN:VEVENT
DTSTART;VALUE=DATE:20241104
DTEND;VALUE=DATE:20241108
DTSTAMP:20260423T194707
CREATED:20241003T222427Z
LAST-MODIFIED:20241003T222427Z
UID:41477-1730678400-1731023999@www.gaylussac.com.br
SUMMARY:Inscrições para as Provas de Recuperação Final
DESCRIPTION:
URL:https://www.gaylussac.com.br/event/inscricoes-para-as-provas-de-recuperacao-final-2/
LOCATION:Gaylussac\, Rua Maria Caldas\, 35 – São Francisco 24365-050 Niterói RJ – Brasil
END:VEVENT
BEGIN:VEVENT
DTSTART;TZID=America/Sao_Paulo:20241104T183000
DTEND;TZID=America/Sao_Paulo:20241104T200000
DTSTAMP:20260423T194707
CREATED:20241003T222720Z
LAST-MODIFIED:20241003T222720Z
UID:41493-1730745000-1730750400@www.gaylussac.com.br
SUMMARY:Reunião de Pais - 6º ano do Ensino Fundamental
DESCRIPTION:Reunião de Pais – 6º ano do Ensino Fundamental – Biblioteca – 18h30min
URL:https://www.gaylussac.com.br/event/246-reuniao-de-pais-6o-ano-do-ensino-fundamental/
LOCATION:Teatro GayLussac\, Rua Maria Caldas\, 35 – São Francisco 24365-050 Niterói RJ – Brasil
END:VEVENT
BEGIN:VEVENT
DTSTART;VALUE=DATE:20241106
DTEND;VALUE=DATE:20241107
DTSTAMP:20260423T194707
CREATED:20241003T222503Z
LAST-MODIFIED:20241003T222503Z
UID:41486-1730851200-1730937599@www.gaylussac.com.br
SUMMARY:Projeto Curtas - 1ª série do Ensino Médio
DESCRIPTION:6º ano à 3ª série do Ensino Médio
URL:https://www.gaylussac.com.br/event/212-projeto-curtas-1a-serie-do-ensino-medio/
LOCATION:Gaylussac\, Rua Maria Caldas\, 35 – São Francisco 24365-050 Niterói RJ – Brasil
END:VEVENT
BEGIN:VEVENT
DTSTART;TZID=America/Sao_Paulo:20241108T183000
DTEND;TZID=America/Sao_Paulo:20241108T200000
DTSTAMP:20260423T194707
CREATED:20241003T211334Z
LAST-MODIFIED:20241003T211334Z
UID:41355-1731090600-1731096000@www.gaylussac.com.br
SUMMARY:Culminância do Projeto Redação
DESCRIPTION:
URL:https://www.gaylussac.com.br/event/139-culminancia-do-projeto-redacao/
LOCATION:Teatro GayLussac\, Rua Maria Caldas\, 35 – São Francisco 24365-050 Niterói RJ – Brasil
END:VEVENT
BEGIN:VEVENT
DTSTART;VALUE=DATE:20241109
DTEND;VALUE=DATE:20241110
DTSTAMP:20260423T194707
CREATED:20241003T222328Z
LAST-MODIFIED:20241003T222328Z
UID:41457-1731110400-1731196799@www.gaylussac.com.br
SUMMARY:Encerramento Clube de Pesquisa - Culminância - Grupo 2 ao Grupo 5
DESCRIPTION:Educação Infantil e 1º ano do Ensino Fundamental
URL:https://www.gaylussac.com.br/event/146-encerramento-clube-de-pesquisa-culminancia-grupo-2-ao-grupo-5-2/
LOCATION:Gaylussac\, Rua Maria Caldas\, 35 – São Francisco 24365-050 Niterói RJ – Brasil
END:VEVENT
BEGIN:VEVENT
DTSTART;VALUE=DATE:20241114
DTEND;VALUE=DATE:20241115
DTSTAMP:20260423T194707
CREATED:20241003T222600Z
LAST-MODIFIED:20241003T222600Z
UID:40529-1731542400-1731628799@www.gaylussac.com.br
SUMMARY:Reunião de apresentação do 3º ano do Ensino Fundamental para Pais do 2º ano do Ensino Fundamental
DESCRIPTION:2º ao 5º ano do Ensino Fundamental
URL:https://www.gaylussac.com.br/event/222-reuniao-de-apresentacao-do-3o-ano-do-ensino-fundamental-para-pais-do-2o-ano-do-ensino-fundamental-2/
LOCATION:Gaylussac\, Rua Maria Caldas\, 35 – São Francisco 24365-050 Niterói RJ – Brasil
END:VEVENT
BEGIN:VEVENT
DTSTART;VALUE=DATE:20241114
DTEND;VALUE=DATE:20241123
DTSTAMP:20260423T194707
CREATED:20241003T222229Z
LAST-MODIFIED:20241003T222229Z
UID:41451-1731542400-1732319999@www.gaylussac.com.br
SUMMARY:AFE 03 (previsão)- 3ª série do Ensino Médio
DESCRIPTION:6º ano à 3ª série do Ensino Médio
URL:https://www.gaylussac.com.br/event/122-afe-03-previsao-3a-serie-do-ensino-medio-2/
LOCATION:Gaylussac\, Rua Maria Caldas\, 35 – São Francisco 24365-050 Niterói RJ – Brasil
END:VEVENT
BEGIN:VEVENT
DTSTART;VALUE=DATE:20241114
DTEND;VALUE=DATE:20241204
DTSTAMP:20260423T194707
CREATED:20241003T222402Z
LAST-MODIFIED:20241003T222402Z
UID:40490-1731542400-1733270399@www.gaylussac.com.br
SUMMARY:Fechamento do Ciclo de Avaliações da 3ª etapa - AFE 03 (incluindo SÁBADO 23)
DESCRIPTION:2º ao 5º ano do Ensino Fundamental
URL:https://www.gaylussac.com.br/event/fechamento-do-ciclo-de-avaliacoes-da-3a-etapa-afe-03-incluindo-sabado-23-2-2/
LOCATION:Gaylussac\, Rua Maria Caldas\, 35 – São Francisco 24365-050 Niterói RJ – Brasil
END:VEVENT
BEGIN:VEVENT
DTSTART;VALUE=DATE:20241115
DTEND;VALUE=DATE:20241116
DTSTAMP:20260423T194707
CREATED:20241003T222451Z
LAST-MODIFIED:20241003T222451Z
UID:41482-1731628800-1731715199@www.gaylussac.com.br
SUMMARY:Proclamação da República
DESCRIPTION:
URL:https://www.gaylussac.com.br/event/207-proclamacao-da-republica/
LOCATION:Gaylussac\, Rua Maria Caldas\, 35 – São Francisco 24365-050 Niterói RJ – Brasil
END:VEVENT
BEGIN:VEVENT
DTSTART;VALUE=DATE:20241120
DTEND;VALUE=DATE:20241121
DTSTAMP:20260423T194707
CREATED:20241003T222314Z
LAST-MODIFIED:20241003T222314Z
UID:41455-1732060800-1732147199@www.gaylussac.com.br
SUMMARY:Dia da Consciência Negra - Zumbi dos Palmares
DESCRIPTION:
URL:https://www.gaylussac.com.br/event/142-dia-da-consciencia-negra-zumbi-dos-palmares-2/
LOCATION:Gaylussac\, Rua Maria Caldas\, 35 – São Francisco 24365-050 Niterói RJ – Brasil
END:VEVENT
BEGIN:VEVENT
DTSTART;TZID=America/Sao_Paulo:20241121T193000
DTEND;TZID=America/Sao_Paulo:20241121T210000
DTSTAMP:20260423T194707
CREATED:20241003T222156Z
LAST-MODIFIED:20241003T222156Z
UID:41443-1732217400-1732222800@www.gaylussac.com.br
SUMMARY:Apresentação do espetáculo: “Pluft\, O Fantasminha” - Teatro\, Balé e Dança
DESCRIPTION:CCE – Clube de Cultura e Esportes
URL:https://www.gaylussac.com.br/event/apresentacao-do-espetaculo-pluft-o-fantasminha-teatro-bale-e-danca/
LOCATION:Teatro GayLussac\, Rua Maria Caldas\, 35 – São Francisco 24365-050 Niterói RJ – Brasil
END:VEVENT
BEGIN:VEVENT
DTSTART;VALUE=DATE:20241123
DTEND;VALUE=DATE:20241124
DTSTAMP:20260423T194707
CREATED:20241003T222329Z
LAST-MODIFIED:20241003T222329Z
UID:41458-1732320000-1732406399@www.gaylussac.com.br
SUMMARY:Encerramento Clube de Pesquisa - Culminância e lançamento do livro Nós\, os Autores para turmas do 1º ano do Ensino Fundamental
DESCRIPTION:Educação Infantil e 1º ano do Ensino Fundamental
URL:https://www.gaylussac.com.br/event/147-encerramento-clube-de-pesquisa-culminancia-e-lancamento-do-livro-nos-os-autores-para-turmas-do-1o-ano-do-ensino-fundamental/
LOCATION:Gaylussac\, R. Cel. João Brandão\, 87 - São Francisco\, Niterói - RJ\, 24365-060
END:VEVENT
BEGIN:VEVENT
DTSTART;VALUE=DATE:20241123
DTEND;VALUE=DATE:20241127
DTSTAMP:20260423T194707
CREATED:20241003T222158Z
LAST-MODIFIED:20241122T133238Z
UID:41445-1732320000-1732665599@www.gaylussac.com.br
SUMMARY:2ª chamada AFE 03 (previsão) 3ª série do Ensino Médio
DESCRIPTION:3ª série do Ensino Médio
URL:https://www.gaylussac.com.br/event/107-2a-chamada-afe-03-previsao-3a-serie-do-ensino-medio/
LOCATION:Gaylussac\, Rua Maria Caldas\, 35 – São Francisco 24365-050 Niterói RJ – Brasil
END:VEVENT
BEGIN:VEVENT
DTSTART;VALUE=DATE:20241125
DTEND;VALUE=DATE:20241126
DTSTAMP:20260423T194707
CREATED:20241003T222213Z
LAST-MODIFIED:20241003T222213Z
UID:41448-1732492800-1732579199@www.gaylussac.com.br
SUMMARY:9ª Copa de Ginástica GayLussac
DESCRIPTION:CCE – Clube de Cultura e Esportes
URL:https://www.gaylussac.com.br/event/114-9a-copa-de-ginastica-gaylussac-2/
LOCATION:Gaylussac\, Rua Maria Caldas\, 35 – São Francisco 24365-050 Niterói RJ – Brasil
END:VEVENT
BEGIN:VEVENT
DTSTART;VALUE=DATE:20241127
DTEND;VALUE=DATE:20241205
DTSTAMP:20260423T194707
CREATED:20241003T222156Z
LAST-MODIFIED:20241003T222156Z
UID:41444-1732665600-1733356799@www.gaylussac.com.br
SUMMARY:Avaliações de 2ª chamada  (incluindo SÁBADO 30)
DESCRIPTION:2º ao 5º ano do Ensino Fundamental
URL:https://www.gaylussac.com.br/event/avaliacoes-de-2a-chamada-incluindo-sabado-30-2/
LOCATION:Gaylussac\, Rua Maria Caldas\, 35 – São Francisco 24365-050 Niterói RJ – Brasil
END:VEVENT
BEGIN:VEVENT
DTSTART;VALUE=DATE:20241127
DTEND;VALUE=DATE:20241205
DTSTAMP:20260423T194707
CREATED:20241003T235320Z
LAST-MODIFIED:20241003T235320Z
UID:40706-1732665600-1733356799@www.gaylussac.com.br
SUMMARY:Avaliações de 2ª chamada da 3ª etapa – incluindo SÁBADO 30)
DESCRIPTION:Fundamental 1  à 2ª série do Ensino Médio
URL:https://www.gaylussac.com.br/event/avaliacoes-de-2a-chamada-da-3a-etapa-incluindo-sabado-30-2/
LOCATION:Gaylussac\, Rua Maria Caldas\, 35 – São Francisco 24365-050 Niterói RJ – Brasil
END:VEVENT
BEGIN:VEVENT
DTSTART;VALUE=DATE:20241130
DTEND;VALUE=DATE:20241201
DTSTAMP:20260423T194707
CREATED:20241004T000357Z
LAST-MODIFIED:20241004T000357Z
UID:40760-1732924800-1733011199@www.gaylussac.com.br
SUMMARY:Concertos Musicais
DESCRIPTION:2º ao 5º ano do Ensino Fundamental
URL:https://www.gaylussac.com.br/event/137-concertos-musicais-2/
LOCATION:Gaylussac\, Rua Maria Caldas\, 35 – São Francisco 24365-050 Niterói RJ – Brasil
END:VEVENT
BEGIN:VEVENT
DTSTART;VALUE=DATE:20241202
DTEND;VALUE=DATE:20241203
DTSTAMP:20260423T194707
CREATED:20241202T222159Z
LAST-MODIFIED:20241122T114626Z
UID:41446-1733097600-1733183999@www.gaylussac.com.br
SUMMARY:3ª série do Ensino Médio - Cerimônia de Encerramento (previsão)
DESCRIPTION:6º ano à 3ª série do Ensino Médio
URL:https://www.gaylussac.com.br/event/111-3a-serie-do-ensino-medio-cerimonia-de-encerramento-previsao-2/
LOCATION:Gaylussac\, Rua Maria Caldas\, 35 – São Francisco 24365-050 Niterói RJ – Brasil
END:VEVENT
BEGIN:VEVENT
DTSTART;VALUE=DATE:20241202
DTEND;VALUE=DATE:20241208
DTSTAMP:20260423T194707
CREATED:20241003T235316Z
LAST-MODIFIED:20241003T235316Z
UID:40699-1733097600-1733615999@www.gaylussac.com.br
SUMMARY:3ª série do Ensino Médio – Recuperação PRP 03 (previsão)
DESCRIPTION:6º ano à 3ª série do Ensino Médio
URL:https://www.gaylussac.com.br/event/3a-serie-do-ensino-medio-recuperacao-prp-03-previsao-2/
LOCATION:Gaylussac\, Rua Maria Caldas\, 35 – São Francisco 24365-050 Niterói RJ – Brasil
END:VEVENT
BEGIN:VEVENT
DTSTART;TZID=America/Sao_Paulo:20241202T190000
DTEND;TZID=America/Sao_Paulo:20241202T210000
DTSTAMP:20260423T194707
CREATED:20241003T232559Z
LAST-MODIFIED:20241003T232559Z
UID:40620-1733166000-1733173200@www.gaylussac.com.br
SUMMARY:Formatura Bilíngue Upper - junto com a 3ª série do Ensino Médio
DESCRIPTION:Programa Bilíngue Upper
URL:https://www.gaylussac.com.br/event/formatura-bilingue-upper-junto-com-a-3a-serie-do-ensino-medio-2/
LOCATION:Gaylussac\, Rua Maria Caldas\, 35 – São Francisco 24365-050 Niterói RJ – Brasil
END:VEVENT
BEGIN:VEVENT
DTSTART;VALUE=DATE:20241204
DTEND;VALUE=DATE:20241205
DTSTAMP:20260423T194707
CREATED:20241003T235336Z
LAST-MODIFIED:20241003T235336Z
UID:40709-1733270400-1733356799@www.gaylussac.com.br
SUMMARY:Encerramento do ano letivo da Unidade de Ensinos Fundamental e Médio
DESCRIPTION:
URL:https://www.gaylussac.com.br/event/149-encerramento-do-ano-letivo-da-unidade-de-ensinos-fundamental-e-medio-2/
LOCATION:Gaylussac\, Rua Maria Caldas\, 35 – São Francisco 24365-050 Niterói RJ – Brasil
END:VEVENT
BEGIN:VEVENT
DTSTART;TZID=America/Sao_Paulo:20241204T183000
DTEND;TZID=America/Sao_Paulo:20241204T210000
DTSTAMP:20260423T194707
CREATED:20241003T211418Z
LAST-MODIFIED:20241003T211418Z
UID:40160-1733337000-1733346000@www.gaylussac.com.br
SUMMARY:Evento de encerramento do Programa Middle Cambridge
DESCRIPTION:Programa Bilíngue Middle – Cambridge
URL:https://www.gaylussac.com.br/event/160-evento-de-encerramento-do-programa-middle-cambridge-2/
LOCATION:Refeitório Gaylussac\, Rua Maria Caldas\, 35 – São Francisco 24365-050 Niterói RJ – Brasil
END:VEVENT
BEGIN:VEVENT
DTSTART;VALUE=DATE:20241205
DTEND;VALUE=DATE:20241214
DTSTAMP:20260423T194707
CREATED:20241003T222258Z
LAST-MODIFIED:20241003T222258Z
UID:41453-1733356800-1734134399@www.gaylussac.com.br
SUMMARY:Avaliações de Recuperação Final 2024 (incluindo sábado 07/12)
DESCRIPTION:2º ao 5º ano do Ensino Fundamental
URL:https://www.gaylussac.com.br/event/avaliacoes-de-recuperacao-final-2024-incluindo-sabado-07-12-2/
LOCATION:Gaylussac\, Rua Maria Caldas\, 35 – São Francisco 24365-050 Niterói RJ – Brasil
END:VEVENT
BEGIN:VEVENT
DTSTART;VALUE=DATE:20241205
DTEND;VALUE=DATE:20241214
DTSTAMP:20260423T194707
CREATED:20241003T222519Z
LAST-MODIFIED:20241003T222519Z
UID:41487-1733356800-1734134399@www.gaylussac.com.br
SUMMARY:Provas de Recuperação Final
DESCRIPTION:
URL:https://www.gaylussac.com.br/event/provas-de-recuperacao-final/
LOCATION:Gaylussac\, Rua Maria Caldas\, 35 – São Francisco 24365-050 Niterói RJ – Brasil
END:VEVENT
BEGIN:VEVENT
DTSTART;VALUE=DATE:20241206
DTEND;VALUE=DATE:20241207
DTSTAMP:20260423T194707
CREATED:20241003T222411Z
LAST-MODIFIED:20241003T222411Z
UID:41471-1733443200-1733529599@www.gaylussac.com.br
SUMMARY:Formatura do Bilíngue Lower
DESCRIPTION:Programa Bilíngue Lower (IEYC/IPC)
URL:https://www.gaylussac.com.br/event/175-formatura-do-bilingue-lower-2/
LOCATION:Gaylussac\, Rua Maria Caldas\, 35 – São Francisco 24365-050 Niterói RJ – Brasil
END:VEVENT
BEGIN:VEVENT
DTSTART;VALUE=DATE:20241210
DTEND;VALUE=DATE:20241211
DTSTAMP:20260423T194707
CREATED:20241003T222329Z
LAST-MODIFIED:20241003T222329Z
UID:40477-1733788800-1733875199@www.gaylussac.com.br
SUMMARY:Encerramento das atividades do CCE
DESCRIPTION:CCE – Clube de Cultura e Esportes
URL:https://www.gaylussac.com.br/event/148-encerramento-das-atividades-do-cce-2-2/
LOCATION:Gaylussac\, Rua Maria Caldas\, 35 – São Francisco 24365-050 Niterói RJ – Brasil
END:VEVENT
BEGIN:VEVENT
DTSTART;VALUE=DATE:20241211
DTEND;VALUE=DATE:20241212
DTSTAMP:20260423T194707
CREATED:20241003T222343Z
LAST-MODIFIED:20241003T222343Z
UID:41460-1733875200-1733961599@www.gaylussac.com.br
SUMMARY:Encerramento do ano letivo do 3º ao 5º ano do Ensino Fundamental
DESCRIPTION:
URL:https://www.gaylussac.com.br/event/150-encerramento-do-ano-letivo-do-3o-ao-5o-ano-do-ensino-fundamental-2/
LOCATION:Gaylussac\, Rua Maria Caldas\, 35 – São Francisco 24365-050 Niterói RJ – Brasil
END:VEVENT
END:VCALENDAR