BEGIN:VCALENDAR
VERSION:2.0
PRODID:-//Instituto GayLussac - ECPv6.15.17.1//NONSGML v1.0//EN
CALSCALE:GREGORIAN
METHOD:PUBLISH
X-WR-CALNAME:Instituto GayLussac
X-ORIGINAL-URL:https://www.gaylussac.com.br
X-WR-CALDESC:Eventos para Instituto GayLussac
REFRESH-INTERVAL;VALUE=DURATION:PT1H
X-Robots-Tag:noindex
X-PUBLISHED-TTL:PT1H
BEGIN:VTIMEZONE
TZID:America/Sao_Paulo
BEGIN:STANDARD
TZOFFSETFROM:-0300
TZOFFSETTO:-0300
TZNAME:-03
DTSTART:20240101T000000
END:STANDARD
END:VTIMEZONE
BEGIN:VEVENT
DTSTART;VALUE=DATE:20250922
DTEND;VALUE=DATE:20250923
DTSTAMP:20260424T105702
CREATED:20250110T163824Z
LAST-MODIFIED:20250110T163914Z
UID:43167-1758499200-1758585599@www.gaylussac.com.br
SUMMARY:Reunião de Pais - Programa Bilíngue Lower - 1° ano do Ensino Fundamental (On-line)
DESCRIPTION:
URL:https://www.gaylussac.com.br/event/reuniao-de-pais-programa-bilingue-lower-1-ano-do-ensino-fundamental-on-line/
END:VEVENT
BEGIN:VEVENT
DTSTART;VALUE=DATE:20250922
DTEND;VALUE=DATE:20250927
DTSTAMP:20260424T105702
CREATED:20250110T161920Z
LAST-MODIFIED:20250110T161920Z
UID:43143-1758499200-1758931199@www.gaylussac.com.br
SUMMARY:Jogos Escolares GayLussac
DESCRIPTION:
URL:https://www.gaylussac.com.br/event/jogos-escolares-gaylussac/
END:VEVENT
BEGIN:VEVENT
DTSTART;VALUE=DATE:20250922
DTEND;VALUE=DATE:20250927
DTSTAMP:20260424T105702
CREATED:20250110T163030Z
LAST-MODIFIED:20250110T163030Z
UID:43157-1758499200-1758931199@www.gaylussac.com.br
SUMMARY:Projeto Leitura Dramatizada - 8º ano do Ensino Fundamental
DESCRIPTION:
URL:https://www.gaylussac.com.br/event/projeto-leitura-dramatizada-8o-ano-do-ensino-fundamental/
LOCATION:Teatro GayLussac\, Rua Maria Caldas\, 35 – São Francisco 24365-050 Niterói RJ – Brasil
END:VEVENT
BEGIN:VEVENT
DTSTART;VALUE=DATE:20250922
DTEND;VALUE=DATE:20251104
DTSTAMP:20260424T105702
CREATED:20250110T155834Z
LAST-MODIFIED:20250110T155834Z
UID:43115-1758499200-1762214399@www.gaylussac.com.br
SUMMARY:Aulas e Avaliações do PRP 02
DESCRIPTION:
URL:https://www.gaylussac.com.br/event/aulas-e-avaliacoes-do-prp-02/
END:VEVENT
BEGIN:VEVENT
DTSTART;TZID=America/Sao_Paulo:20250922T183000
DTEND;TZID=America/Sao_Paulo:20250922T193000
DTSTAMP:20260424T105702
CREATED:20250110T164752Z
LAST-MODIFIED:20250110T164752Z
UID:43183-1758565800-1758569400@www.gaylussac.com.br
SUMMARY:Reunião de Pais - 8º ano do Ensino Fundamental ( Programa Bilíngue Middle - Cambridge)
DESCRIPTION: Sala de aula
URL:https://www.gaylussac.com.br/event/reuniao-de-pais-8o-ano-do-ensino-fundamental-programa-bilingue-middle-cambridge/
LOCATION:Gaylussac\, Rua Maria Caldas\, 35 – São Francisco 24365-050 Niterói RJ – Brasil
END:VEVENT
BEGIN:VEVENT
DTSTART;VALUE=DATE:20250923
DTEND;VALUE=DATE:20250924
DTSTAMP:20260424T105702
CREATED:20250110T164032Z
LAST-MODIFIED:20250110T164032Z
UID:43173-1758585600-1758671999@www.gaylussac.com.br
SUMMARY:Reunião de Pais - Programa Bilíngue Lower - 2° ano do Ensino Fundamental (On-line)
DESCRIPTION:
URL:https://www.gaylussac.com.br/event/reuniao-de-pais-programa-bilingue-lower-2-ano-do-ensino-fundamental-on-line/
END:VEVENT
BEGIN:VEVENT
DTSTART;VALUE=DATE:20250924
DTEND;VALUE=DATE:20250925
DTSTAMP:20260424T105702
CREATED:20250110T164114Z
LAST-MODIFIED:20250110T164114Z
UID:43175-1758672000-1758758399@www.gaylussac.com.br
SUMMARY:Reunião de Pais - Programa Bilíngue Lower - 3° ano do Ensino Fundamental (On-line)
DESCRIPTION:
URL:https://www.gaylussac.com.br/event/reuniao-de-pais-programa-bilingue-lower-3-ano-do-ensino-fundamental-on-line/
END:VEVENT
BEGIN:VEVENT
DTSTART;TZID=America/Sao_Paulo:20250924T183000
DTEND;TZID=America/Sao_Paulo:20250924T200000
DTSTAMP:20260424T105702
CREATED:20250110T164903Z
LAST-MODIFIED:20250110T164903Z
UID:43185-1758738600-1758744000@www.gaylussac.com.br
SUMMARY:Reunião de Pais - 9º ano do Ensino Fundamental ( Programa Bilíngue Upper)
DESCRIPTION:
URL:https://www.gaylussac.com.br/event/reuniao-de-pais-9o-ano-do-ensino-fundamental-programa-bilingue-upper/
END:VEVENT
BEGIN:VEVENT
DTSTART;VALUE=DATE:20250925
DTEND;VALUE=DATE:20250926
DTSTAMP:20260424T105702
CREATED:20250110T164150Z
LAST-MODIFIED:20250110T164150Z
UID:43177-1758758400-1758844799@www.gaylussac.com.br
SUMMARY:Reunião de Pais - Programa Bilíngue Lower - 4° ano do Ensino Fundamental (On-line)
DESCRIPTION:
URL:https://www.gaylussac.com.br/event/reuniao-de-pais-programa-bilingue-lower-4-ano-do-ensino-fundamental-on-line/
END:VEVENT
BEGIN:VEVENT
DTSTART;VALUE=DATE:20250926
DTEND;VALUE=DATE:20250927
DTSTAMP:20260424T105702
CREATED:20250110T155910Z
LAST-MODIFIED:20250110T155910Z
UID:43117-1758844800-1758931199@www.gaylussac.com.br
SUMMARY:Dia Internacional do Bem-estar - Global Be Well Day
DESCRIPTION:
URL:https://www.gaylussac.com.br/event/dia-internacional-do-bem-estar-global-be-well-day/
END:VEVENT
BEGIN:VEVENT
DTSTART;VALUE=DATE:20250926
DTEND;VALUE=DATE:20250927
DTSTAMP:20260424T105702
CREATED:20250110T164253Z
LAST-MODIFIED:20250110T164253Z
UID:43179-1758844800-1758931199@www.gaylussac.com.br
SUMMARY:Reunião de Pais - Programa Bilíngue Lower - 5° ano do Ensino Fundamental (On-line)
DESCRIPTION:
URL:https://www.gaylussac.com.br/event/reuniao-de-pais-programa-bilingue-lower-5-ano-do-ensino-fundamental-on-line/
END:VEVENT
BEGIN:VEVENT
DTSTART;VALUE=DATE:20250927
DTEND;VALUE=DATE:20250928
DTSTAMP:20260424T105702
CREATED:20250110T163121Z
LAST-MODIFIED:20250110T163121Z
UID:43159-1758931200-1759017599@www.gaylussac.com.br
SUMMARY:Jogos Escolares GayLussac
DESCRIPTION:
URL:https://www.gaylussac.com.br/event/jogos-escolares-gaylussac-2/
END:VEVENT
BEGIN:VEVENT
DTSTART;TZID=America/Sao_Paulo:20250929T183000
DTEND;TZID=America/Sao_Paulo:20250929T200000
DTSTAMP:20260424T105702
CREATED:20250110T165054Z
LAST-MODIFIED:20250110T165054Z
UID:43187-1759170600-1759176000@www.gaylussac.com.br
SUMMARY:Reunião de Pais (Pré - IGCSE) - 1ª e 2ª séries do Ensino Médio ( Programa Bilíngue Upper)
DESCRIPTION:
URL:https://www.gaylussac.com.br/event/reuniao-de-pais-pre-igcse-1a-e-2a-series-do-ensino-medio-programa-bilingue-upper/
END:VEVENT
BEGIN:VEVENT
DTSTART;VALUE=DATE:20250930
DTEND;VALUE=DATE:20251001
DTSTAMP:20260424T105702
CREATED:20250110T163221Z
LAST-MODIFIED:20250110T163221Z
UID:43161-1759190400-1759276799@www.gaylussac.com.br
SUMMARY:Envio de boletim de RGL - 1ª\, 2ª e 3ª séries do Ensino Médio
DESCRIPTION: \n\n\n\n\n 
URL:https://www.gaylussac.com.br/event/envio-de-boletim-de-rgl-1a-2a-e-3a-series-do-ensino-medio-3/
END:VEVENT
BEGIN:VEVENT
DTSTART;VALUE=DATE:20251001
DTEND;VALUE=DATE:20251121
DTSTAMP:20260424T105702
CREATED:20250113T161739Z
LAST-MODIFIED:20250113T161739Z
UID:43224-1759276800-1763683199@www.gaylussac.com.br
SUMMARY:Programa Bilíngue Upper - Período das provas de IGCSE
DESCRIPTION:
URL:https://www.gaylussac.com.br/event/programa-bilingue-upper-periodo-das-provas-de-igcse/
END:VEVENT
BEGIN:VEVENT
DTSTART;VALUE=DATE:20251003
DTEND;VALUE=DATE:20251004
DTSTAMP:20260424T105702
CREATED:20250113T160006Z
LAST-MODIFIED:20250113T160006Z
UID:43204-1759449600-1759535999@www.gaylussac.com.br
SUMMARY:GayLussac Seja o Som
DESCRIPTION:6º ano à 3ª série do Ensino Médio
URL:https://www.gaylussac.com.br/event/gaylussac-seja-o-som/
LOCATION:Teatro GayLussac\, Rua Maria Caldas\, 35 – São Francisco 24365-050 Niterói RJ – Brasil
END:VEVENT
BEGIN:VEVENT
DTSTART;VALUE=DATE:20251006
DTEND;VALUE=DATE:20251007
DTSTAMP:20260424T105702
CREATED:20250113T161911Z
LAST-MODIFIED:20250113T161911Z
UID:43226-1759708800-1759795199@www.gaylussac.com.br
SUMMARY:CCE- Início do Campeonato de Futsal
DESCRIPTION:2º ao 6º ano do Ensino Fundamental
URL:https://www.gaylussac.com.br/event/cce-inicio-do-campeonato-de-futsal/
LOCATION:Gaylussac\, Rua Maria Caldas\, 35 – São Francisco 24365-050 Niterói RJ – Brasil
END:VEVENT
BEGIN:VEVENT
DTSTART;VALUE=DATE:20251006
DTEND;VALUE=DATE:20251007
DTSTAMP:20260424T105702
CREATED:20250113T162019Z
LAST-MODIFIED:20250113T162019Z
UID:43228-1759708800-1759795199@www.gaylussac.com.br
SUMMARY:CCE- Início do Campeonato de Handebol
DESCRIPTION:4º e 5º anos do Ensino Fundamental
URL:https://www.gaylussac.com.br/event/cce-inicio-do-campeonato-de-handebol/
LOCATION:Gaylussac\, Rua Maria Caldas\, 35 – São Francisco 24365-050 Niterói RJ – Brasil
END:VEVENT
BEGIN:VEVENT
DTSTART;VALUE=DATE:20251006
DTEND;VALUE=DATE:20251011
DTSTAMP:20260424T105702
CREATED:20250113T155243Z
LAST-MODIFIED:20250113T155243Z
UID:43198-1759708800-1760140799@www.gaylussac.com.br
SUMMARY:Projeto “Brincar de Quê?”
DESCRIPTION:2º ao 5º ano do Ensino Fundamental
URL:https://www.gaylussac.com.br/event/projeto-brincar-de-que/
END:VEVENT
BEGIN:VEVENT
DTSTART;VALUE=DATE:20251007
DTEND;VALUE=DATE:20251008
DTSTAMP:20260424T105702
CREATED:20250113T160240Z
LAST-MODIFIED:20250113T160240Z
UID:43206-1759795200-1759881599@www.gaylussac.com.br
SUMMARY:Projeto Biografia - 6º ano (Manhã)
DESCRIPTION:
URL:https://www.gaylussac.com.br/event/projeto-biografia-6o-ano-manha/
LOCATION:Teatro GayLussac\, Rua Maria Caldas\, 35 – São Francisco 24365-050 Niterói RJ – Brasil
END:VEVENT
BEGIN:VEVENT
DTSTART;VALUE=DATE:20251008
DTEND;VALUE=DATE:20251009
DTSTAMP:20260424T105702
CREATED:20250113T160417Z
LAST-MODIFIED:20250113T160417Z
UID:43208-1759881600-1759967999@www.gaylussac.com.br
SUMMARY:Projeto Biografia - 6º ano (Manhã)
DESCRIPTION:
URL:https://www.gaylussac.com.br/event/projeto-biografia-6o-ano-manha-2/
LOCATION:Teatro GayLussac\, Rua Maria Caldas\, 35 – São Francisco 24365-050 Niterói RJ – Brasil
END:VEVENT
BEGIN:VEVENT
DTSTART;VALUE=DATE:20251010
DTEND;VALUE=DATE:20251011
DTSTAMP:20260424T105702
CREATED:20250113T160519Z
LAST-MODIFIED:20250113T160519Z
UID:43210-1760054400-1760140799@www.gaylussac.com.br
SUMMARY:Projeto Biografia - 6º ano (Manhã)
DESCRIPTION:
URL:https://www.gaylussac.com.br/event/projeto-biografia-6o-ano-manha-3/
LOCATION:Teatro GayLussac\, Rua Maria Caldas\, 35 – São Francisco 24365-050 Niterói RJ – Brasil
END:VEVENT
BEGIN:VEVENT
DTSTART;VALUE=DATE:20251012
DTEND;VALUE=DATE:20251013
DTSTAMP:20260424T105702
CREATED:20250113T154734Z
LAST-MODIFIED:20250113T154734Z
UID:43194-1760227200-1760313599@www.gaylussac.com.br
SUMMARY:Nossa Senhora Aparecida
DESCRIPTION:
URL:https://www.gaylussac.com.br/event/nossa-senhora-aparecida/
END:VEVENT
BEGIN:VEVENT
DTSTART;VALUE=DATE:20251013
DTEND;VALUE=DATE:20251014
DTSTAMP:20260424T105702
CREATED:20250114T122106Z
LAST-MODIFIED:20250114T122106Z
UID:43230-1760313600-1760399999@www.gaylussac.com.br
SUMMARY:CCE- Início do Campeonato de Futsal - Grupo 5 e 1º ano do Ensino Fundamental
DESCRIPTION:
URL:https://www.gaylussac.com.br/event/cce-inicio-do-campeonato-de-futsal-grupo-5-e-1o-ano-do-ensino-fundamental/
LOCATION:Gaylussac\, R. Cel. João Brandão\, 87 - São Francisco\, Niterói - RJ\, 24365-060
END:VEVENT
BEGIN:VEVENT
DTSTART;VALUE=DATE:20251015
DTEND;VALUE=DATE:20251016
DTSTAMP:20260424T105702
CREATED:20250113T154959Z
LAST-MODIFIED:20250113T154959Z
UID:43196-1760486400-1760572799@www.gaylussac.com.br
SUMMARY:Dia do Professor e do Auxiliar de Administração Escolar
DESCRIPTION:Dia livre para os alunos
URL:https://www.gaylussac.com.br/event/dia-do-professor-e-do-auxiliar-de-administracao-escolar/
END:VEVENT
BEGIN:VEVENT
DTSTART;VALUE=DATE:20251020
DTEND;VALUE=DATE:20251025
DTSTAMP:20260424T105702
CREATED:20250113T160717Z
LAST-MODIFIED:20250113T160717Z
UID:43212-1760918400-1761350399@www.gaylussac.com.br
SUMMARY:Projeto Monografia - 9º ano do Ensino Fundamental
DESCRIPTION:
URL:https://www.gaylussac.com.br/event/projeto-monografia-9o-ano-do-ensino-fundamental/
LOCATION:Teatro GayLussac\, Rua Maria Caldas\, 35 – São Francisco 24365-050 Niterói RJ – Brasil
END:VEVENT
BEGIN:VEVENT
DTSTART;TZID=America/Sao_Paulo:20251020T183000
DTEND;TZID=America/Sao_Paulo:20251020T200000
DTSTAMP:20260424T105702
CREATED:20250113T161440Z
LAST-MODIFIED:20250113T161440Z
UID:43220-1760985000-1760990400@www.gaylussac.com.br
SUMMARY:Reunião de Pais - Programa Bilíngue Middle/ Cambridge - 7º ano do Ensino Fundamental
DESCRIPTION:
URL:https://www.gaylussac.com.br/event/reuniao-de-pais-programa-bilingue-middle-cambridge-7o-ano-do-ensino-fundamental/
END:VEVENT
BEGIN:VEVENT
DTSTART;VALUE=DATE:20251024
DTEND;VALUE=DATE:20251025
DTSTAMP:20260424T105702
CREATED:20250113T160844Z
LAST-MODIFIED:20250113T160844Z
UID:43214-1761264000-1761350399@www.gaylussac.com.br
SUMMARY:Encerramento do Projeto de Orientação Profissional - 1ª e 2ª séries do Ensino Médio
DESCRIPTION:
URL:https://www.gaylussac.com.br/event/encerramento-do-projeto-de-orientacao-profissional-1a-e-2a-series-do-ensino-medio-2/
END:VEVENT
BEGIN:VEVENT
DTSTART;VALUE=DATE:20251025
DTEND;VALUE=DATE:20251026
DTSTAMP:20260424T105702
CREATED:20250113T155426Z
LAST-MODIFIED:20250113T155426Z
UID:43200-1761350400-1761436799@www.gaylussac.com.br
SUMMARY:Curiosos por Natureza (culminância)
DESCRIPTION:2º ao 5º ano do Ensino Fundamental
URL:https://www.gaylussac.com.br/event/curiosos-por-natureza-culminancia/
LOCATION:Gaylussac\, Rua Maria Caldas\, 35 – São Francisco 24365-050 Niterói RJ – Brasil
END:VEVENT
BEGIN:VEVENT
DTSTART;VALUE=DATE:20251027
DTEND;VALUE=DATE:20251031
DTSTAMP:20260424T105702
CREATED:20250113T161545Z
LAST-MODIFIED:20250113T161545Z
UID:43222-1761523200-1761868799@www.gaylussac.com.br
SUMMARY:Halloweek
DESCRIPTION:  \nPrograma Bilíngue Lower (IEYC/IPC)
URL:https://www.gaylussac.com.br/event/halloweek-2/
END:VEVENT
END:VCALENDAR