BEGIN:VCALENDAR
VERSION:2.0
PRODID:-//Instituto GayLussac - ECPv6.15.17.1//NONSGML v1.0//EN
CALSCALE:GREGORIAN
METHOD:PUBLISH
X-WR-CALNAME:Instituto GayLussac
X-ORIGINAL-URL:https://www.gaylussac.com.br
X-WR-CALDESC:Eventos para Instituto GayLussac
REFRESH-INTERVAL;VALUE=DURATION:PT1H
X-Robots-Tag:noindex
X-PUBLISHED-TTL:PT1H
BEGIN:VTIMEZONE
TZID:America/Sao_Paulo
BEGIN:STANDARD
TZOFFSETFROM:-0300
TZOFFSETTO:-0300
TZNAME:-03
DTSTART:20230101T000000
END:STANDARD
END:VTIMEZONE
BEGIN:VEVENT
DTSTART;TZID=America/Sao_Paulo:20240529T073000
DTEND;TZID=America/Sao_Paulo:20240604T133000
DTSTAMP:20260421T122211
CREATED:20241003T211534Z
LAST-MODIFIED:20241003T211534Z
UID:41372-1716967800-1717507800@www.gaylussac.com.br
SUMMARY:Inscrições para o PRP 01 - 2º ano do Ensino Fundamental à    2ª série do Ensino Médio
DESCRIPTION:
URL:https://www.gaylussac.com.br/event/190-inscricoes-para-o-prp-01-2o-ano-do-ensino-fundamental-a-2a-serie-do-ensino-medio/
LOCATION:Gaylussac\, Rua Maria Caldas\, 35 – São Francisco 24365-050 Niterói RJ – Brasil
END:VEVENT
BEGIN:VEVENT
DTSTART;TZID=America/Sao_Paulo:20240530T130000
DTEND;TZID=America/Sao_Paulo:20240602T170000
DTSTAMP:20260421T122211
CREATED:20241003T211434Z
LAST-MODIFIED:20241003T211434Z
UID:40162-1717074000-1717347600@www.gaylussac.com.br
SUMMARY:Excursão ao NR1 - 5º e 6º anos do Ensino Fundamental
DESCRIPTION:
URL:https://www.gaylussac.com.br/event/163-excursao-ao-nr1-5o-e-6o-anos-do-ensino-fundamental-2/
LOCATION:Gaylussac\, Rua Maria Caldas\, 35 – São Francisco 24365-050 Niterói RJ – Brasil
END:VEVENT
BEGIN:VEVENT
DTSTART;TZID=America/Sao_Paulo:20240531T073000
DTEND;TZID=America/Sao_Paulo:20240531T130000
DTSTAMP:20260421T122211
CREATED:20241003T222357Z
LAST-MODIFIED:20241003T222357Z
UID:40484-1717140600-1717160400@www.gaylussac.com.br
SUMMARY:Envio de boletim de RGL 1ª\, 2ª e 3ª séries do Ensino Médio
DESCRIPTION:6º ano à 3ª série do Ensino Médio
URL:https://www.gaylussac.com.br/event/158-envio-de-boletim-de-rgl-1a-2a-e-3a-series-do-ensino-medio-2/
LOCATION:Gaylussac\, Rua Maria Caldas\, 35 – São Francisco 24365-050 Niterói RJ – Brasil
END:VEVENT
BEGIN:VEVENT
DTSTART;TZID=America/Sao_Paulo:20240603T070000
DTEND;TZID=America/Sao_Paulo:20240607T130000
DTSTAMP:20260421T122211
CREATED:20241003T235351Z
LAST-MODIFIED:20241003T235351Z
UID:41505-1717398000-1717765200@www.gaylussac.com.br
SUMMARY:Inscrições para o PRP 01 – 3ª série do Ensino Médio
DESCRIPTION:3ª série do Ensino Médio
URL:https://www.gaylussac.com.br/event/191-inscricoes-para-o-prp-01-3a-serie-do-ensino-medio-2/
LOCATION:Gaylussac\, Rua Maria Caldas\, 35 – São Francisco 24365-050 Niterói RJ – Brasil
END:VEVENT
BEGIN:VEVENT
DTSTART;TZID=America/Sao_Paulo:20240603T183000
DTEND;TZID=America/Sao_Paulo:20240603T200000
DTSTAMP:20260421T122211
CREATED:20241003T235425Z
LAST-MODIFIED:20241003T235425Z
UID:40726-1717439400-1717444800@www.gaylussac.com.br
SUMMARY:Reunião de Pais – 6º ano do Ensino Fundamental
DESCRIPTION:Programa Bilíngue Middle – Cambridge
URL:https://www.gaylussac.com.br/event/245-reuniao-de-pais-6o-ano-do-ensino-fundamental-2/
LOCATION:Gaylussac\, Rua Maria Caldas\, 35 – São Francisco 24365-050 Niterói RJ – Brasil
END:VEVENT
BEGIN:VEVENT
DTSTART;TZID=America/Sao_Paulo:20240605T070000
DTEND;TZID=America/Sao_Paulo:20240706T130000
DTSTAMP:20260421T122211
CREATED:20241003T235319Z
LAST-MODIFIED:20241003T235319Z
UID:40705-1717570800-1720270800@www.gaylussac.com.br
SUMMARY:Aulas e Avaliações do PRP 01
DESCRIPTION:
URL:https://www.gaylussac.com.br/event/125-aulas-e-avaliacoes-do-prp-01-2/
LOCATION:Gaylussac\, Rua Maria Caldas\, 35 – São Francisco 24365-050 Niterói RJ – Brasil
END:VEVENT
BEGIN:VEVENT
DTSTART;TZID=America/Sao_Paulo:20240608T070000
DTEND;TZID=America/Sao_Paulo:20240608T170000
DTSTAMP:20260421T122211
CREATED:20241003T211334Z
LAST-MODIFIED:20241003T211334Z
UID:41356-1717830000-1717866000@www.gaylussac.com.br
SUMMARY:Dancinhas Juninas
DESCRIPTION:Educação Infantil e 1º ano do Ensino Fundamental
URL:https://www.gaylussac.com.br/event/141-dancinhas-juninas/
LOCATION:Gaylussac\, Rua Maria Caldas\, 35 – São Francisco 24365-050 Niterói RJ – Brasil
END:VEVENT
BEGIN:VEVENT
DTSTART;TZID=America/Sao_Paulo:20240608T073000
DTEND;TZID=America/Sao_Paulo:20240608T170000
DTSTAMP:20260421T122211
CREATED:20241003T211603Z
LAST-MODIFIED:20241003T211603Z
UID:40192-1717831800-1717866000@www.gaylussac.com.br
SUMMARY:Olimpíada GayLussac
DESCRIPTION:
URL:https://www.gaylussac.com.br/event/199-olimpiada-gaylussac-2/
LOCATION:Gaylussac\, Rua Maria Caldas\, 35 – São Francisco 24365-050 Niterói RJ – Brasil
END:VEVENT
BEGIN:VEVENT
DTSTART;TZID=America/Sao_Paulo:20240610T073000
DTEND;TZID=America/Sao_Paulo:20240610T130000
DTSTAMP:20260421T122211
CREATED:20241003T211503Z
LAST-MODIFIED:20241003T211503Z
UID:40173-1718004600-1718024400@www.gaylussac.com.br
SUMMARY:Fórum 9º ano do Ensino Fundamental (Simulação ONU Mirim)
DESCRIPTION:
URL:https://www.gaylussac.com.br/event/176-forum-9o-ano-do-ensino-fundamental-simulacao-onu-mirim-2/
LOCATION:Gaylussac\, Rua Maria Caldas\, 35 – São Francisco 24365-050 Niterói RJ – Brasil
END:VEVENT
BEGIN:VEVENT
DTSTART;TZID=America/Sao_Paulo:20240610T073000
DTEND;TZID=America/Sao_Paulo:20240614T170000
DTSTAMP:20260421T122211
CREATED:20241003T212003Z
LAST-MODIFIED:20241003T212003Z
UID:41439-1718004600-1718384400@www.gaylussac.com.br
SUMMARY:Semana de Humanidades
DESCRIPTION:
URL:https://www.gaylussac.com.br/event/297-semana-de-humanidades/
LOCATION:Gaylussac\, Rua Maria Caldas\, 35 – São Francisco 24365-050 Niterói RJ – Brasil
END:VEVENT
BEGIN:VEVENT
DTSTART;TZID=America/Sao_Paulo:20240610T183000
DTEND;TZID=America/Sao_Paulo:20240610T200000
DTSTAMP:20260421T122211
CREATED:20241003T211818Z
LAST-MODIFIED:20241003T211818Z
UID:40238-1718044200-1718049600@www.gaylussac.com.br
SUMMARY:Reunião de Pais - 8º ano do Ensino Fundamental
DESCRIPTION:Programa Bilíngue Middle Cambrigde (IEYC/IPC)
URL:https://www.gaylussac.com.br/event/254-reuniao-de-pais-8o-ano-do-ensino-fundamental-2/
LOCATION:Gaylussac\, Rua Maria Caldas\, 35 – São Francisco 24365-050 Niterói RJ – Brasil
END:VEVENT
BEGIN:VEVENT
DTSTART;TZID=America/Sao_Paulo:20240610T183000
DTEND;TZID=America/Sao_Paulo:20240610T200000
DTSTAMP:20260421T122211
CREATED:20241003T235436Z
LAST-MODIFIED:20241003T235436Z
UID:40727-1718044200-1718049600@www.gaylussac.com.br
SUMMARY:Reunião de Pais – 9º ano do Ensino Fundamental
DESCRIPTION:Programa Bilíngue Upper
URL:https://www.gaylussac.com.br/event/257-reuniao-de-pais-9o-ano-do-ensino-fundamental-2/
LOCATION:Gaylussac\, Rua Maria Caldas\, 35 – São Francisco 24365-050 Niterói RJ – Brasil
END:VEVENT
BEGIN:VEVENT
DTSTART;TZID=America/Sao_Paulo:20240613T183000
DTEND;TZID=America/Sao_Paulo:20240613T200000
DTSTAMP:20260421T122211
CREATED:20241004T000357Z
LAST-MODIFIED:20241004T000357Z
UID:41516-1718303400-1718308800@www.gaylussac.com.br
SUMMARY:Palestra para Pais interessados nos Projetos Bilíngues da Escola (Bilíngue Lower\, Middle e Bilíngue Upper)
DESCRIPTION:
URL:https://www.gaylussac.com.br/event/203-palestra-para-pais-interessados-nos-projetos-bilingues-da-escola-bilingue-lower-middle-e-bilingue-upper-2/
LOCATION:Gaylussac\, Rua Maria Caldas\, 35 – São Francisco 24365-050 Niterói RJ – Brasil
END:VEVENT
BEGIN:VEVENT
DTSTART;TZID=America/Sao_Paulo:20240617T183000
DTEND;TZID=America/Sao_Paulo:20240617T200000
DTSTAMP:20260421T122211
CREATED:20241003T211803Z
LAST-MODIFIED:20241003T211803Z
UID:40234-1718649000-1718654400@www.gaylussac.com.br
SUMMARY:Reunião de Pais - 7º ano do Ensino Fundamental
DESCRIPTION:Programa Bilíngue Middle Cambrigde (IEYC/IPC)
URL:https://www.gaylussac.com.br/event/249-reuniao-de-pais-7o-ano-do-ensino-fundamental-2/
LOCATION:Gaylussac\, Rua Maria Caldas\, 35 – São Francisco 24365-050 Niterói RJ – Brasil
END:VEVENT
BEGIN:VEVENT
DTSTART;TZID=America/Sao_Paulo:20240624T000000
DTEND;TZID=America/Sao_Paulo:20240624T000000
DTSTAMP:20260421T122211
CREATED:20241003T212002Z
LAST-MODIFIED:20241003T212002Z
UID:41436-1719187200-1719187200@www.gaylussac.com.br
SUMMARY:São João
DESCRIPTION:
URL:https://www.gaylussac.com.br/event/294-sao-joao/
LOCATION:Gaylussac\, Rua Maria Caldas\, 35 – São Francisco 24365-050 Niterói RJ – Brasil
END:VEVENT
BEGIN:VEVENT
DTSTART;TZID=America/Sao_Paulo:20240627T073000
DTEND;TZID=America/Sao_Paulo:20240627T170000
DTSTAMP:20260421T122211
CREATED:20241003T222228Z
LAST-MODIFIED:20241003T222228Z
UID:40462-1719473400-1719507600@www.gaylussac.com.br
SUMMARY:AFE 02 - 3ª Série do Ensino Médio
DESCRIPTION:
URL:https://www.gaylussac.com.br/event/119-afe-02-3a-serie-do-ensino-medio-2/
LOCATION:Gaylussac\, Rua Maria Caldas\, 35 – São Francisco 24365-050 Niterói RJ – Brasil
END:VEVENT
BEGIN:VEVENT
DTSTART;TZID=America/Sao_Paulo:20240629T070000
DTEND;TZID=America/Sao_Paulo:20240629T170000
DTSTAMP:20260421T122211
CREATED:20241003T211248Z
LAST-MODIFIED:20241003T211248Z
UID:41345-1719644400-1719680400@www.gaylussac.com.br
SUMMARY:Arraiá Be Well
DESCRIPTION:
URL:https://www.gaylussac.com.br/event/124-arraia-be-well/
LOCATION:Gaylussac\, Rua Maria Caldas\, 35 – São Francisco 24365-050 Niterói RJ – Brasil
END:VEVENT
BEGIN:VEVENT
DTSTART;TZID=America/Sao_Paulo:20240701T073000
DTEND;TZID=America/Sao_Paulo:20240701T170000
DTSTAMP:20260421T122211
CREATED:20241003T211703Z
LAST-MODIFIED:20241003T211703Z
UID:40213-1719819000-1719853200@www.gaylussac.com.br
SUMMARY:Reunião de Pais - 1ª série do Ensino Médio
DESCRIPTION:Programa Bilíngue Upper
URL:https://www.gaylussac.com.br/event/224-reuniao-de-pais-1a-serie-do-ensino-medio-2/
LOCATION:Gaylussac\, Rua Maria Caldas\, 35 – São Francisco 24365-050 Niterói RJ – Brasil
END:VEVENT
BEGIN:VEVENT
DTSTART;TZID=America/Sao_Paulo:20240701T073000
DTEND;TZID=America/Sao_Paulo:20240712T170000
DTSTAMP:20260421T122211
CREATED:20241003T211948Z
LAST-MODIFIED:20241003T211948Z
UID:41435-1719819000-1720803600@www.gaylussac.com.br
SUMMARY:Reunião devolutiva Avaliações Evolucional aos responsáveis - Ensino Fundamental e Ensino Médio
DESCRIPTION:
URL:https://www.gaylussac.com.br/event/292-reuniao-devolutiva-avaliacoes-evolucional-aos-responsaveis-ensino-fundamental-e-ensino-medio/
LOCATION:Gaylussac\, Rua Maria Caldas\, 35 – São Francisco 24365-050 Niterói RJ – Brasil
END:VEVENT
BEGIN:VEVENT
DTSTART;TZID=America/Sao_Paulo:20240704T073000
DTEND;TZID=America/Sao_Paulo:20240704T170000
DTSTAMP:20260421T122211
CREATED:20241003T211247Z
LAST-MODIFIED:20241003T211247Z
UID:41343-1720078200-1720112400@www.gaylussac.com.br
SUMMARY:AFE 02 - 3ª Série do Ensino Médio
DESCRIPTION:
URL:https://www.gaylussac.com.br/event/120-afe-02-3a-serie-do-ensino-medio/
LOCATION:Gaylussac\, Rua Maria Caldas\, 35 – São Francisco 24365-050 Niterói RJ – Brasil
END:VEVENT
BEGIN:VEVENT
DTSTART;TZID=America/Sao_Paulo:20240709T183000
DTEND;TZID=America/Sao_Paulo:20240709T200000
DTSTAMP:20260421T122211
CREATED:20241003T211217Z
LAST-MODIFIED:20241003T211217Z
UID:41339-1720549800-1720555200@www.gaylussac.com.br
SUMMARY:3ª Entrega de Emblema da Capoeira
DESCRIPTION:CCE – Clube de Cultura e Esportes
URL:https://www.gaylussac.com.br/event/109-3a-entrega-de-emblema-da-capoeira/
LOCATION:Gaylussac\, Rua Maria Caldas\, 35 – São Francisco 24365-050 Niterói RJ – Brasil
END:VEVENT
BEGIN:VEVENT
DTSTART;TZID=America/Sao_Paulo:20240711T073000
DTEND;TZID=America/Sao_Paulo:20240711T170000
DTSTAMP:20260421T122211
CREATED:20241003T211248Z
LAST-MODIFIED:20241003T211248Z
UID:41344-1720683000-1720717200@www.gaylussac.com.br
SUMMARY:AFE 02 - 3ª Série do Ensino Médio
DESCRIPTION:
URL:https://www.gaylussac.com.br/event/121-afe-02-3a-serie-do-ensino-medio/
LOCATION:Gaylussac\, Rua Maria Caldas\, 35 – São Francisco 24365-050 Niterói RJ – Brasil
END:VEVENT
BEGIN:VEVENT
DTSTART;TZID=America/Sao_Paulo:20240729T073000
DTEND;TZID=America/Sao_Paulo:20240729T170000
DTSTAMP:20260421T122211
CREATED:20241003T211652Z
LAST-MODIFIED:20241003T211652Z
UID:40210-1722238200-1722272400@www.gaylussac.com.br
SUMMARY:Retorno das aulas
DESCRIPTION:
URL:https://www.gaylussac.com.br/event/220-retorno-das-aulas-2/
LOCATION:Gaylussac\, Rua Maria Caldas\, 35 – São Francisco 24365-050 Niterói RJ – Brasil
END:VEVENT
BEGIN:VEVENT
DTSTART;TZID=America/Sao_Paulo:20240805T183000
DTEND;TZID=America/Sao_Paulo:20240805T200000
DTSTAMP:20260421T122211
CREATED:20241003T211603Z
LAST-MODIFIED:20241003T211603Z
UID:40195-1722882600-1722888000@www.gaylussac.com.br
SUMMARY:Palestra para PAIS do 8º ano do Ensino Fundamental   (apresentação do Programa Bilíngue Upper)
DESCRIPTION:Programa Bilíngue Upper
URL:https://www.gaylussac.com.br/event/202-palestra-para-pais-do-8o-ano-do-ensino-fundamental-apresentacao-do-programa-bilingue-upper-2/
LOCATION:Teatro GayLussac\, Rua Maria Caldas\, 35 – São Francisco 24365-050 Niterói RJ – Brasil
END:VEVENT
BEGIN:VEVENT
DTSTART;TZID=America/Sao_Paulo:20240806T072000
DTEND;TZID=America/Sao_Paulo:20240806T100000
DTSTAMP:20260421T122211
CREATED:20241003T211603Z
LAST-MODIFIED:20241003T211603Z
UID:40193-1722928800-1722938400@www.gaylussac.com.br
SUMMARY:Palestra para ALUNOS do 8º ano do Ensino Fundamental    (apresentação do Programa Bilíngue Upper)
DESCRIPTION:Programa Bilíngue Upper
URL:https://www.gaylussac.com.br/event/200-palestra-para-alunos-do-8o-ano-do-ensino-fundamental-apresentacao-do-programa-bilingue-upper-2/
LOCATION:Teatro GayLussac\, Rua Maria Caldas\, 35 – São Francisco 24365-050 Niterói RJ – Brasil
END:VEVENT
BEGIN:VEVENT
DTSTART;TZID=America/Sao_Paulo:20240806T102000
DTEND;TZID=America/Sao_Paulo:20240806T120000
DTSTAMP:20260421T122211
CREATED:20241003T211648Z
LAST-MODIFIED:20241003T211648Z
UID:40207-1722939600-1722945600@www.gaylussac.com.br
SUMMARY:Prova Diagnóstica de Inglês
DESCRIPTION:Programa Bilíngue Upper
URL:https://www.gaylussac.com.br/event/217-prova-diagnostica-de-ingles-2/
LOCATION:Gaylussac\, R. Cel. João Brandão\, 87 - São Francisco\, Niterói - RJ\, 24365-060
END:VEVENT
BEGIN:VEVENT
DTSTART;TZID=America/Sao_Paulo:20240807T183000
DTEND;TZID=America/Sao_Paulo:20240807T200000
DTSTAMP:20260421T122211
CREATED:20241003T211603Z
LAST-MODIFIED:20241003T211603Z
UID:40194-1723055400-1723060800@www.gaylussac.com.br
SUMMARY:Palestra para Pais do 5º ano do Ensino Fundamental
DESCRIPTION:Apresentação do Programa Middle
URL:https://www.gaylussac.com.br/event/201-palestra-para-pais-do-5o-ano-do-ensino-fundamental-2/
LOCATION:Teatro GayLussac\, Rua Maria Caldas\, 35 – São Francisco 24365-050 Niterói RJ – Brasil
END:VEVENT
BEGIN:VEVENT
DTSTART;VALUE=DATE:20240817
DTEND;VALUE=DATE:20240818
DTSTAMP:20260421T122211
CREATED:20241003T222359Z
LAST-MODIFIED:20241003T222359Z
UID:41467-1723852800-1723939199@www.gaylussac.com.br
SUMMARY:Evento para a família Grupo 1 ao 1º ano do Ensino Fundamental
DESCRIPTION:Grupo 1 ao 1º ano do Ensino Fundamental
URL:https://www.gaylussac.com.br/event/evento-para-a-familia-grupo-1-ao-1o-ano-do-ensino-fundamental-2/
LOCATION:Gaylussac\, Rua Maria Caldas\, 35 – São Francisco 24365-050 Niterói RJ – Brasil
END:VEVENT
BEGIN:VEVENT
DTSTART;TZID=America/Sao_Paulo:20240821T073000
DTEND;TZID=America/Sao_Paulo:20240904T130000
DTSTAMP:20260421T122211
CREATED:20241004T140857Z
LAST-MODIFIED:20241004T140857Z
UID:42202-1724225400-1725454800@www.gaylussac.com.br
SUMMARY:Fechamento do Ciclo de Avaliações da 2ª etapa - AFE 02 - (incluindo SÁBADO 24)
DESCRIPTION:2º ao 5º ano do Ensino Fundamental
URL:https://www.gaylussac.com.br/event/fechamento-do-ciclo-de-avaliacoes-da-2a-etapa-afe-02-incluindo-sabado-24/
LOCATION:Gaylussac\, Rua Maria Caldas\, 35 – São Francisco 24365-050 Niterói RJ – Brasil
END:VEVENT
BEGIN:VEVENT
DTSTART;TZID=America/Sao_Paulo:20240821T133000
DTEND;TZID=America/Sao_Paulo:20240904T180000
DTSTAMP:20260421T122211
CREATED:20241003T211434Z
LAST-MODIFIED:20241003T211434Z
UID:40165-1724247000-1725472800@www.gaylussac.com.br
SUMMARY:Fechamento do Ciclo de Avaliações da 2ª etapa - AFE 02 - (incluindo SÁBADO 24)
DESCRIPTION:2º ao 5º ano do Ensino Fundamental
URL:https://www.gaylussac.com.br/event/fechamento-do-ciclo-de-avaliacoes-da-2a-etapa-afe-02-incluindo-sabado-24-2/
LOCATION:Gaylussac\, Rua Maria Caldas\, 35 – São Francisco 24365-050 Niterói RJ – Brasil
END:VEVENT
END:VCALENDAR