BEGIN:VCALENDAR
VERSION:2.0
PRODID:-//Instituto GayLussac - ECPv6.15.17.1//NONSGML v1.0//EN
CALSCALE:GREGORIAN
METHOD:PUBLISH
X-WR-CALNAME:Instituto GayLussac
X-ORIGINAL-URL:https://www.gaylussac.com.br
X-WR-CALDESC:Eventos para Instituto GayLussac
REFRESH-INTERVAL;VALUE=DURATION:PT1H
X-Robots-Tag:noindex
X-PUBLISHED-TTL:PT1H
BEGIN:VTIMEZONE
TZID:America/Sao_Paulo
BEGIN:STANDARD
TZOFFSETFROM:-0300
TZOFFSETTO:-0300
TZNAME:-03
DTSTART:20230101T000000
END:STANDARD
END:VTIMEZONE
BEGIN:VEVENT
DTSTART;TZID=America/Sao_Paulo:20240205T070000
DTEND;TZID=America/Sao_Paulo:20240205T235900
DTSTAMP:20260421T131923
CREATED:20241003T211518Z
LAST-MODIFIED:20241003T211518Z
UID:41368-1707116400-1707177540@www.gaylussac.com.br
SUMMARY:Início das aulas - Apresentação do Sistema de Multiavaliações para NOVOS ALUNOS - Reunião Alunos
DESCRIPTION:
URL:https://www.gaylussac.com.br/event/181-inicio-das-aulas-apresentacao-do-sistema-de-multiavaliacoes-para-novos-alunos-reuniao-alunos/
LOCATION:Gaylussac\, Rua Maria Caldas\, 35 – São Francisco 24365-050 Niterói RJ – Brasil
END:VEVENT
BEGIN:VEVENT
DTSTART;TZID=America/Sao_Paulo:20240205T070000
DTEND;TZID=America/Sao_Paulo:20240209T130000
DTSTAMP:20260421T131923
CREATED:20241003T235405Z
LAST-MODIFIED:20241003T235405Z
UID:41513-1707116400-1707483600@www.gaylussac.com.br
SUMMARY:Reunião Alunos – Apresentação do Sistema de Multiavaliações para NOVOS ALUNOS
DESCRIPTION:
URL:https://www.gaylussac.com.br/event/221-reuniao-alunos-apresentacao-do-sistema-de-multiavaliacoes-para-novos-alunos-2/
LOCATION:Gaylussac\, Rua Maria Caldas\, 35 – São Francisco 24365-050 Niterói RJ – Brasil
END:VEVENT
BEGIN:VEVENT
DTSTART;TZID=America/Sao_Paulo:20240205T173000
DTEND;TZID=America/Sao_Paulo:20240205T210000
DTSTAMP:20260421T131923
CREATED:20241003T222417Z
LAST-MODIFIED:20241003T222417Z
UID:41473-1707154200-1707166800@www.gaylussac.com.br
SUMMARY:Início das atividades do Clube de Cultura e Esportes (CCE)\, inclusive para Educação Infantil
DESCRIPTION:Início das atividades do Clube de Cultura e Esportes (CCE)\, inclusive para Educação Infantil
URL:https://www.gaylussac.com.br/event/180-inicio-das-atividades-do-clube-de-cultura-e-esportes-cce-inclusive-para-educacao-infantil/
LOCATION:Gaylussac\, Rua Maria Caldas\, 35 – São Francisco 24365-050 Niterói RJ – Brasil
END:VEVENT
BEGIN:VEVENT
DTSTART;TZID=America/Sao_Paulo:20240205T190000
DTEND;TZID=America/Sao_Paulo:20240205T210000
DTSTAMP:20260421T131923
CREATED:20241003T211918Z
LAST-MODIFIED:20241003T211918Z
UID:41425-1707159600-1707166800@www.gaylussac.com.br
SUMMARY:Reunião de Pais (Novos e Antigos) - 6º  ano (Biblioteca) e 8º ano (Teatro) do Ensino Fundamental - 18h30min
DESCRIPTION:6º  ano (Biblioteca) e 8º ano (Teatro) do Ensino Fundamental
URL:https://www.gaylussac.com.br/event/280-reuniao-de-pais-novos-e-antigos-6o-ano-biblioteca-e-8o-ano-teatro-do-ensino-fundamental-18h30min/
LOCATION:Gaylussac\, Rua Maria Caldas\, 35 – São Francisco 24365-050 Niterói RJ – Brasil
END:VEVENT
BEGIN:VEVENT
DTSTART;TZID=America/Sao_Paulo:20240206T083000
DTEND;TZID=America/Sao_Paulo:20240206T100000
DTSTAMP:20260421T131923
CREATED:20241003T235456Z
LAST-MODIFIED:20241003T235456Z
UID:41514-1707208200-1707213600@www.gaylussac.com.br
SUMMARY:Reunião para TODOS os pais Projeto Bilíngue Lower – online
DESCRIPTION:Período de Reunião de Pais do Projeto Bilíngue – Salas de Aula: Student-Led-Conference
URL:https://www.gaylussac.com.br/event/293-reuniao-para-todos-os-pais-projeto-bilingue-lower-online-2/
LOCATION:Gaylussac\, Rua Maria Caldas\, 35 – São Francisco 24365-050 Niterói RJ – Brasil
END:VEVENT
BEGIN:VEVENT
DTSTART;TZID=America/Sao_Paulo:20240206T190000
DTEND;TZID=America/Sao_Paulo:20240206T210000
DTSTAMP:20260421T131923
CREATED:20241003T211703Z
LAST-MODIFIED:20241003T211703Z
UID:40215-1707246000-1707253200@www.gaylussac.com.br
SUMMARY:Reunião de Pais - 1º ano do Ensino Fundamental
DESCRIPTION:Proposta Pedagógica e Projetos para 2024: Reunião de Pais – 1º ano do Ensino Fundamental
URL:https://www.gaylussac.com.br/event/226-reuniao-de-pais-1o-ano-do-ensino-fundamental-2/
LOCATION:Gaylussac\, Rua Maria Caldas\, 35 – São Francisco 24365-050 Niterói RJ – Brasil
END:VEVENT
BEGIN:VEVENT
DTSTART;TZID=America/Sao_Paulo:20240207T183000
DTEND;TZID=America/Sao_Paulo:20240207T210000
DTSTAMP:20260421T131923
CREATED:20241003T211803Z
LAST-MODIFIED:20241003T211803Z
UID:40232-1707330600-1707339600@www.gaylussac.com.br
SUMMARY:Reunião de Pais - 6º ano do Ensino Fundamental Programa Bilíngue Middle - Cambridge  
DESCRIPTION:Programa Bilíngue Middle – Cambridge
URL:https://www.gaylussac.com.br/event/247-reuniao-de-pais-6o-ano-do-ensino-fundamental-programa-bilingue-middle-cambridge-2/
LOCATION:Gaylussac\, Rua Maria Caldas\, 35 – São Francisco 24365-050 Niterói RJ – Brasil
END:VEVENT
BEGIN:VEVENT
DTSTART;TZID=America/Sao_Paulo:20240207T190000
DTEND;TZID=America/Sao_Paulo:20240207T210000
DTSTAMP:20260421T131923
CREATED:20241003T211734Z
LAST-MODIFIED:20241003T211734Z
UID:41395-1707332400-1707339600@www.gaylussac.com.br
SUMMARY:Reunião de Pais - 2º e 3º anos do Ensino Fundamental - com a participação de Professores regentes e especializados
DESCRIPTION:2º ao 5º ano do Ensino Fundamental
URL:https://www.gaylussac.com.br/event/234-reuniao-de-pais-2o-e-3o-anos-do-ensino-fundamental-com-a-participacao-de-professores-regentes-e-especializados/
LOCATION:Gaylussac\, Rua Maria Caldas\, 35 – São Francisco 24365-050 Niterói RJ – Brasil
END:VEVENT
BEGIN:VEVENT
DTSTART;TZID=America/Sao_Paulo:20240208T190000
DTEND;TZID=America/Sao_Paulo:20240208T210000
DTSTAMP:20260421T131923
CREATED:20241003T211748Z
LAST-MODIFIED:20241003T211748Z
UID:41400-1707418800-1707426000@www.gaylussac.com.br
SUMMARY:Reunião de Pais - 4º e 5º anos do Ensino Fundamental - com a participação de Professores regentes e especializados
DESCRIPTION:2º ao 5º ano do Ensino Fundamental
URL:https://www.gaylussac.com.br/event/241-reuniao-de-pais-4o-e-5o-anos-do-ensino-fundamental-com-a-participacao-de-professores-regentes-e-especializados/
LOCATION:Gaylussac\, Rua Maria Caldas\, 35 – São Francisco 24365-050 Niterói RJ – Brasil
END:VEVENT
BEGIN:VEVENT
DTSTART;TZID=America/Sao_Paulo:20240213T000000
DTEND;TZID=America/Sao_Paulo:20240213T235900
DTSTAMP:20260421T131923
CREATED:20241003T211318Z
LAST-MODIFIED:20241003T211318Z
UID:41353-1707782400-1707868740@www.gaylussac.com.br
SUMMARY:Carnaval
DESCRIPTION:
URL:https://www.gaylussac.com.br/event/136-carnaval/
LOCATION:Gaylussac\, Rua Maria Caldas\, 35 – São Francisco 24365-050 Niterói RJ – Brasil
END:VEVENT
BEGIN:VEVENT
DTSTART;TZID=America/Sao_Paulo:20240219T190000
DTEND;TZID=America/Sao_Paulo:20240219T210000
DTSTAMP:20260421T131923
CREATED:20241003T235437Z
LAST-MODIFIED:20241003T235437Z
UID:40730-1708369200-1708376400@www.gaylussac.com.br
SUMMARY:Reunião de Pais – Grupo 5
DESCRIPTION:Educação Infantil e 1º ano do Ensino Fundamental
URL:https://www.gaylussac.com.br/event/275-reuniao-de-pais-grupo-5-2/
LOCATION:Gaylussac\, Rua Maria Caldas\, 35 – São Francisco 24365-050 Niterói RJ – Brasil
END:VEVENT
BEGIN:VEVENT
DTSTART;TZID=America/Sao_Paulo:20240220T190000
DTEND;TZID=America/Sao_Paulo:20240220T210000
DTSTAMP:20260421T131923
CREATED:20241003T211903Z
LAST-MODIFIED:20241003T211903Z
UID:41420-1708455600-1708462800@www.gaylussac.com.br
SUMMARY:Reunião de Pais - Grupo 4
DESCRIPTION:Educação Infantil e 1º ano do Ensino Fundamental
URL:https://www.gaylussac.com.br/event/273-reuniao-de-pais-grupo-4/
LOCATION:Gaylussac\, Rua Maria Caldas\, 35 – São Francisco 24365-050 Niterói RJ – Brasil
END:VEVENT
BEGIN:VEVENT
DTSTART;TZID=America/Sao_Paulo:20240221T190000
DTEND;TZID=America/Sao_Paulo:20240221T210000
DTSTAMP:20260421T131923
CREATED:20241003T235437Z
LAST-MODIFIED:20241003T235437Z
UID:40729-1708542000-1708549200@www.gaylussac.com.br
SUMMARY:Reunião de Pais – Grupo 3
DESCRIPTION:Educação Infantil e 1º ano do Ensino Fundamental
URL:https://www.gaylussac.com.br/event/269-reuniao-de-pais-grupo-3-2/
LOCATION:Gaylussac\, Rua Maria Caldas\, 35 – São Francisco 24365-050 Niterói RJ – Brasil
END:VEVENT
BEGIN:VEVENT
DTSTART;TZID=America/Sao_Paulo:20240222T190000
DTEND;TZID=America/Sao_Paulo:20240222T210000
DTSTAMP:20260421T131923
CREATED:20241003T211848Z
LAST-MODIFIED:20241003T211848Z
UID:40248-1708628400-1708635600@www.gaylussac.com.br
SUMMARY:Reunião de Pais - Grupo 2
DESCRIPTION:Educação Infantil e 1º ano do Ensino Fundamental
URL:https://www.gaylussac.com.br/event/266-reuniao-de-pais-grupo-2-2/
LOCATION:Gaylussac\, Rua Maria Caldas\, 35 – São Francisco 24365-050 Niterói RJ – Brasil
END:VEVENT
BEGIN:VEVENT
DTSTART;TZID=America/Sao_Paulo:20240226T183000
DTEND;TZID=America/Sao_Paulo:20240226T210000
DTSTAMP:20260421T131923
CREATED:20241003T211834Z
LAST-MODIFIED:20241003T211834Z
UID:41412-1708972200-1708981200@www.gaylussac.com.br
SUMMARY:Reunião de Pais - 9º ano do Ensino Fundamental (Teatro e 2ª série do Ensino Médio (biblioteca)
DESCRIPTION:6º ano à 3ª série do Ensino Médio
URL:https://www.gaylussac.com.br/event/259-reuniao-de-pais-9o-ano-do-ensino-fundamental-teatro-e-2a-serie-do-ensino-medio-biblioteca/
LOCATION:Gaylussac\, Rua Maria Caldas\, 35 – São Francisco 24365-050 Niterói RJ – Brasil
END:VEVENT
BEGIN:VEVENT
DTSTART;TZID=America/Sao_Paulo:20240227T190000
DTEND;TZID=America/Sao_Paulo:20240227T210000
DTSTAMP:20260421T131923
CREATED:20241003T211834Z
LAST-MODIFIED:20241003T211834Z
UID:41415-1709060400-1709067600@www.gaylussac.com.br
SUMMARY:Reunião de Pais - Grupo 1
DESCRIPTION:Educação Infantil e 1º ano do Ensino Fundamental
URL:https://www.gaylussac.com.br/event/262-reuniao-de-pais-grupo-1/
LOCATION:Gaylussac\, Rua Maria Caldas\, 35 – São Francisco 24365-050 Niterói RJ – Brasil
END:VEVENT
BEGIN:VEVENT
DTSTART;TZID=America/Sao_Paulo:20240228T183000
DTEND;TZID=America/Sao_Paulo:20240228T210000
DTSTAMP:20260421T131923
CREATED:20241003T211214Z
LAST-MODIFIED:20241003T211214Z
UID:40112-1709145000-1709154000@www.gaylussac.com.br
SUMMARY:Reunião de Pais - 2ª série do Ensino médio
DESCRIPTION:Programa Bilíngue Upper    Reunião de Pais – 2ª série do Ensino médio – 18h30min
URL:https://www.gaylussac.com.br/event/103-reuniao-de-pais-2a-serie-do-ensino-medio-2/
LOCATION:Gaylussac\, Rua Maria Caldas\, 35 – São Francisco 24365-050 Niterói RJ – Brasil
END:VEVENT
BEGIN:VEVENT
DTSTART;TZID=America/Sao_Paulo:20240301T070000
DTEND;TZID=America/Sao_Paulo:20240301T170000
DTSTAMP:20260421T131923
CREATED:20241003T212018Z
LAST-MODIFIED:20241003T212018Z
UID:40278-1709276400-1709312400@www.gaylussac.com.br
SUMMARY:World Book Day
DESCRIPTION:
URL:https://www.gaylussac.com.br/event/302-world-book-day-2/
LOCATION:Gaylussac\, Rua Maria Caldas\, 35 – São Francisco 24365-050 Niterói RJ – Brasil
END:VEVENT
BEGIN:VEVENT
DTSTART;TZID=America/Sao_Paulo:20240306T190000
DTEND;TZID=America/Sao_Paulo:20240306T190000
DTSTAMP:20260421T131923
CREATED:20241003T235437Z
LAST-MODIFIED:20241003T235437Z
UID:41524-1709751600-1709751600@www.gaylussac.com.br
SUMMARY:Reunião de Pais – Grupo 1
DESCRIPTION:Educação Infantil e 1º ano do Ensino Fundamental
URL:https://www.gaylussac.com.br/event/263-reuniao-de-pais-grupo-1/
LOCATION:Gaylussac\, Rua Maria Caldas\, 35 – São Francisco 24365-050 Niterói RJ – Brasil
END:VEVENT
BEGIN:VEVENT
DTSTART;TZID=America/Sao_Paulo:20240311T070000
DTEND;TZID=America/Sao_Paulo:20240311T130000
DTSTAMP:20260421T131923
CREATED:20241003T211533Z
LAST-MODIFIED:20241003T211533Z
UID:41369-1710140400-1710162000@www.gaylussac.com.br
SUMMARY:Início do Projeto de Orientação Profissional - 1ª e 2ª séries do Ensino Médio
DESCRIPTION:Início do Projeto de Orientação Profissional – 1ª e 2ª séries do Ensino Médio
URL:https://www.gaylussac.com.br/event/186-inicio-do-projeto-de-orientacao-profissional-1a-e-2a-series-do-ensino-medio/
LOCATION:Gaylussac\, Rua Maria Caldas\, 35 – São Francisco 24365-050 Niterói RJ – Brasil
END:VEVENT
BEGIN:VEVENT
DTSTART;TZID=America/Sao_Paulo:20240311T183000
DTEND;TZID=America/Sao_Paulo:20240311T200000
DTSTAMP:20260421T131923
CREATED:20241004T000357Z
LAST-MODIFIED:20241004T000357Z
UID:40764-1710181800-1710187200@www.gaylussac.com.br
SUMMARY:Reunião de Pais – 7º ano do Ensino Fundamental – Biblioteca
DESCRIPTION:Programa Bilíngue Middle – Cambridge
URL:https://www.gaylussac.com.br/event/251-reuniao-de-pais-7o-ano-do-ensino-fundamental-biblioteca-2/
LOCATION:Gaylussac\, Rua Maria Caldas\, 35 – São Francisco 24365-050 Niterói RJ – Brasil
END:VEVENT
BEGIN:VEVENT
DTSTART;TZID=America/Sao_Paulo:20240318T070000
DTEND;TZID=America/Sao_Paulo:20240318T130000
DTSTAMP:20260421T131923
CREATED:20241003T211534Z
LAST-MODIFIED:20241003T211534Z
UID:41370-1710745200-1710766800@www.gaylussac.com.br
SUMMARY:Início Projeto Leitura Dramatizada - 8º ano Ensino Fundamental
DESCRIPTION:6º ano à 3ª série do Ensino Médio
URL:https://www.gaylussac.com.br/event/187-inicio-projeto-leitura-dramatizada-8o-ano-ensino-fundamental/
LOCATION:Gaylussac\, Rua Maria Caldas\, 35 – São Francisco 24365-050 Niterói RJ – Brasil
END:VEVENT
BEGIN:VEVENT
DTSTART;TZID=America/Sao_Paulo:20240318T070000
DTEND;TZID=America/Sao_Paulo:20240318T130000
DTSTAMP:20260421T131923
CREATED:20241003T211534Z
LAST-MODIFIED:20241003T211534Z
UID:41371-1710745200-1710766800@www.gaylussac.com.br
SUMMARY:Início Projeto Monografia - 9º ano Ensino Fundamental
DESCRIPTION:6º ano à 3ª série do Ensino Médio
URL:https://www.gaylussac.com.br/event/188-inicio-projeto-monografia-9o-ano-ensino-fundamental/
LOCATION:Gaylussac\, Rua Maria Caldas\, 35 – São Francisco 24365-050 Niterói RJ – Brasil
END:VEVENT
BEGIN:VEVENT
DTSTART;TZID=America/Sao_Paulo:20240318T183000
DTEND;TZID=America/Sao_Paulo:20240318T200000
DTSTAMP:20260421T131923
CREATED:20241003T211818Z
LAST-MODIFIED:20241003T211818Z
UID:41410-1710786600-1710792000@www.gaylussac.com.br
SUMMARY:Reunião de Pais - 8º ano do Ensino Fundamental - Biblioteca
DESCRIPTION:Programa Bilíngue Middle – Cambridge
URL:https://www.gaylussac.com.br/event/256-reuniao-de-pais-8o-ano-do-ensino-fundamental-biblioteca/
LOCATION:Gaylussac\, Rua Maria Caldas\, 35 – São Francisco 24365-050 Niterói RJ – Brasil
END:VEVENT
BEGIN:VEVENT
DTSTART;TZID=America/Sao_Paulo:20240318T183000
DTEND;TZID=America/Sao_Paulo:20240318T200000
DTSTAMP:20260421T131923
CREATED:20241003T211833Z
LAST-MODIFIED:20241003T211833Z
UID:41411-1710786600-1710792000@www.gaylussac.com.br
SUMMARY:Reunião de Pais - 9º ano do Ensino Fundamental
DESCRIPTION:Programa Bilíngue Upper
URL:https://www.gaylussac.com.br/event/258-reuniao-de-pais-9o-ano-do-ensino-fundamental/
LOCATION:Gaylussac\, Rua Maria Caldas\, 35 – São Francisco 24365-050 Niterói RJ – Brasil
END:VEVENT
BEGIN:VEVENT
DTSTART;TZID=America/Sao_Paulo:20240319T130000
DTEND;TZID=America/Sao_Paulo:20240319T170000
DTSTAMP:20260421T131923
CREATED:20241003T211448Z
LAST-MODIFIED:20241003T211448Z
UID:41366-1710853200-1710867600@www.gaylussac.com.br
SUMMARY:Festa da Cultura da UNESCO - 3º ano do Ensino Fundamental
DESCRIPTION:2º ao 5º ano do Ensino Fundamental
URL:https://www.gaylussac.com.br/event/171-festa-da-cultura-da-unesco-3o-ano-do-ensino-fundamental/
LOCATION:Gaylussac\, Rua Maria Caldas\, 35 – São Francisco 24365-050 Niterói RJ – Brasil
END:VEVENT
BEGIN:VEVENT
DTSTART;TZID=America/Sao_Paulo:20240319T130000
DTEND;TZID=America/Sao_Paulo:20240319T170000
DTSTAMP:20260421T131923
CREATED:20241003T211618Z
LAST-MODIFIED:20241003T211618Z
UID:40198-1710853200-1710867600@www.gaylussac.com.br
SUMMARY:Posse dos Representantes - 5º ano do Ensino Fundamental
DESCRIPTION:2º ao 5º ano do Ensino Fundamental
URL:https://www.gaylussac.com.br/event/206-posse-dos-representantes-5o-ano-do-ensino-fundamental-2/
LOCATION:Gaylussac\, Rua Maria Caldas\, 35 – São Francisco 24365-050 Niterói RJ – Brasil
END:VEVENT
BEGIN:VEVENT
DTSTART;TZID=America/Sao_Paulo:20240321T070000
DTEND;TZID=America/Sao_Paulo:20240321T130000
DTSTAMP:20260421T131923
CREATED:20241003T211618Z
LAST-MODIFIED:20241003T211618Z
UID:40197-1711004400-1711026000@www.gaylussac.com.br
SUMMARY:Posse dos Representantes
DESCRIPTION:6º ano à 3ª série do Ensino Médio
URL:https://www.gaylussac.com.br/event/205-posse-dos-representantes-2/
LOCATION:Gaylussac\, Rua Maria Caldas\, 35 – São Francisco 24365-050 Niterói RJ – Brasil
END:VEVENT
BEGIN:VEVENT
DTSTART;TZID=America/Sao_Paulo:20240323T080000
DTEND;TZID=America/Sao_Paulo:20240323T100000
DTSTAMP:20260421T131923
CREATED:20241003T211647Z
LAST-MODIFIED:20241003T211647Z
UID:40206-1711180800-1711188000@www.gaylussac.com.br
SUMMARY:Prova Canguru - 6º ano do Ensino Fundamental à 3ª série do Ensino Médio
DESCRIPTION:Prova Canguru – 6º ano do Ensino Fundamental à 3ª série do Ensino Médio  (previsão)  
URL:https://www.gaylussac.com.br/event/216-prova-canguru-6o-ano-do-ensino-fundamental-a-3a-serie-do-ensino-medio-2/
LOCATION:Gaylussac\, Rua Maria Caldas\, 35 – São Francisco 24365-050 Niterói RJ – Brasil
END:VEVENT
BEGIN:VEVENT
DTSTART;TZID=America/Sao_Paulo:20240325T183000
DTEND;TZID=America/Sao_Paulo:20240325T200000
DTSTAMP:20260421T131923
CREATED:20241003T211703Z
LAST-MODIFIED:20241003T211703Z
UID:40214-1711391400-1711396800@www.gaylussac.com.br
SUMMARY:Reunião de Pais - 1ª série do Ensino Médio
DESCRIPTION:Programa Bilíngue Upper  
URL:https://www.gaylussac.com.br/event/225-reuniao-de-pais-1a-serie-do-ensino-medio-2/
LOCATION:Gaylussac\, Rua Maria Caldas\, 35 – São Francisco 24365-050 Niterói RJ – Brasil
END:VEVENT
END:VCALENDAR