BEGIN:VCALENDAR
VERSION:2.0
PRODID:-//Instituto GayLussac - ECPv6.15.17.1//NONSGML v1.0//EN
CALSCALE:GREGORIAN
METHOD:PUBLISH
X-ORIGINAL-URL:https://www.gaylussac.com.br
X-WR-CALDESC:Eventos para Instituto GayLussac
REFRESH-INTERVAL;VALUE=DURATION:PT1H
X-Robots-Tag:noindex
X-PUBLISHED-TTL:PT1H
BEGIN:VTIMEZONE
TZID:America/Sao_Paulo
BEGIN:STANDARD
TZOFFSETFROM:-0300
TZOFFSETTO:-0300
TZNAME:-03
DTSTART:20240101T000000
END:STANDARD
END:VTIMEZONE
BEGIN:VEVENT
DTSTART;VALUE=DATE:20250922
DTEND;VALUE=DATE:20251104
DTSTAMP:20260424T092532
CREATED:20250110T155834Z
LAST-MODIFIED:20250110T155834Z
UID:43115-1758499200-1762214399@www.gaylussac.com.br
SUMMARY:Aulas e Avaliações do PRP 02
DESCRIPTION:
URL:https://www.gaylussac.com.br/event/aulas-e-avaliacoes-do-prp-02/
END:VEVENT
BEGIN:VEVENT
DTSTART;VALUE=DATE:20251001
DTEND;VALUE=DATE:20251121
DTSTAMP:20260424T092532
CREATED:20250113T161739Z
LAST-MODIFIED:20250113T161739Z
UID:43224-1759276800-1763683199@www.gaylussac.com.br
SUMMARY:Programa Bilíngue Upper - Período das provas de IGCSE
DESCRIPTION:
URL:https://www.gaylussac.com.br/event/programa-bilingue-upper-periodo-das-provas-de-igcse/
END:VEVENT
BEGIN:VEVENT
DTSTART;VALUE=DATE:20251013
DTEND;VALUE=DATE:20251014
DTSTAMP:20260424T092532
CREATED:20250114T122106Z
LAST-MODIFIED:20250114T122106Z
UID:43230-1760313600-1760399999@www.gaylussac.com.br
SUMMARY:CCE- Início do Campeonato de Futsal - Grupo 5 e 1º ano do Ensino Fundamental
DESCRIPTION:
URL:https://www.gaylussac.com.br/event/cce-inicio-do-campeonato-de-futsal-grupo-5-e-1o-ano-do-ensino-fundamental/
LOCATION:Gaylussac\, R. Cel. João Brandão\, 87 - São Francisco\, Niterói - RJ\, 24365-060
END:VEVENT
END:VCALENDAR