BEGIN:VCALENDAR
VERSION:2.0
PRODID:-//Instituto GayLussac - ECPv6.15.17.1//NONSGML v1.0//EN
CALSCALE:GREGORIAN
METHOD:PUBLISH
X-ORIGINAL-URL:https://www.gaylussac.com.br
X-WR-CALDESC:Eventos para Instituto GayLussac
REFRESH-INTERVAL;VALUE=DURATION:PT1H
X-Robots-Tag:noindex
X-PUBLISHED-TTL:PT1H
BEGIN:VTIMEZONE
TZID:America/Sao_Paulo
BEGIN:STANDARD
TZOFFSETFROM:-0300
TZOFFSETTO:-0300
TZNAME:-03
DTSTART:20240101T000000
END:STANDARD
END:VTIMEZONE
BEGIN:VEVENT
DTSTART;VALUE=DATE:20250922
DTEND;VALUE=DATE:20250927
DTSTAMP:20260424T084445
CREATED:20250110T161920Z
LAST-MODIFIED:20250110T161920Z
UID:43143-1758499200-1758931199@www.gaylussac.com.br
SUMMARY:Jogos Escolares GayLussac
DESCRIPTION:
URL:https://www.gaylussac.com.br/event/jogos-escolares-gaylussac/
END:VEVENT
BEGIN:VEVENT
DTSTART;VALUE=DATE:20250922
DTEND;VALUE=DATE:20250927
DTSTAMP:20260424T084445
CREATED:20250110T163030Z
LAST-MODIFIED:20250110T163030Z
UID:43157-1758499200-1758931199@www.gaylussac.com.br
SUMMARY:Projeto Leitura Dramatizada - 8º ano do Ensino Fundamental
DESCRIPTION:
URL:https://www.gaylussac.com.br/event/projeto-leitura-dramatizada-8o-ano-do-ensino-fundamental/
LOCATION:Teatro GayLussac\, Rua Maria Caldas\, 35 – São Francisco 24365-050 Niterói RJ – Brasil
END:VEVENT
BEGIN:VEVENT
DTSTART;VALUE=DATE:20250922
DTEND;VALUE=DATE:20251104
DTSTAMP:20260424T084445
CREATED:20250110T155834Z
LAST-MODIFIED:20250110T155834Z
UID:43115-1758499200-1762214399@www.gaylussac.com.br
SUMMARY:Aulas e Avaliações do PRP 02
DESCRIPTION:
URL:https://www.gaylussac.com.br/event/aulas-e-avaliacoes-do-prp-02/
END:VEVENT
BEGIN:VEVENT
DTSTART;VALUE=DATE:20250923
DTEND;VALUE=DATE:20250924
DTSTAMP:20260424T084445
CREATED:20250110T164032Z
LAST-MODIFIED:20250110T164032Z
UID:43173-1758585600-1758671999@www.gaylussac.com.br
SUMMARY:Reunião de Pais - Programa Bilíngue Lower - 2° ano do Ensino Fundamental (On-line)
DESCRIPTION:
URL:https://www.gaylussac.com.br/event/reuniao-de-pais-programa-bilingue-lower-2-ano-do-ensino-fundamental-on-line/
END:VEVENT
END:VCALENDAR