BEGIN:VCALENDAR
VERSION:2.0
PRODID:-//Instituto GayLussac - ECPv6.15.17.1//NONSGML v1.0//EN
CALSCALE:GREGORIAN
METHOD:PUBLISH
X-WR-CALNAME:Instituto GayLussac
X-ORIGINAL-URL:https://www.gaylussac.com.br
X-WR-CALDESC:Eventos para Instituto GayLussac
REFRESH-INTERVAL;VALUE=DURATION:PT1H
X-Robots-Tag:noindex
X-PUBLISHED-TTL:PT1H
BEGIN:VTIMEZONE
TZID:America/Sao_Paulo
BEGIN:STANDARD
TZOFFSETFROM:-0300
TZOFFSETTO:-0300
TZNAME:-03
DTSTART:20240101T000000
END:STANDARD
END:VTIMEZONE
BEGIN:VEVENT
DTSTART;VALUE=DATE:20250915
DTEND;VALUE=DATE:20250921
DTSTAMP:20260424T081522
CREATED:20250110T155700Z
LAST-MODIFIED:20250110T155700Z
UID:43111-1757894400-1758412799@www.gaylussac.com.br
SUMMARY:Semana Steam
DESCRIPTION:Semana Steam – Science\, Technology\, Engineering\, Arts and Mathematics – SÁBADO\, dia 20 – Culminância
URL:https://www.gaylussac.com.br/event/semana-steam/
LOCATION:Gaylussac\, Rua Maria Caldas\, 35 – São Francisco 24365-050 Niterói RJ – Brasil
END:VEVENT
BEGIN:VEVENT
DTSTART;VALUE=DATE:20250915
DTEND;VALUE=DATE:20250921
DTSTAMP:20260424T081522
CREATED:20250110T162838Z
LAST-MODIFIED:20250110T162838Z
UID:43153-1757894400-1758412799@www.gaylussac.com.br
SUMMARY:3ª série do Ensino Médio - Recuperação - PRP 02
DESCRIPTION:
URL:https://www.gaylussac.com.br/event/3a-serie-do-ensino-medio-recuperacao-prp-02-2/
END:VEVENT
BEGIN:VEVENT
DTSTART;VALUE=DATE:20250916
DTEND;VALUE=DATE:20250917
DTSTAMP:20260424T081522
CREATED:20250110T162928Z
LAST-MODIFIED:20250110T162928Z
UID:43155-1757980800-1758067199@www.gaylussac.com.br
SUMMARY:Projeto Speeling Bee - 8º ano Ensino Fundamental
DESCRIPTION:
URL:https://www.gaylussac.com.br/event/projeto-speeling-bee-8o-ano-ensino-fundamental/
LOCATION:Teatro GayLussac\, Rua Maria Caldas\, 35 – São Francisco 24365-050 Niterói RJ – Brasil
END:VEVENT
BEGIN:VEVENT
DTSTART;VALUE=DATE:20250916
DTEND;VALUE=DATE:20250919
DTSTAMP:20260424T081522
CREATED:20250110T155740Z
LAST-MODIFIED:20250110T155740Z
UID:43113-1757980800-1758239999@www.gaylussac.com.br
SUMMARY:Inscrições para o PRP 02 - 2º ano do Ensino Fundamental à 2ª série do Ensino Médio
DESCRIPTION:
URL:https://www.gaylussac.com.br/event/inscricoes-para-o-prp-02-2o-ano-do-ensino-fundamental-a-2a-serie-do-ensino-medio/
END:VEVENT
END:VCALENDAR