BEGIN:VCALENDAR
VERSION:2.0
PRODID:-//Instituto GayLussac - ECPv6.15.17.1//NONSGML v1.0//EN
CALSCALE:GREGORIAN
METHOD:PUBLISH
X-WR-CALNAME:Instituto GayLussac
X-ORIGINAL-URL:https://www.gaylussac.com.br
X-WR-CALDESC:Eventos para Instituto GayLussac
REFRESH-INTERVAL;VALUE=DURATION:PT1H
X-Robots-Tag:noindex
X-PUBLISHED-TTL:PT1H
BEGIN:VTIMEZONE
TZID:America/Sao_Paulo
BEGIN:STANDARD
TZOFFSETFROM:-0300
TZOFFSETTO:-0300
TZNAME:-03
DTSTART:20240101T000000
END:STANDARD
END:VTIMEZONE
BEGIN:VEVENT
DTSTART;VALUE=DATE:20250818
DTEND;VALUE=DATE:20250906
DTSTAMP:20260424T081529
CREATED:20250110T124207Z
LAST-MODIFIED:20250110T124207Z
UID:43071-1755475200-1757116799@www.gaylussac.com.br
SUMMARY:Renovação de matrícula eletrônica incluindo CCE
DESCRIPTION:
URL:https://www.gaylussac.com.br/event/renovacao-de-matricula-eletronica-incluindo-cce/
END:VEVENT
BEGIN:VEVENT
DTSTART;VALUE=DATE:20250901
DTEND;VALUE=DATE:20250912
DTSTAMP:20260424T081529
CREATED:20250110T162317Z
LAST-MODIFIED:20250110T162317Z
UID:43147-1756684800-1757635199@www.gaylussac.com.br
SUMMARY:6º ano à 3ª série do Ensino Médio - Avaliações de 2ª chamada
DESCRIPTION:
URL:https://www.gaylussac.com.br/event/6o-ano-a-3a-serie-do-ensino-medio-avaliacoes-de-2a-chamada/
LOCATION:Gaylussac\, Rua Maria Caldas\, 35 – São Francisco 24365-050 Niterói RJ – Brasil
END:VEVENT
BEGIN:VEVENT
DTSTART;VALUE=DATE:20250903
DTEND;VALUE=DATE:20250904
DTSTAMP:20260424T081529
CREATED:20250110T161442Z
LAST-MODIFIED:20250110T161442Z
UID:43133-1756857600-1756943999@www.gaylussac.com.br
SUMMARY:Reunião de Pais - 3º ano do Ensino Fundamental
DESCRIPTION:
URL:https://www.gaylussac.com.br/event/reuniao-de-pais-3o-ano-do-ensino-fundamental-4/
END:VEVENT
BEGIN:VEVENT
DTSTART;VALUE=DATE:20250903
DTEND;VALUE=DATE:20250905
DTSTAMP:20260424T081529
CREATED:20250110T161512Z
LAST-MODIFIED:20250110T161512Z
UID:43135-1756857600-1757030399@www.gaylussac.com.br
SUMMARY:Mostra de Talentos
DESCRIPTION:
URL:https://www.gaylussac.com.br/event/mostra-de-talentos-2/
END:VEVENT
BEGIN:VEVENT
DTSTART;VALUE=DATE:20250903
DTEND;VALUE=DATE:20250912
DTSTAMP:20260424T081529
CREATED:20250110T161649Z
LAST-MODIFIED:20250110T161649Z
UID:43137-1756857600-1757635199@www.gaylussac.com.br
SUMMARY:2º ao 5º ano do Ensino Fundamental - Avaliações de 2ª chamada
DESCRIPTION:
URL:https://www.gaylussac.com.br/event/2o-ao-5o-ano-do-ensino-fundamental-avaliacoes-de-2a-chamada/
LOCATION:Gaylussac\, Rua Maria Caldas\, 35 – São Francisco 24365-050 Niterói RJ – Brasil
END:VEVENT
END:VCALENDAR