BEGIN:VCALENDAR
VERSION:2.0
PRODID:-//Instituto GayLussac - ECPv6.15.17.1//NONSGML v1.0//EN
CALSCALE:GREGORIAN
METHOD:PUBLISH
X-WR-CALNAME:Instituto GayLussac
X-ORIGINAL-URL:https://www.gaylussac.com.br
X-WR-CALDESC:Eventos para Instituto GayLussac
REFRESH-INTERVAL;VALUE=DURATION:PT1H
X-Robots-Tag:noindex
X-PUBLISHED-TTL:PT1H
BEGIN:VTIMEZONE
TZID:America/Sao_Paulo
BEGIN:STANDARD
TZOFFSETFROM:-0300
TZOFFSETTO:-0300
TZNAME:-03
DTSTART:20240101T000000
END:STANDARD
END:VTIMEZONE
BEGIN:VEVENT
DTSTART;VALUE=DATE:20250604
DTEND;VALUE=DATE:20250712
DTSTAMP:20260424T053524
CREATED:20250108T141300Z
LAST-MODIFIED:20250108T141300Z
UID:43018-1748995200-1752278399@www.gaylussac.com.br
SUMMARY:Aulas e Avaliações do PRP 01
DESCRIPTION:
URL:https://www.gaylussac.com.br/event/aulas-e-avaliacoes-do-prp-01/
END:VEVENT
BEGIN:VEVENT
DTSTART;VALUE=DATE:20250701
DTEND;VALUE=DATE:20250711
DTSTAMP:20260424T053524
CREATED:20250109T124037Z
LAST-MODIFIED:20250109T124037Z
UID:43054-1751328000-1752191999@www.gaylussac.com.br
SUMMARY:Reunião devolutiva (Avaliação Evolucional aos responsáveis) - Ensino Fundamental e Ensino Médio
DESCRIPTION:
URL:https://www.gaylussac.com.br/event/reuniao-devolutiva-avaliacao-evolucional-aos-responsaveis-ensino-fundamental-e-ensino-medio/
LOCATION:Gaylussac\, Rua Maria Caldas\, 35 – São Francisco 24365-050 Niterói RJ – Brasil
END:VEVENT
BEGIN:VEVENT
DTSTART;VALUE=DATE:20250708
DTEND;VALUE=DATE:20250709
DTSTAMP:20260424T053524
CREATED:20250109T125407Z
LAST-MODIFIED:20250109T125407Z
UID:43067-1751932800-1752019199@www.gaylussac.com.br
SUMMARY:CCE - 2ª Entrega de Emblema da Capoeira
DESCRIPTION:
URL:https://www.gaylussac.com.br/event/cce-2a-entrega-de-emblema-da-capoeira/
END:VEVENT
BEGIN:VEVENT
DTSTART;VALUE=DATE:20250708
DTEND;VALUE=DATE:20250710
DTSTAMP:20260424T053524
CREATED:20250109T124707Z
LAST-MODIFIED:20250109T124804Z
UID:43063-1751932800-1752105599@www.gaylussac.com.br
SUMMARY:Palestra para PAIS do 8º ano do Ensino Fundamental (apresentação do Programa Bilíngue Upper)
DESCRIPTION:
URL:https://www.gaylussac.com.br/event/palestra-para-pais-do-8o-ano-do-ensino-fundamental-apresentacao-do-programa-bilingue-upper/
LOCATION:Teatro GayLussac\, Rua Maria Caldas\, 35 – São Francisco 24365-050 Niterói RJ – Brasil
END:VEVENT
END:VCALENDAR