BEGIN:VCALENDAR
VERSION:2.0
PRODID:-//Instituto GayLussac - ECPv6.15.17.1//NONSGML v1.0//EN
CALSCALE:GREGORIAN
METHOD:PUBLISH
X-WR-CALNAME:Instituto GayLussac
X-ORIGINAL-URL:https://www.gaylussac.com.br
X-WR-CALDESC:Eventos para Instituto GayLussac
REFRESH-INTERVAL;VALUE=DURATION:PT1H
X-Robots-Tag:noindex
X-PUBLISHED-TTL:PT1H
BEGIN:VTIMEZONE
TZID:America/Sao_Paulo
BEGIN:STANDARD
TZOFFSETFROM:-0300
TZOFFSETTO:-0300
TZNAME:-03
DTSTART:20240101T000000
END:STANDARD
END:VTIMEZONE
BEGIN:VEVENT
DTSTART;VALUE=DATE:20250604
DTEND;VALUE=DATE:20250712
DTSTAMP:20260424T041622
CREATED:20250108T141300Z
LAST-MODIFIED:20250108T141300Z
UID:43018-1748995200-1752278399@www.gaylussac.com.br
SUMMARY:Aulas e Avaliações do PRP 01
DESCRIPTION:
URL:https://www.gaylussac.com.br/event/aulas-e-avaliacoes-do-prp-01/
END:VEVENT
BEGIN:VEVENT
DTSTART;VALUE=DATE:20250619
DTEND;VALUE=DATE:20250620
DTSTAMP:20260424T041622
CREATED:20250108T140621Z
LAST-MODIFIED:20250108T140621Z
UID:43012-1750291200-1750377599@www.gaylussac.com.br
SUMMARY:Corpus Christi
DESCRIPTION:Feriado
URL:https://www.gaylussac.com.br/event/corpus-christi/
END:VEVENT
BEGIN:VEVENT
DTSTART;VALUE=DATE:20250619
DTEND;VALUE=DATE:20250623
DTSTAMP:20260424T041622
CREATED:20250109T121224Z
LAST-MODIFIED:20250109T121224Z
UID:43024-1750291200-1750636799@www.gaylussac.com.br
SUMMARY:Excursão NR1 - 5º e 6º anos do Ensino Fundamental
DESCRIPTION:
URL:https://www.gaylussac.com.br/event/excursao-nr1-5o-e-6o-anos-do-ensino-fundamental/
END:VEVENT
END:VCALENDAR