BEGIN:VCALENDAR
VERSION:2.0
PRODID:-//Instituto GayLussac - ECPv6.15.17.1//NONSGML v1.0//EN
CALSCALE:GREGORIAN
METHOD:PUBLISH
X-ORIGINAL-URL:https://www.gaylussac.com.br
X-WR-CALDESC:Eventos para Instituto GayLussac
REFRESH-INTERVAL;VALUE=DURATION:PT1H
X-Robots-Tag:noindex
X-PUBLISHED-TTL:PT1H
BEGIN:VTIMEZONE
TZID:America/Sao_Paulo
BEGIN:STANDARD
TZOFFSETFROM:-0300
TZOFFSETTO:-0300
TZNAME:-03
DTSTART:20240101T000000
END:STANDARD
END:VTIMEZONE
BEGIN:VEVENT
DTSTART;VALUE=DATE:20250604
DTEND;VALUE=DATE:20250712
DTSTAMP:20260424T053745
CREATED:20250108T141300Z
LAST-MODIFIED:20250108T141300Z
UID:43018-1748995200-1752278399@www.gaylussac.com.br
SUMMARY:Aulas e Avaliações do PRP 01
DESCRIPTION:
URL:https://www.gaylussac.com.br/event/aulas-e-avaliacoes-do-prp-01/
END:VEVENT
BEGIN:VEVENT
DTSTART;VALUE=DATE:20250609
DTEND;VALUE=DATE:20250615
DTSTAMP:20260424T053745
CREATED:20250109T121626Z
LAST-MODIFIED:20250109T121626Z
UID:43028-1749427200-1749945599@www.gaylussac.com.br
SUMMARY:Semana de Humanidades
DESCRIPTION:
URL:https://www.gaylussac.com.br/event/semana-de-humanidades/
END:VEVENT
BEGIN:VEVENT
DTSTART;TZID=America/Sao_Paulo:20250609T183000
DTEND;TZID=America/Sao_Paulo:20250609T200000
DTSTAMP:20260424T053745
CREATED:20250109T122732Z
LAST-MODIFIED:20250109T122732Z
UID:43042-1749493800-1749499200@www.gaylussac.com.br
SUMMARY:Reunião de Pais (Programa Bilíngue Middle) - 6° ano do Ensino Fundamental
DESCRIPTION:
URL:https://www.gaylussac.com.br/event/reuniao-de-pais-programa-bilingue-middle-6-ano-do-ensino-fundamental/
END:VEVENT
END:VCALENDAR