BEGIN:VCALENDAR
VERSION:2.0
PRODID:-//Instituto GayLussac - ECPv6.15.17.1//NONSGML v1.0//EN
CALSCALE:GREGORIAN
METHOD:PUBLISH
X-ORIGINAL-URL:https://www.gaylussac.com.br
X-WR-CALDESC:Eventos para Instituto GayLussac
REFRESH-INTERVAL;VALUE=DURATION:PT1H
X-Robots-Tag:noindex
X-PUBLISHED-TTL:PT1H
BEGIN:VTIMEZONE
TZID:America/Sao_Paulo
BEGIN:STANDARD
TZOFFSETFROM:-0300
TZOFFSETTO:-0300
TZNAME:-03
DTSTART:20240101T000000
END:STANDARD
END:VTIMEZONE
BEGIN:VEVENT
DTSTART;VALUE=DATE:20250530
DTEND;VALUE=DATE:20250605
DTSTAMP:20260424T030013
CREATED:20250108T120304Z
LAST-MODIFIED:20250108T120304Z
UID:42952-1748563200-1749081599@www.gaylussac.com.br
SUMMARY:Inscrições para o PRP 01 - 2º ano do Ensino Fundamental à  2ª série do Ensino Médio
DESCRIPTION:
URL:https://www.gaylussac.com.br/event/inscricoes-para-o-prp-01-2o-ano-do-ensino-fundamental-a-2a-serie-do-ensino-medio/
LOCATION:Gaylussac\, Rua Maria Caldas\, 35 – São Francisco 24365-050 Niterói RJ – Brasil
END:VEVENT
END:VCALENDAR