BEGIN:VCALENDAR
VERSION:2.0
PRODID:-//Instituto GayLussac - ECPv6.15.17.1//NONSGML v1.0//EN
CALSCALE:GREGORIAN
METHOD:PUBLISH
X-WR-CALNAME:Instituto GayLussac
X-ORIGINAL-URL:https://www.gaylussac.com.br
X-WR-CALDESC:Eventos para Instituto GayLussac
REFRESH-INTERVAL;VALUE=DURATION:PT1H
X-Robots-Tag:noindex
X-PUBLISHED-TTL:PT1H
BEGIN:VTIMEZONE
TZID:America/Sao_Paulo
BEGIN:STANDARD
TZOFFSETFROM:-0300
TZOFFSETTO:-0300
TZNAME:-03
DTSTART:20240101T000000
END:STANDARD
END:VTIMEZONE
BEGIN:VEVENT
DTSTART;VALUE=DATE:20250529
DTEND;VALUE=DATE:20250530
DTSTAMP:20260424T025823
CREATED:20250108T115843Z
LAST-MODIFIED:20250108T115843Z
UID:42950-1748476800-1748563199@www.gaylussac.com.br
SUMMARY:Entrega do Boletim da 1ª Etapa
DESCRIPTION:
URL:https://www.gaylussac.com.br/event/entrega-do-boletim-da-1a-etapa/
END:VEVENT
END:VCALENDAR