BEGIN:VCALENDAR
VERSION:2.0
PRODID:-//Instituto GayLussac - ECPv6.15.17.1//NONSGML v1.0//EN
CALSCALE:GREGORIAN
METHOD:PUBLISH
X-ORIGINAL-URL:https://www.gaylussac.com.br
X-WR-CALDESC:Eventos para Instituto GayLussac
REFRESH-INTERVAL;VALUE=DURATION:PT1H
X-Robots-Tag:noindex
X-PUBLISHED-TTL:PT1H
BEGIN:VTIMEZONE
TZID:America/Sao_Paulo
BEGIN:STANDARD
TZOFFSETFROM:-0300
TZOFFSETTO:-0300
TZNAME:-03
DTSTART:20240101T000000
END:STANDARD
END:VTIMEZONE
BEGIN:VEVENT
DTSTART;VALUE=DATE:20250522
DTEND;VALUE=DATE:20250529
DTSTAMP:20260424T030011
CREATED:20250108T122724Z
LAST-MODIFIED:20250108T122724Z
UID:42970-1747872000-1748476799@www.gaylussac.com.br
SUMMARY:Avaliações de 2ª Chamada da 1ª etapa
DESCRIPTION:2º ao 5º ano do Ensino Fundamental
URL:https://www.gaylussac.com.br/event/avaliacoes-de-2a-chamada-da-1a-etapa-3/
LOCATION:Gaylussac\, Rua Maria Caldas\, 35 – São Francisco 24365-050 Niterói RJ – Brasil
END:VEVENT
BEGIN:VEVENT
DTSTART;VALUE=DATE:20250522
DTEND;VALUE=DATE:20250529
DTSTAMP:20260424T030011
CREATED:20250108T131423Z
LAST-MODIFIED:20250108T131423Z
UID:42985-1747872000-1748476799@www.gaylussac.com.br
SUMMARY:Avaliações de 2ª Chamada da 1ª etapa
DESCRIPTION:incluindo SÁBADO À TARDE – DIA 24
URL:https://www.gaylussac.com.br/event/avaliacoes-de-2a-chamada-da-1a-etapa-4/
LOCATION:Gaylussac\, Rua Maria Caldas\, 35 – São Francisco 24365-050 Niterói RJ – Brasil
END:VEVENT
BEGIN:VEVENT
DTSTART;VALUE=DATE:20250526
DTEND;VALUE=DATE:20250527
DTSTAMP:20260424T030011
CREATED:20250108T134441Z
LAST-MODIFIED:20250108T134441Z
UID:43004-1748217600-1748303999@www.gaylussac.com.br
SUMMARY:Reunião de Pais do Projeto Bilíngue Lower (IEYC/IPC)- 3° ano
DESCRIPTION:Salas de Aula: Student-Led-Conference
URL:https://www.gaylussac.com.br/event/reuniao-de-pais-do-projeto-bilingue-lower-ieyc-ipc-3-ano/
END:VEVENT
BEGIN:VEVENT
DTSTART;TZID=America/Sao_Paulo:20250526T183000
DTEND;TZID=America/Sao_Paulo:20250526T200000
DTSTAMP:20260424T030011
CREATED:20250108T131627Z
LAST-MODIFIED:20250108T131627Z
UID:42987-1748284200-1748289600@www.gaylussac.com.br
SUMMARY:Reunião de Pais - 9º ano do Ensino Fundamental e 2ª série do Ensino Médio
DESCRIPTION:
URL:https://www.gaylussac.com.br/event/reuniao-de-pais-9o-ano-do-ensino-fundamental-e-2a-serie-do-ensino-medio-2/
LOCATION:Gaylussac\, Rua Maria Caldas\, 35 – São Francisco 24365-050 Niterói RJ – Brasil
END:VEVENT
END:VCALENDAR