BEGIN:VCALENDAR
VERSION:2.0
PRODID:-//Instituto GayLussac - ECPv6.15.17.1//NONSGML v1.0//EN
CALSCALE:GREGORIAN
METHOD:PUBLISH
X-ORIGINAL-URL:https://www.gaylussac.com.br
X-WR-CALDESC:Eventos para Instituto GayLussac
REFRESH-INTERVAL;VALUE=DURATION:PT1H
X-Robots-Tag:noindex
X-PUBLISHED-TTL:PT1H
BEGIN:VTIMEZONE
TZID:America/Sao_Paulo
BEGIN:STANDARD
TZOFFSETFROM:-0300
TZOFFSETTO:-0300
TZNAME:-03
DTSTART:20240101T000000
END:STANDARD
END:VTIMEZONE
BEGIN:VEVENT
DTSTART;VALUE=DATE:20250505
DTEND;VALUE=DATE:20250522
DTSTAMP:20260424T025955
CREATED:20250108T122552Z
LAST-MODIFIED:20250108T122552Z
UID:42968-1746403200-1747871999@www.gaylussac.com.br
SUMMARY:Fechamento do ciclo de avaliações – 1ª etapa AFE 01
DESCRIPTION:2º ao 5º ano do Ensino Fundamental
URL:https://www.gaylussac.com.br/event/fechamento-do-ciclo-de-avaliacoes-1a-etapa-afe-01/
LOCATION:Gaylussac\, Rua Maria Caldas\, 35 – São Francisco 24365-050 Niterói RJ – Brasil
END:VEVENT
BEGIN:VEVENT
DTSTART;VALUE=DATE:20250505
DTEND;VALUE=DATE:20250522
DTSTAMP:20260424T025955
CREATED:20250108T123053Z
LAST-MODIFIED:20250124T130514Z
UID:42976-1746403200-1747871999@www.gaylussac.com.br
SUMMARY:Fechamento do Ciclo de Avaliações da 1ª etapa - AFE 01
DESCRIPTION:6º ano do Ensino Fundamental à 2ª série do Ensino Médio
URL:https://www.gaylussac.com.br/event/fechamento-do-ciclo-de-avaliacoes-da-1a-etapa-afe-01/
LOCATION:Gaylussac\, Rua Maria Caldas\, 35 – São Francisco 24365-050 Niterói RJ – Brasil
END:VEVENT
BEGIN:VEVENT
DTSTART;VALUE=DATE:20250505
DTEND;VALUE=DATE:20250522
DTSTAMP:20260424T025955
CREATED:20250124T125900Z
LAST-MODIFIED:20250124T125900Z
UID:43669-1746403200-1747871999@www.gaylussac.com.br
SUMMARY:Fechamento do ciclo de avaliações - 1ª etapa AFE 01
DESCRIPTION:Ensino Fundamental 1
URL:https://www.gaylussac.com.br/event/fechamento-do-ciclo-de-avaliacoes-1a-etapa-afe-01-2/
END:VEVENT
BEGIN:VEVENT
DTSTART;VALUE=DATE:20250514
DTEND;VALUE=DATE:20250525
DTSTAMP:20260424T025955
CREATED:20250108T130640Z
LAST-MODIFIED:20250108T130640Z
UID:42980-1747180800-1748131199@www.gaylussac.com.br
SUMMARY:3ª série do Ensino Médio - 2ª chamada da AFE 01 (previsão)
DESCRIPTION:
URL:https://www.gaylussac.com.br/event/3a-serie-do-ensino-medio-2a-chamada-da-afe-01-previsao/
LOCATION:Gaylussac\, Rua Maria Caldas\, 35 – São Francisco 24365-050 Niterói RJ – Brasil
END:VEVENT
BEGIN:VEVENT
DTSTART;VALUE=DATE:20250520
DTEND;VALUE=DATE:20250521
DTSTAMP:20260424T025955
CREATED:20250108T133323Z
LAST-MODIFIED:20250108T133323Z
UID:42995-1747699200-1747785599@www.gaylussac.com.br
SUMMARY:Reunião de Pais do Projeto Bilíngue Lower (IEYC/IPC)- Grupo 4
DESCRIPTION:Salas de Aula: Student-Led-Conference
URL:https://www.gaylussac.com.br/event/reuniao-de-pais-do-projeto-bilingue-lower-ieyc-ipc-grupo-4/
END:VEVENT
END:VCALENDAR