BEGIN:VCALENDAR
VERSION:2.0
PRODID:-//Instituto GayLussac - ECPv6.15.17.1//NONSGML v1.0//EN
CALSCALE:GREGORIAN
METHOD:PUBLISH
X-WR-CALNAME:Instituto GayLussac
X-ORIGINAL-URL:https://www.gaylussac.com.br
X-WR-CALDESC:Eventos para Instituto GayLussac
REFRESH-INTERVAL;VALUE=DURATION:PT1H
X-Robots-Tag:noindex
X-PUBLISHED-TTL:PT1H
BEGIN:VTIMEZONE
TZID:America/Sao_Paulo
BEGIN:STANDARD
TZOFFSETFROM:-0300
TZOFFSETTO:-0300
TZNAME:-03
DTSTART:20240101T000000
END:STANDARD
END:VTIMEZONE
BEGIN:VEVENT
DTSTART;TZID=America/Sao_Paulo:20250205T000000
DTEND;TZID=America/Sao_Paulo:20250207T235900
DTSTAMP:20260423T230132
CREATED:20250106T135218Z
LAST-MODIFIED:20250206T172703Z
UID:42853-1738713600-1738972740@www.gaylussac.com.br
SUMMARY:Inscrições nos Clubes!
DESCRIPTION:Cadastro de Interesse e Inscrição nos Clubes de Robótica\, Ciências\, Literário\, Música\, Team Steam e Jogos.
URL:https://www.gaylussac.com.br/event/inscricoes-nos-clubes/
LOCATION:Gaylussac\, Rua Maria Caldas\, 35 – São Francisco 24365-050 Niterói RJ – Brasil
END:VEVENT
BEGIN:VEVENT
DTSTART;TZID=America/Sao_Paulo:20250206T183000
DTEND;TZID=America/Sao_Paulo:20250206T200000
DTSTAMP:20260423T230132
CREATED:20250106T154658Z
LAST-MODIFIED:20250106T154658Z
UID:42862-1738866600-1738872000@www.gaylussac.com.br
SUMMARY:Reunião de Pais Programa Bilíngue Middle - Cambridge
DESCRIPTION:Reunião de Pais – 6º ano do Ensino Fundamental – Biblioteca – 18h30min
URL:https://www.gaylussac.com.br/event/reuniao-de-pais-programa-bilingue-middle-cambridge/
LOCATION:Gaylussac\, Rua Maria Caldas\, 35 – São Francisco 24365-050 Niterói RJ – Brasil
END:VEVENT
BEGIN:VEVENT
DTSTART;TZID=America/Sao_Paulo:20250206T190000
DTEND;TZID=America/Sao_Paulo:20250206T203000
DTSTAMP:20260423T230132
CREATED:20250106T124807Z
LAST-MODIFIED:20250106T124807Z
UID:42833-1738868400-1738873800@www.gaylussac.com.br
SUMMARY:Reunião de Pais - 1º ano do Ensino Fundamental
DESCRIPTION:
URL:https://www.gaylussac.com.br/event/reuniao-de-pais-1o-ano-do-ensino-fundamental/
LOCATION:Gaylussac\, R. Cel. João Brandão\, 87 - São Francisco\, Niterói - RJ\, 24365-060
END:VEVENT
END:VCALENDAR