BEGIN:VCALENDAR
VERSION:2.0
PRODID:-//Instituto GayLussac - ECPv6.15.17.1//NONSGML v1.0//EN
CALSCALE:GREGORIAN
METHOD:PUBLISH
X-WR-CALNAME:Instituto GayLussac
X-ORIGINAL-URL:https://www.gaylussac.com.br
X-WR-CALDESC:Eventos para Instituto GayLussac
REFRESH-INTERVAL;VALUE=DURATION:PT1H
X-Robots-Tag:noindex
X-PUBLISHED-TTL:PT1H
BEGIN:VTIMEZONE
TZID:America/Sao_Paulo
BEGIN:STANDARD
TZOFFSETFROM:-0300
TZOFFSETTO:-0300
TZNAME:-03
DTSTART:20240101T000000
END:STANDARD
END:VTIMEZONE
BEGIN:VEVENT
DTSTART;VALUE=DATE:20250203
DTEND;VALUE=DATE:20250204
DTSTAMP:20260423T230803
CREATED:20250106T123034Z
LAST-MODIFIED:20250106T123034Z
UID:42831-1738540800-1738627199@www.gaylussac.com.br
SUMMARY:Início das aulas
DESCRIPTION:Volta às aulas! Retorno da Educação Infantil\, Ensino Fundamental e Médio e Projeto Bilíngue nas unidades Maria Caldas e GayLussac Jardim. \nAguardamos os nossos alunos para o início de mais um ano letivo!
URL:https://www.gaylussac.com.br/event/inicio-das-aulas/
LOCATION:Gaylussac\, Rua Maria Caldas\, 35 – São Francisco 24365-050 Niterói RJ – Brasil
END:VEVENT
BEGIN:VEVENT
DTSTART;TZID=America/Sao_Paulo:20250203T183000
DTEND;TZID=America/Sao_Paulo:20250203T200000
DTSTAMP:20260423T230803
CREATED:20250106T134654Z
LAST-MODIFIED:20250124T124159Z
UID:42851-1738607400-1738612800@www.gaylussac.com.br
SUMMARY:Reunião de Pais (Novos e Antigos) 6° e 8° anos
DESCRIPTION:Reunião de Pais (Novos e Antigos) – Proposta Pedagógica e Projetos para 2025 \n6º ano (Biblioteca) e 8º ano (Teatro) do Ensino Fundamental – 18h30min
URL:https://www.gaylussac.com.br/event/reuniao-de-pais-novos-e-antigos-6-e-8-ano/
LOCATION:Teatro GayLussac\, Rua Maria Caldas\, 35 – São Francisco 24365-050 Niterói RJ – Brasil
END:VEVENT
END:VCALENDAR