BEGIN:VCALENDAR
VERSION:2.0
PRODID:-//Instituto GayLussac - ECPv6.15.17.1//NONSGML v1.0//EN
CALSCALE:GREGORIAN
METHOD:PUBLISH
X-WR-CALNAME:Instituto GayLussac
X-ORIGINAL-URL:https://www.gaylussac.com.br
X-WR-CALDESC:Eventos para Instituto GayLussac
REFRESH-INTERVAL;VALUE=DURATION:PT1H
X-Robots-Tag:noindex
X-PUBLISHED-TTL:PT1H
BEGIN:VTIMEZONE
TZID:America/Sao_Paulo
BEGIN:STANDARD
TZOFFSETFROM:-0300
TZOFFSETTO:-0300
TZNAME:-03
DTSTART:20230101T000000
END:STANDARD
END:VTIMEZONE
BEGIN:VEVENT
DTSTART;VALUE=DATE:20240920
DTEND;VALUE=DATE:20241103
DTSTAMP:20260423T164322
CREATED:20241003T222244Z
LAST-MODIFIED:20241003T222244Z
UID:41452-1726790400-1730591999@www.gaylussac.com.br
SUMMARY:Aulas e Avaliações do PRP 02
DESCRIPTION:
URL:https://www.gaylussac.com.br/event/aulas-e-avaliacoes-do-prp-02-2/
LOCATION:Gaylussac\, R. Cel. João Brandão\, 87 - São Francisco\, Niterói - RJ\, 24365-060
END:VEVENT
BEGIN:VEVENT
DTSTART;TZID=America/Sao_Paulo:20240920T130000
DTEND;TZID=America/Sao_Paulo:20240927T170000
DTSTAMP:20260423T164322
CREATED:20241003T211602Z
LAST-MODIFIED:20241003T211602Z
UID:40191-1726837200-1727456400@www.gaylussac.com.br
SUMMARY:Olimpíada GayLussac
DESCRIPTION:2º ao 5º ano do Ensino Fundamental
URL:https://www.gaylussac.com.br/event/olimpiada-gaylussac-2/
LOCATION:Gaylussac\, R. Cel. João Brandão\, 87 - São Francisco\, Niterói - RJ\, 24365-060
END:VEVENT
BEGIN:VEVENT
DTSTART;TZID=America/Sao_Paulo:20240923T073000
DTEND;TZID=America/Sao_Paulo:20240927T120000
DTSTAMP:20260423T164322
CREATED:20241003T211634Z
LAST-MODIFIED:20241003T211634Z
UID:40205-1727076600-1727438400@www.gaylussac.com.br
SUMMARY:Projeto Leitura Dramatizada
DESCRIPTION:8º ano do Ensino Fundamental no Teatro
URL:https://www.gaylussac.com.br/event/projeto-leitura-dramatizada-2/
LOCATION:Gaylussac\, R. Cel. João Brandão\, 87 - São Francisco\, Niterói - RJ\, 24365-060
END:VEVENT
BEGIN:VEVENT
DTSTART;TZID=America/Sao_Paulo:20240926T180000
DTEND;TZID=America/Sao_Paulo:20240926T200000
DTSTAMP:20260423T164322
CREATED:20241003T211318Z
LAST-MODIFIED:20241003T211318Z
UID:41351-1727373600-1727380800@www.gaylussac.com.br
SUMMARY:Batizado Capoeira
DESCRIPTION:CCE – Clube de Cultura e Esportes – Teatro
URL:https://www.gaylussac.com.br/event/batizado-capoeira/
LOCATION:Teatro GayLussac\, Rua Maria Caldas\, 35 – São Francisco 24365-050 Niterói RJ – Brasil
END:VEVENT
BEGIN:VEVENT
DTSTART;TZID=America/Sao_Paulo:20240926T183000
DTEND;TZID=America/Sao_Paulo:20240926T200000
DTSTAMP:20260423T164322
CREATED:20241003T211747Z
LAST-MODIFIED:20241003T211747Z
UID:41399-1727375400-1727380800@www.gaylussac.com.br
SUMMARY:Reunião de Pais - 4º ano do Ensino Fundamental - On-line
DESCRIPTION:Programa Bilíngue Lower (IEYC/IPC)
URL:https://www.gaylussac.com.br/event/reuniao-de-pais-4o-ano-do-ensino-fundamental-on-line/
LOCATION:Gaylussac\, R. Cel. João Brandão\, 87 - São Francisco\, Niterói - RJ\, 24365-060
END:VEVENT
END:VCALENDAR