BEGIN:VCALENDAR
VERSION:2.0
PRODID:-//Instituto GayLussac - ECPv6.15.17.1//NONSGML v1.0//EN
CALSCALE:GREGORIAN
METHOD:PUBLISH
X-WR-CALNAME:Instituto GayLussac
X-ORIGINAL-URL:https://www.gaylussac.com.br
X-WR-CALDESC:Eventos para Instituto GayLussac
REFRESH-INTERVAL;VALUE=DURATION:PT1H
X-Robots-Tag:noindex
X-PUBLISHED-TTL:PT1H
BEGIN:VTIMEZONE
TZID:America/Sao_Paulo
BEGIN:STANDARD
TZOFFSETFROM:-0300
TZOFFSETTO:-0300
TZNAME:-03
DTSTART:20230101T000000
END:STANDARD
END:VTIMEZONE
BEGIN:VEVENT
DTSTART;VALUE=DATE:20240916
DTEND;VALUE=DATE:20240921
DTSTAMP:20260423T165404
CREATED:20241003T222213Z
LAST-MODIFIED:20241003T222213Z
UID:41447-1726444800-1726876740@www.gaylussac.com.br
SUMMARY:3ª série do Ensino Médio- Recuperação - PRP 02
DESCRIPTION:Ensino Médio
URL:https://www.gaylussac.com.br/event/3a-serie-do-ensino-medio-recuperacao-prp-02/
LOCATION:Gaylussac\, Rua Maria Caldas\, 35 – São Francisco 24365-050 Niterói RJ – Brasil
END:VEVENT
BEGIN:VEVENT
DTSTART;VALUE=DATE:20240916
DTEND;VALUE=DATE:20240922
DTSTAMP:20260423T165404
CREATED:20241003T222901Z
LAST-MODIFIED:20241003T222901Z
UID:41510-1726444800-1726963140@www.gaylussac.com.br
SUMMARY:Semana STEAM - Science\, Technology\, Engineering\, Arts and Mathematics - SÁBADO - Culminância
DESCRIPTION:
URL:https://www.gaylussac.com.br/event/semana-steam-science-technology-engineering-arts-and-mathematics-sabado-culminancia/
LOCATION:Gaylussac\, R. Cel. João Brandão\, 87 - São Francisco\, Niterói - RJ\, 24365-060
END:VEVENT
BEGIN:VEVENT
DTSTART;TZID=America/Sao_Paulo:20240917T000000
DTEND;TZID=America/Sao_Paulo:20240919T235900
DTSTAMP:20260423T165404
CREATED:20241003T222433Z
LAST-MODIFIED:20241003T222433Z
UID:41478-1726531200-1726790340@www.gaylussac.com.br
SUMMARY:Inscrições para o PRP 02
DESCRIPTION:2º ano do Ensino Fundamental à 2ª série do Ensino Médio
URL:https://www.gaylussac.com.br/event/inscricoes-para-o-prp-02-2/
LOCATION:Gaylussac\, R. Cel. João Brandão\, 87 - São Francisco\, Niterói - RJ\, 24365-060
END:VEVENT
BEGIN:VEVENT
DTSTART;TZID=America/Sao_Paulo:20240919T183000
DTEND;TZID=America/Sao_Paulo:20240919T200000
DTSTAMP:20260423T165404
CREATED:20241003T211918Z
LAST-MODIFIED:20241003T211918Z
UID:41424-1726770600-1726776000@www.gaylussac.com.br
SUMMARY:Reunião de Pais - Grupos 3 e 4 - On-line
DESCRIPTION:Programa Bilíngue Lower (IEYC/IPC)
URL:https://www.gaylussac.com.br/event/reuniao-de-pais-grupos-3-e-4-on-line/
LOCATION:Gaylussac\, R. Cel. João Brandão\, 87 - São Francisco\, Niterói - RJ\, 24365-060
END:VEVENT
END:VCALENDAR