BEGIN:VCALENDAR
VERSION:2.0
PRODID:-//Instituto GayLussac - ECPv6.15.17.1//NONSGML v1.0//EN
CALSCALE:GREGORIAN
METHOD:PUBLISH
X-WR-CALNAME:Instituto GayLussac
X-ORIGINAL-URL:https://www.gaylussac.com.br
X-WR-CALDESC:Eventos para Instituto GayLussac
REFRESH-INTERVAL;VALUE=DURATION:PT1H
X-Robots-Tag:noindex
X-PUBLISHED-TTL:PT1H
BEGIN:VTIMEZONE
TZID:America/Sao_Paulo
BEGIN:STANDARD
TZOFFSETFROM:-0300
TZOFFSETTO:-0300
TZNAME:-03
DTSTART:20230101T000000
END:STANDARD
END:VTIMEZONE
BEGIN:VEVENT
DTSTART;TZID=America/Sao_Paulo:20240902T070000
DTEND;TZID=America/Sao_Paulo:20240910T170000
DTSTAMP:20260423T184622
CREATED:20241003T211303Z
LAST-MODIFIED:20241003T211303Z
UID:41347-1725260400-1725987600@www.gaylussac.com.br
SUMMARY:Avaliações de 2ª chamada - Incluindo SÁBADO
DESCRIPTION:6º ano à 3ª série do Ensino Médio -Ensino Médio à tarde
URL:https://www.gaylussac.com.br/event/avaliacoes-de-2a-chamada-incluindo-sabado/
LOCATION:Gaylussac\, R. Cel. João Brandão\, 87 - São Francisco\, Niterói - RJ\, 24365-060
END:VEVENT
BEGIN:VEVENT
DTSTART;TZID=America/Sao_Paulo:20240905T130000
DTEND;TZID=America/Sao_Paulo:20240912T170000
DTSTAMP:20260423T184622
CREATED:20241003T211303Z
LAST-MODIFIED:20241003T211303Z
UID:40132-1725541200-1726160400@www.gaylussac.com.br
SUMMARY:Avaliações de 2ª chamada
DESCRIPTION:2º ao 5º ano do Ensino Fundamental
URL:https://www.gaylussac.com.br/event/avaliacoes-de-2a-chamada-2/
LOCATION:Gaylussac\, R. Cel. João Brandão\, 87 - São Francisco\, Niterói - RJ\, 24365-060
END:VEVENT
BEGIN:VEVENT
DTSTART;TZID=America/Sao_Paulo:20240909T183000
DTEND;TZID=America/Sao_Paulo:20240909T200000
DTSTAMP:20260423T184622
CREATED:20241003T211817Z
LAST-MODIFIED:20241003T211817Z
UID:41406-1725906600-1725912000@www.gaylussac.com.br
SUMMARY:Reunião de Pais - 7º ano do Ensino Fundamental e 1ª série do Ensino Médio
DESCRIPTION:7º ano do Ensino Fundamental e 1ª série do Ensino Médio
URL:https://www.gaylussac.com.br/event/reuniao-de-pais-7o-ano-do-ensino-fundamental-e-1a-serie-do-ensino-medio/
LOCATION:Gaylussac\, R. Cel. João Brandão\, 87 - São Francisco\, Niterói - RJ\, 24365-060
END:VEVENT
BEGIN:VEVENT
DTSTART;TZID=America/Sao_Paulo:20240909T190000
DTEND;TZID=America/Sao_Paulo:20240909T200000
DTSTAMP:20260423T184622
CREATED:20241003T235406Z
LAST-MODIFIED:20241003T235406Z
UID:40720-1725908400-1725912000@www.gaylussac.com.br
SUMMARY:Reunião de Pais – 1º ano do Ensino Fundamental
DESCRIPTION:Educação Infantil e 1º ano do Ensino Fundamental
URL:https://www.gaylussac.com.br/event/227-reuniao-de-pais-1o-ano-do-ensino-fundamental-2/
LOCATION:Gaylussac\, R. Cel. João Brandão\, 87 - São Francisco\, Niterói - RJ\, 24365-060
END:VEVENT
END:VCALENDAR