BEGIN:VCALENDAR
VERSION:2.0
PRODID:-//Instituto GayLussac - ECPv6.15.17.1//NONSGML v1.0//EN
CALSCALE:GREGORIAN
METHOD:PUBLISH
X-ORIGINAL-URL:https://www.gaylussac.com.br
X-WR-CALDESC:Eventos para Instituto GayLussac
REFRESH-INTERVAL;VALUE=DURATION:PT1H
X-Robots-Tag:noindex
X-PUBLISHED-TTL:PT1H
BEGIN:VTIMEZONE
TZID:America/Sao_Paulo
BEGIN:STANDARD
TZOFFSETFROM:-0300
TZOFFSETTO:-0300
TZNAME:-03
DTSTART:20230101T000000
END:STANDARD
END:VTIMEZONE
BEGIN:VEVENT
DTSTART;TZID=America/Sao_Paulo:20240821T073000
DTEND;TZID=America/Sao_Paulo:20240904T130000
DTSTAMP:20260423T110937
CREATED:20241004T140857Z
LAST-MODIFIED:20241004T140857Z
UID:42202-1724225400-1725454800@www.gaylussac.com.br
SUMMARY:Fechamento do Ciclo de Avaliações da 2ª etapa - AFE 02 - (incluindo SÁBADO 24)
DESCRIPTION:2º ao 5º ano do Ensino Fundamental
URL:https://www.gaylussac.com.br/event/fechamento-do-ciclo-de-avaliacoes-da-2a-etapa-afe-02-incluindo-sabado-24/
LOCATION:Gaylussac\, Rua Maria Caldas\, 35 – São Francisco 24365-050 Niterói RJ – Brasil
END:VEVENT
BEGIN:VEVENT
DTSTART;TZID=America/Sao_Paulo:20240821T133000
DTEND;TZID=America/Sao_Paulo:20240904T180000
DTSTAMP:20260423T110937
CREATED:20241003T211434Z
LAST-MODIFIED:20241003T211434Z
UID:40165-1724247000-1725472800@www.gaylussac.com.br
SUMMARY:Fechamento do Ciclo de Avaliações da 2ª etapa - AFE 02 - (incluindo SÁBADO 24)
DESCRIPTION:2º ao 5º ano do Ensino Fundamental
URL:https://www.gaylussac.com.br/event/fechamento-do-ciclo-de-avaliacoes-da-2a-etapa-afe-02-incluindo-sabado-24-2/
LOCATION:Gaylussac\, Rua Maria Caldas\, 35 – São Francisco 24365-050 Niterói RJ – Brasil
END:VEVENT
BEGIN:VEVENT
DTSTART;TZID=America/Sao_Paulo:20240827T073000
DTEND;TZID=America/Sao_Paulo:20240830T130000
DTSTAMP:20260423T110937
CREATED:20241003T235316Z
LAST-MODIFIED:20241003T235316Z
UID:41498-1724743800-1725022800@www.gaylussac.com.br
SUMMARY:2ª Chamada – AFE 02
DESCRIPTION:3ª série do Ensino Médio
URL:https://www.gaylussac.com.br/event/106-2a-chamada-afe-02-2/
LOCATION:Gaylussac\, Rua Maria Caldas\, 35 – São Francisco 24365-050 Niterói RJ – Brasil
END:VEVENT
BEGIN:VEVENT
DTSTART;TZID=America/Sao_Paulo:20240830T073000
DTEND;TZID=America/Sao_Paulo:20240830T130000
DTSTAMP:20260423T110937
CREATED:20241003T222357Z
LAST-MODIFIED:20241003T222357Z
UID:41464-1725003000-1725022800@www.gaylussac.com.br
SUMMARY:Envio de boletim de RGL - 1ª\, 2ª e 3ª séries do Ensino Médio
DESCRIPTION:1ª\, 2ª e 3ª séries do Ensino Médio
URL:https://www.gaylussac.com.br/event/157-envio-de-boletim-de-rgl-1a-2a-e-3a-series-do-ensino-medio/
LOCATION:Gaylussac\, Rua Maria Caldas\, 35 – São Francisco 24365-050 Niterói RJ – Brasil
END:VEVENT
BEGIN:VEVENT
DTSTART;TZID=America/Sao_Paulo:20240830T183000
DTEND;TZID=America/Sao_Paulo:20240830T210000
DTSTAMP:20260423T110937
CREATED:20241003T235450Z
LAST-MODIFIED:20241003T235450Z
UID:40732-1725042600-1725051600@www.gaylussac.com.br
SUMMARY:Reunião de Pais (Pré–IGCSE) – 1ª e 2ª séries do Ensino Médio
DESCRIPTION:Bilíngue Upper
URL:https://www.gaylussac.com.br/event/281-reuniao-de-pais-pre-igcse-1a-e-2a-series-do-ensino-medio-2/
LOCATION:Gaylussac\, Rua Maria Caldas\, 35 – São Francisco 24365-050 Niterói RJ – Brasil
END:VEVENT
END:VCALENDAR