BEGIN:VCALENDAR
VERSION:2.0
PRODID:-//Instituto GayLussac - ECPv6.15.17.1//NONSGML v1.0//EN
CALSCALE:GREGORIAN
METHOD:PUBLISH
X-ORIGINAL-URL:https://www.gaylussac.com.br
X-WR-CALDESC:Eventos para Instituto GayLussac
REFRESH-INTERVAL;VALUE=DURATION:PT1H
X-Robots-Tag:noindex
X-PUBLISHED-TTL:PT1H
BEGIN:VTIMEZONE
TZID:America/Sao_Paulo
BEGIN:STANDARD
TZOFFSETFROM:-0300
TZOFFSETTO:-0300
TZNAME:-03
DTSTART:20230101T000000
END:STANDARD
END:VTIMEZONE
BEGIN:VEVENT
DTSTART;TZID=America/Sao_Paulo:20240807T183000
DTEND;TZID=America/Sao_Paulo:20240807T200000
DTSTAMP:20260423T110948
CREATED:20241003T211603Z
LAST-MODIFIED:20241003T211603Z
UID:40194-1723055400-1723060800@www.gaylussac.com.br
SUMMARY:Palestra para Pais do 5º ano do Ensino Fundamental
DESCRIPTION:Apresentação do Programa Middle
URL:https://www.gaylussac.com.br/event/201-palestra-para-pais-do-5o-ano-do-ensino-fundamental-2/
LOCATION:Teatro GayLussac\, Rua Maria Caldas\, 35 – São Francisco 24365-050 Niterói RJ – Brasil
END:VEVENT
END:VCALENDAR