BEGIN:VCALENDAR
VERSION:2.0
PRODID:-//Instituto GayLussac - ECPv6.15.17.1//NONSGML v1.0//EN
CALSCALE:GREGORIAN
METHOD:PUBLISH
X-WR-CALNAME:Instituto GayLussac
X-ORIGINAL-URL:https://www.gaylussac.com.br
X-WR-CALDESC:Eventos para Instituto GayLussac
REFRESH-INTERVAL;VALUE=DURATION:PT1H
X-Robots-Tag:noindex
X-PUBLISHED-TTL:PT1H
BEGIN:VTIMEZONE
TZID:America/Sao_Paulo
BEGIN:STANDARD
TZOFFSETFROM:-0300
TZOFFSETTO:-0300
TZNAME:-03
DTSTART:20230101T000000
END:STANDARD
END:VTIMEZONE
BEGIN:VEVENT
DTSTART;TZID=America/Sao_Paulo:20240527T183000
DTEND;TZID=America/Sao_Paulo:20240527T200000
DTSTAMP:20260421T103721
CREATED:20241003T211834Z
LAST-MODIFIED:20241003T211834Z
UID:41413-1716834600-1716840000@www.gaylussac.com.br
SUMMARY:Reunião de Pais - 9º ano do Ensino Fundamental e 2ª série do Ensino Médio
DESCRIPTION:6º ano à 3ª série do Ensino Médio
URL:https://www.gaylussac.com.br/event/260-reuniao-de-pais-9o-ano-do-ensino-fundamental-e-2a-serie-do-ensino-medio/
LOCATION:Gaylussac\, Rua Maria Caldas\, 35 – São Francisco 24365-050 Niterói RJ – Brasil
END:VEVENT
BEGIN:VEVENT
DTSTART;TZID=America/Sao_Paulo:20240527T183000
DTEND;TZID=America/Sao_Paulo:20240527T200000
DTSTAMP:20260421T103721
CREATED:20241003T211948Z
LAST-MODIFIED:20241003T211948Z
UID:41432-1716834600-1716840000@www.gaylussac.com.br
SUMMARY:Reunião de Pais do Projeto Bilíngue- 3º ano
DESCRIPTION:Período de Reunião de Pais do Projeto Bilíngue – Salas de Aula: Student-Led-Conference
URL:https://www.gaylussac.com.br/event/289-reuniao-de-pais-do-projeto-bilingue-3o-ano/
LOCATION:Gaylussac\, Rua Maria Caldas\, 35 – São Francisco 24365-050 Niterói RJ – Brasil
END:VEVENT
END:VCALENDAR