BEGIN:VCALENDAR
VERSION:2.0
PRODID:-//Instituto GayLussac - ECPv6.15.17.1//NONSGML v1.0//EN
CALSCALE:GREGORIAN
METHOD:PUBLISH
X-WR-CALNAME:Instituto GayLussac
X-ORIGINAL-URL:https://www.gaylussac.com.br
X-WR-CALDESC:Eventos para Instituto GayLussac
REFRESH-INTERVAL;VALUE=DURATION:PT1H
X-Robots-Tag:noindex
X-PUBLISHED-TTL:PT1H
BEGIN:VTIMEZONE
TZID:America/Sao_Paulo
BEGIN:STANDARD
TZOFFSETFROM:-0300
TZOFFSETTO:-0300
TZNAME:-03
DTSTART:20230101T000000
END:STANDARD
END:VTIMEZONE
BEGIN:VEVENT
DTSTART;TZID=America/Sao_Paulo:20240520T080000
DTEND;TZID=America/Sao_Paulo:20240525T130000
DTSTAMP:20260421T103350
CREATED:20241004T135801Z
LAST-MODIFIED:20241004T135801Z
UID:42197-1716192000-1716642000@www.gaylussac.com.br
SUMMARY:Avaliações de 2ª Chamada da 1ª etapa
DESCRIPTION:6º ano à 3ª série do Ensino Médio
URL:https://www.gaylussac.com.br/event/avaliacoes-de-2a-chamada-da-1a-etapa-2/
LOCATION:Gaylussac\, Rua Maria Caldas\, 35 – São Francisco 24365-050 Niterói RJ – Brasil
END:VEVENT
BEGIN:VEVENT
DTSTART;TZID=America/Sao_Paulo:20240520T183000
DTEND;TZID=America/Sao_Paulo:20240525T160000
DTSTAMP:20260421T103350
CREATED:20241003T211303Z
LAST-MODIFIED:20241003T211303Z
UID:41348-1716229800-1716652800@www.gaylussac.com.br
SUMMARY:Avaliações de 2ª Chamada da 1ª etapa
DESCRIPTION:6º ano à 3ª série do Ensino Médio
URL:https://www.gaylussac.com.br/event/avaliacoes-de-2a-chamada-da-1a-etapa/
LOCATION:Gaylussac\, Rua Maria Caldas\, 35 – São Francisco 24365-050 Niterói RJ – Brasil
END:VEVENT
BEGIN:VEVENT
DTSTART;TZID=America/Sao_Paulo:20240521T183000
DTEND;TZID=America/Sao_Paulo:20240521T200000
DTSTAMP:20260421T103350
CREATED:20241003T211217Z
LAST-MODIFIED:20241003T211217Z
UID:41338-1716316200-1716321600@www.gaylussac.com.br
SUMMARY:2ª Entrega de Emblema da Capoeira
DESCRIPTION:CCE – Clube de Cultura e Esportes
URL:https://www.gaylussac.com.br/event/108-2a-entrega-de-emblema-da-capoeira/
LOCATION:Gaylussac\, Rua Maria Caldas\, 35 – São Francisco 24365-050 Niterói RJ – Brasil
END:VEVENT
BEGIN:VEVENT
DTSTART;TZID=America/Sao_Paulo:20240521T183000
DTEND;TZID=America/Sao_Paulo:20240521T200000
DTSTAMP:20260421T103350
CREATED:20241003T211934Z
LAST-MODIFIED:20241003T211934Z
UID:41430-1716316200-1716321600@www.gaylussac.com.br
SUMMARY:Reunião de Pais do Projeto Bilíngue - Grupo 4 
DESCRIPTION:Período de Reunião de Pais do Projeto Bilíngue – Salas de Aula: Student-Led-Conference
URL:https://www.gaylussac.com.br/event/286-reuniao-de-pais-do-projeto-bilingue-grupo-4/
LOCATION:Gaylussac\, Rua Maria Caldas\, 35 – São Francisco 24365-050 Niterói RJ – Brasil
END:VEVENT
END:VCALENDAR