BEGIN:VCALENDAR
VERSION:2.0
PRODID:-//Instituto GayLussac - ECPv6.15.17.1//NONSGML v1.0//EN
CALSCALE:GREGORIAN
METHOD:PUBLISH
X-WR-CALNAME:Instituto GayLussac
X-ORIGINAL-URL:https://www.gaylussac.com.br
X-WR-CALDESC:Eventos para Instituto GayLussac
REFRESH-INTERVAL;VALUE=DURATION:PT1H
X-Robots-Tag:noindex
X-PUBLISHED-TTL:PT1H
BEGIN:VTIMEZONE
TZID:America/Sao_Paulo
BEGIN:STANDARD
TZOFFSETFROM:-0300
TZOFFSETTO:-0300
TZNAME:-03
DTSTART:20230101T000000
END:STANDARD
END:VTIMEZONE
BEGIN:VEVENT
DTSTART;TZID=America/Sao_Paulo:20240503T070000
DTEND;TZID=America/Sao_Paulo:20240504T130000
DTSTAMP:20260421T092404
CREATED:20241003T211218Z
LAST-MODIFIED:20241003T211218Z
UID:41340-1714719600-1714827600@www.gaylussac.com.br
SUMMARY:3ª série do Ensino Médio - 2ª chamada da AFE 01 (previsão)
DESCRIPTION:
URL:https://www.gaylussac.com.br/event/110-3a-serie-do-ensino-medio-2a-chamada-da-afe-01-previsao/
LOCATION:Gaylussac\, Rua Maria Caldas\, 35 – São Francisco 24365-050 Niterói RJ – Brasil
END:VEVENT
BEGIN:VEVENT
DTSTART;TZID=America/Sao_Paulo:20240503T070000
DTEND;TZID=America/Sao_Paulo:20240517T130000
DTSTAMP:20260421T092404
CREATED:20241003T211434Z
LAST-MODIFIED:20241003T211434Z
UID:40164-1714719600-1715950800@www.gaylussac.com.br
SUMMARY:Fechamento do Ciclo de Avaliações da 1ª etapa - AFE 01
DESCRIPTION:
URL:https://www.gaylussac.com.br/event/165-fechamento-do-ciclo-de-avaliacoes-da-1a-etapa-afe-01-2/
LOCATION:Gaylussac\, Rua Maria Caldas\, 35 – São Francisco 24365-050 Niterói RJ – Brasil
END:VEVENT
BEGIN:VEVENT
DTSTART;TZID=America/Sao_Paulo:20240503T080000
DTEND;TZID=America/Sao_Paulo:20240517T140000
DTSTAMP:20260421T092404
CREATED:20241003T211434Z
LAST-MODIFIED:20241003T211434Z
UID:40163-1714723200-1715954400@www.gaylussac.com.br
SUMMARY:Fechamento do ciclo de avaliações - 1º etapa AFE
DESCRIPTION:
URL:https://www.gaylussac.com.br/event/164-fechamento-do-ciclo-de-avaliacoes-1o-etapa-afe-2/
LOCATION:Gaylussac\, Rua Maria Caldas\, 35 – São Francisco 24365-050 Niterói RJ – Brasil
END:VEVENT
END:VCALENDAR