BEGIN:VCALENDAR
VERSION:2.0
PRODID:-//Instituto GayLussac - ECPv6.15.17.1//NONSGML v1.0//EN
CALSCALE:GREGORIAN
METHOD:PUBLISH
X-WR-CALNAME:Instituto GayLussac
X-ORIGINAL-URL:https://www.gaylussac.com.br
X-WR-CALDESC:Eventos para Instituto GayLussac
REFRESH-INTERVAL;VALUE=DURATION:PT1H
X-Robots-Tag:noindex
X-PUBLISHED-TTL:PT1H
BEGIN:VTIMEZONE
TZID:America/Sao_Paulo
BEGIN:STANDARD
TZOFFSETFROM:-0300
TZOFFSETTO:-0300
TZNAME:-03
DTSTART:20230101T000000
END:STANDARD
END:VTIMEZONE
BEGIN:VEVENT
DTSTART;TZID=America/Sao_Paulo:20240401T070000
DTEND;TZID=America/Sao_Paulo:20240430T160000
DTSTAMP:20260421T092323
CREATED:20241003T211318Z
LAST-MODIFIED:20241003T211318Z
UID:41350-1711954800-1714492800@www.gaylussac.com.br
SUMMARY:Avaliações diagnósticas EVOLUCIONAL - 4º ano Ensino Fundamental à 3ª série Ensino Médio
DESCRIPTION:
URL:https://www.gaylussac.com.br/event/133-avaliacoes-diagnosticas-evolucional-4o-ano-ensino-fundamental-a-3a-serie-ensino-medio/
LOCATION:Gaylussac\, Rua Maria Caldas\, 35 – São Francisco 24365-050 Niterói RJ – Brasil
END:VEVENT
BEGIN:VEVENT
DTSTART;TZID=America/Sao_Paulo:20240427T070000
DTEND;TZID=America/Sao_Paulo:20240427T130000
DTSTAMP:20260421T092323
CREATED:20241003T235317Z
LAST-MODIFIED:20241003T235317Z
UID:41499-1714201200-1714222800@www.gaylussac.com.br
SUMMARY:AFE 01 – 3ª série do Ensino Médio
DESCRIPTION:
URL:https://www.gaylussac.com.br/event/118-afe-01-3a-serie-do-ensino-medio-2/
LOCATION:Gaylussac\, Rua Maria Caldas\, 35 – São Francisco 24365-050 Niterói RJ – Brasil
END:VEVENT
END:VCALENDAR