BEGIN:VCALENDAR
VERSION:2.0
PRODID:-//Instituto GayLussac - ECPv6.15.17.1//NONSGML v1.0//EN
CALSCALE:GREGORIAN
METHOD:PUBLISH
X-WR-CALNAME:Instituto GayLussac
X-ORIGINAL-URL:https://www.gaylussac.com.br
X-WR-CALDESC:Eventos para Instituto GayLussac
REFRESH-INTERVAL;VALUE=DURATION:PT1H
X-Robots-Tag:noindex
X-PUBLISHED-TTL:PT1H
BEGIN:VTIMEZONE
TZID:America/Sao_Paulo
BEGIN:STANDARD
TZOFFSETFROM:-0300
TZOFFSETTO:-0300
TZNAME:-03
DTSTART:20230101T000000
END:STANDARD
END:VTIMEZONE
BEGIN:VEVENT
DTSTART;TZID=America/Sao_Paulo:20240228T183000
DTEND;TZID=America/Sao_Paulo:20240228T210000
DTSTAMP:20260421T103639
CREATED:20241003T211214Z
LAST-MODIFIED:20241003T211214Z
UID:40112-1709145000-1709154000@www.gaylussac.com.br
SUMMARY:Reunião de Pais - 2ª série do Ensino médio
DESCRIPTION:Programa Bilíngue Upper    Reunião de Pais – 2ª série do Ensino médio – 18h30min
URL:https://www.gaylussac.com.br/event/103-reuniao-de-pais-2a-serie-do-ensino-medio-2/
LOCATION:Gaylussac\, Rua Maria Caldas\, 35 – São Francisco 24365-050 Niterói RJ – Brasil
END:VEVENT
END:VCALENDAR